BEGIN:VCALENDAR
VERSION:2.0
PRODID:https://www.kufer.de/kuferweb / DE
METHOD:PUBLISH
CALSCALE:GREGORIAN
X-WR-TIMEZONE:Europe/Berlin
BEGIN:VTIMEZONE
TZID:Europe/Berlin
X-LIC-LOCATION:Europe/Berlin
BEGIN:DAYLIGHT
TZOFFSETFROM:+0100
TZOFFSETTO:+0200
TZNAME:CEST
DTSTART:19700329T020000
RRULE:FREQ=YEARLY;INTERVAL=1;BYDAY=-1SU;BYMONTH=3
END:DAYLIGHT
BEGIN:STANDARD
TZOFFSETFROM:+0200
TZOFFSETTO:+0100
TZNAME:CET
DTSTART:19701025T030000
RRULE:FREQ=YEARLY;INTERVAL=1;BYDAY=-1SU;BYMONTH=10
END:STANDARD
END:VTIMEZONE
BEGIN:VEVENT
DTSTAMP:20260421T202158
DTSTART;TZID=Europe/Berlin:20250904T191500
DTEND;TZID=Europe/Berlin:20250904T201500
UID:T41025-20250904T191500@EFBOLDENBURG
SUMMARY:Gitarrenkurse für Erwachsene (T41025) 
LOCATION:Gemeindehaus Jona, Heimeck 23 a, Heimeck 23 a, 26135 Oldenburg
END:VEVENT
BEGIN:VEVENT
DTSTAMP:20260421T202158
DTSTART;TZID=Europe/Berlin:20250911T191500
DTEND;TZID=Europe/Berlin:20250911T201500
UID:T41025-20250911T191500@EFBOLDENBURG
SUMMARY:Gitarrenkurse für Erwachsene (T41025) 
LOCATION:Gemeindehaus Jona, Heimeck 23 a, Heimeck 23 a, 26135 Oldenburg
END:VEVENT
BEGIN:VEVENT
DTSTAMP:20260421T202158
DTSTART;TZID=Europe/Berlin:20250918T191500
DTEND;TZID=Europe/Berlin:20250918T201500
UID:T41025-20250918T191500@EFBOLDENBURG
SUMMARY:Gitarrenkurse für Erwachsene (T41025) 
LOCATION:Gemeindehaus Jona, Heimeck 23 a, Heimeck 23 a, 26135 Oldenburg
END:VEVENT
BEGIN:VEVENT
DTSTAMP:20260421T202158
DTSTART;TZID=Europe/Berlin:20250925T191500
DTEND;TZID=Europe/Berlin:20250925T201500
UID:T41025-20250925T191500@EFBOLDENBURG
SUMMARY:Gitarrenkurse für Erwachsene (T41025) 
LOCATION:Gemeindehaus Jona, Heimeck 23 a, Heimeck 23 a, 26135 Oldenburg
END:VEVENT
BEGIN:VEVENT
DTSTAMP:20260421T202158
DTSTART;TZID=Europe/Berlin:20251002T191500
DTEND;TZID=Europe/Berlin:20251002T201500
UID:T41025-20251002T191500@EFBOLDENBURG
SUMMARY:Gitarrenkurse für Erwachsene (T41025) 
LOCATION:Gemeindehaus Jona, Heimeck 23 a, Heimeck 23 a, 26135 Oldenburg
END:VEVENT
BEGIN:VEVENT
DTSTAMP:20260421T202158
DTSTART;TZID=Europe/Berlin:20251009T191500
DTEND;TZID=Europe/Berlin:20251009T201500
UID:T41025-20251009T191500@EFBOLDENBURG
SUMMARY:Gitarrenkurse für Erwachsene (T41025) 
LOCATION:Gemeindehaus Jona, Heimeck 23 a, Heimeck 23 a, 26135 Oldenburg
END:VEVENT
BEGIN:VEVENT
DTSTAMP:20260421T202158
DTSTART;TZID=Europe/Berlin:20251030T191500
DTEND;TZID=Europe/Berlin:20251030T201500
UID:T41025-20251030T191500@EFBOLDENBURG
SUMMARY:Gitarrenkurse für Erwachsene (T41025) 
LOCATION:Gemeindehaus Jona, Heimeck 23 a, Heimeck 23 a, 26135 Oldenburg
END:VEVENT
BEGIN:VEVENT
DTSTAMP:20260421T202158
DTSTART;TZID=Europe/Berlin:20251106T191500
DTEND;TZID=Europe/Berlin:20251106T201500
UID:T41025-20251106T191500@EFBOLDENBURG
SUMMARY:Gitarrenkurse für Erwachsene (T41025) 
LOCATION:Gemeindehaus Jona, Heimeck 23 a, Heimeck 23 a, 26135 Oldenburg
END:VEVENT
BEGIN:VEVENT
DTSTAMP:20260421T202158
DTSTART;TZID=Europe/Berlin:20251113T191500
DTEND;TZID=Europe/Berlin:20251113T201500
UID:T41025-20251113T191500@EFBOLDENBURG
SUMMARY:Gitarrenkurse für Erwachsene (T41025) 
LOCATION:Gemeindehaus Jona, Heimeck 23 a, Heimeck 23 a, 26135 Oldenburg
END:VEVENT
BEGIN:VEVENT
DTSTAMP:20260421T202158
DTSTART;TZID=Europe/Berlin:20251120T191500
DTEND;TZID=Europe/Berlin:20251120T201500
UID:T41025-20251120T191500@EFBOLDENBURG
SUMMARY:Gitarrenkurse für Erwachsene (T41025) 
LOCATION:Gemeindehaus Jona, Heimeck 23 a, Heimeck 23 a, 26135 Oldenburg
END:VEVENT
BEGIN:VEVENT
DTSTAMP:20260421T202158
DTSTART;TZID=Europe/Berlin:20251127T191500
DTEND;TZID=Europe/Berlin:20251127T201500
UID:T41025-20251127T191500@EFBOLDENBURG
SUMMARY:Gitarrenkurse für Erwachsene (T41025) 
LOCATION:Gemeindehaus Jona, Heimeck 23 a, Heimeck 23 a, 26135 Oldenburg
END:VEVENT
BEGIN:VEVENT
DTSTAMP:20260421T202158
DTSTART;TZID=Europe/Berlin:20251204T191500
DTEND;TZID=Europe/Berlin:20251204T201500
UID:T41025-20251204T191500@EFBOLDENBURG
SUMMARY:Gitarrenkurse für Erwachsene (T41025) 
LOCATION:Gemeindehaus Jona, Heimeck 23 a, Heimeck 23 a, 26135 Oldenburg
END:VEVENT
BEGIN:VEVENT
DTSTAMP:20260421T202158
DTSTART;TZID=Europe/Berlin:20251211T191500
DTEND;TZID=Europe/Berlin:20251211T201500
UID:T41025-20251211T191500@EFBOLDENBURG
SUMMARY:Gitarrenkurse für Erwachsene (T41025) 
LOCATION:Gemeindehaus Jona, Heimeck 23 a, Heimeck 23 a, 26135 Oldenburg
END:VEVENT
BEGIN:VEVENT
DTSTAMP:20260421T202158
DTSTART;TZID=Europe/Berlin:20251217T191500
DTEND;TZID=Europe/Berlin:20251217T201500
UID:T41025-20251217T191500@EFBOLDENBURG
DESCRIPTION:Ersatz für Ausfall am 28.08.2025
SUMMARY:Gitarrenkurse für Erwachsene (T41025) 
LOCATION:Gemeindehaus Jona, Heimeck 23 a, Heimeck 23 a, 26135 Oldenburg
END:VEVENT
END:VCALENDAR