BEGIN:VCALENDAR
VERSION:2.0
PRODID:https://www.kufer.de/kuferweb / DE
METHOD:PUBLISH
CALSCALE:GREGORIAN
X-WR-TIMEZONE:Europe/Berlin
BEGIN:VTIMEZONE
TZID:Europe/Berlin
X-LIC-LOCATION:Europe/Berlin
BEGIN:DAYLIGHT
TZOFFSETFROM:+0100
TZOFFSETTO:+0200
TZNAME:CEST
DTSTART:19700329T020000
RRULE:FREQ=YEARLY;INTERVAL=1;BYDAY=-1SU;BYMONTH=3
END:DAYLIGHT
BEGIN:STANDARD
TZOFFSETFROM:+0200
TZOFFSETTO:+0100
TZNAME:CET
DTSTART:19701025T030000
RRULE:FREQ=YEARLY;INTERVAL=1;BYDAY=-1SU;BYMONTH=10
END:STANDARD
END:VTIMEZONE
BEGIN:VEVENT
DTSTAMP:20260421T202140
DTSTART;TZID=Europe/Berlin:20250821T173000
DTEND;TZID=Europe/Berlin:20250821T183000
UID:T41026-20250821T173000@EFBOLDENBURG
SUMMARY:Gitarrenkurse für Erwachsene (T41026) 
LOCATION:Ev. Familien-Bildungsstätte, Werkraum,  Gorch-Fock-Str. 5 a, 26135 Oldenburg
END:VEVENT
BEGIN:VEVENT
DTSTAMP:20260421T202140
DTSTART;TZID=Europe/Berlin:20250828T173000
DTEND;TZID=Europe/Berlin:20250828T183000
UID:T41026-20250828T173000@EFBOLDENBURG
SUMMARY:Gitarrenkurse für Erwachsene (T41026) 
LOCATION:Ev. Familien-Bildungsstätte, Werkraum,  Gorch-Fock-Str. 5 a, 26135 Oldenburg
END:VEVENT
BEGIN:VEVENT
DTSTAMP:20260421T202140
DTSTART;TZID=Europe/Berlin:20250904T173000
DTEND;TZID=Europe/Berlin:20250904T183000
UID:T41026-20250904T173000@EFBOLDENBURG
SUMMARY:Gitarrenkurse für Erwachsene (T41026) 
LOCATION:Ev. Familien-Bildungsstätte, Werkraum,  Gorch-Fock-Str. 5 a, 26135 Oldenburg
END:VEVENT
BEGIN:VEVENT
DTSTAMP:20260421T202140
DTSTART;TZID=Europe/Berlin:20250911T173000
DTEND;TZID=Europe/Berlin:20250911T183000
UID:T41026-20250911T173000@EFBOLDENBURG
SUMMARY:Gitarrenkurse für Erwachsene (T41026) 
LOCATION:Ev. Familien-Bildungsstätte, Werkraum,  Gorch-Fock-Str. 5 a, 26135 Oldenburg
END:VEVENT
BEGIN:VEVENT
DTSTAMP:20260421T202140
DTSTART;TZID=Europe/Berlin:20250918T173000
DTEND;TZID=Europe/Berlin:20250918T183000
UID:T41026-20250918T173000@EFBOLDENBURG
SUMMARY:Gitarrenkurse für Erwachsene (T41026) 
LOCATION:Ev. Familien-Bildungsstätte, Werkraum,  Gorch-Fock-Str. 5 a, 26135 Oldenburg
END:VEVENT
BEGIN:VEVENT
DTSTAMP:20260421T202140
DTSTART;TZID=Europe/Berlin:20250925T173000
DTEND;TZID=Europe/Berlin:20250925T183000
UID:T41026-20250925T173000@EFBOLDENBURG
SUMMARY:Gitarrenkurse für Erwachsene (T41026) 
LOCATION:Ev. Familien-Bildungsstätte, Werkraum,  Gorch-Fock-Str. 5 a, 26135 Oldenburg
END:VEVENT
BEGIN:VEVENT
DTSTAMP:20260421T202140
DTSTART;TZID=Europe/Berlin:20251002T173000
DTEND;TZID=Europe/Berlin:20251002T183000
UID:T41026-20251002T173000@EFBOLDENBURG
SUMMARY:Gitarrenkurse für Erwachsene (T41026) 
LOCATION:Ev. Familien-Bildungsstätte, Werkraum,  Gorch-Fock-Str. 5 a, 26135 Oldenburg
END:VEVENT
BEGIN:VEVENT
DTSTAMP:20260421T202140
DTSTART;TZID=Europe/Berlin:20251009T173000
DTEND;TZID=Europe/Berlin:20251009T183000
UID:T41026-20251009T173000@EFBOLDENBURG
SUMMARY:Gitarrenkurse für Erwachsene (T41026) 
LOCATION:Ev. Familien-Bildungsstätte, Werkraum,  Gorch-Fock-Str. 5 a, 26135 Oldenburg
END:VEVENT
BEGIN:VEVENT
DTSTAMP:20260421T202140
DTSTART;TZID=Europe/Berlin:20251030T173000
DTEND;TZID=Europe/Berlin:20251030T183000
UID:T41026-20251030T173000@EFBOLDENBURG
SUMMARY:Gitarrenkurse für Erwachsene (T41026) 
LOCATION:Ev. Familien-Bildungsstätte, Werkraum,  Gorch-Fock-Str. 5 a, 26135 Oldenburg
END:VEVENT
BEGIN:VEVENT
DTSTAMP:20260421T202140
DTSTART;TZID=Europe/Berlin:20251106T173000
DTEND;TZID=Europe/Berlin:20251106T183000
UID:T41026-20251106T173000@EFBOLDENBURG
SUMMARY:Gitarrenkurse für Erwachsene (T41026) 
LOCATION:Ev. Familien-Bildungsstätte, Werkraum,  Gorch-Fock-Str. 5 a, 26135 Oldenburg
END:VEVENT
BEGIN:VEVENT
DTSTAMP:20260421T202140
DTSTART;TZID=Europe/Berlin:20251113T173000
DTEND;TZID=Europe/Berlin:20251113T183000
UID:T41026-20251113T173000@EFBOLDENBURG
SUMMARY:Gitarrenkurse für Erwachsene (T41026) 
LOCATION:Ev. Familien-Bildungsstätte, Werkraum,  Gorch-Fock-Str. 5 a, 26135 Oldenburg
END:VEVENT
BEGIN:VEVENT
DTSTAMP:20260421T202140
DTSTART;TZID=Europe/Berlin:20251120T173000
DTEND;TZID=Europe/Berlin:20251120T183000
UID:T41026-20251120T173000@EFBOLDENBURG
SUMMARY:Gitarrenkurse für Erwachsene (T41026) 
LOCATION:Ev. Familien-Bildungsstätte, Werkraum,  Gorch-Fock-Str. 5 a, 26135 Oldenburg
END:VEVENT
END:VCALENDAR