BEGIN:VCALENDAR
VERSION:2.0
PRODID:https://www.kufer.de/kuferweb / DE
METHOD:PUBLISH
CALSCALE:GREGORIAN
X-WR-TIMEZONE:Europe/Berlin
BEGIN:VTIMEZONE
TZID:Europe/Berlin
X-LIC-LOCATION:Europe/Berlin
BEGIN:DAYLIGHT
TZOFFSETFROM:+0100
TZOFFSETTO:+0200
TZNAME:CEST
DTSTART:19700329T020000
RRULE:FREQ=YEARLY;INTERVAL=1;BYDAY=-1SU;BYMONTH=3
END:DAYLIGHT
BEGIN:STANDARD
TZOFFSETFROM:+0200
TZOFFSETTO:+0100
TZNAME:CET
DTSTART:19701025T030000
RRULE:FREQ=YEARLY;INTERVAL=1;BYDAY=-1SU;BYMONTH=10
END:STANDARD
END:VTIMEZONE
BEGIN:VEVENT
DTSTAMP:20260421T171838
DTSTART;TZID=Europe/Berlin:20250828T203000
DTEND;TZID=Europe/Berlin:20250828T210000
UID:T41028-20250828T203000@EFBOLDENBURG
SUMMARY:Gitarrenkurse für Erwachsene - Sylvalex Band     U2 im Gemeindehaus Jona (T41028) 
LOCATION:Gemeindehaus Jona, Heimeck 23 a, Heimeck 23 a, 26135 Oldenburg
END:VEVENT
BEGIN:VEVENT
DTSTAMP:20260421T171838
DTSTART;TZID=Europe/Berlin:20250904T203000
DTEND;TZID=Europe/Berlin:20250904T210000
UID:T41028-20250904T203000@EFBOLDENBURG
SUMMARY:Gitarrenkurse für Erwachsene - Sylvalex Band     U2 im Gemeindehaus Jona (T41028) 
LOCATION:Gemeindehaus Jona, Heimeck 23 a, Heimeck 23 a, 26135 Oldenburg
END:VEVENT
BEGIN:VEVENT
DTSTAMP:20260421T171838
DTSTART;TZID=Europe/Berlin:20250911T203000
DTEND;TZID=Europe/Berlin:20250911T210000
UID:T41028-20250911T203000@EFBOLDENBURG
SUMMARY:Gitarrenkurse für Erwachsene - Sylvalex Band     U2 im Gemeindehaus Jona (T41028) 
LOCATION:Gemeindehaus Jona, Heimeck 23 a, Heimeck 23 a, 26135 Oldenburg
END:VEVENT
BEGIN:VEVENT
DTSTAMP:20260421T171838
DTSTART;TZID=Europe/Berlin:20250918T203000
DTEND;TZID=Europe/Berlin:20250918T210000
UID:T41028-20250918T203000@EFBOLDENBURG
SUMMARY:Gitarrenkurse für Erwachsene - Sylvalex Band     U2 im Gemeindehaus Jona (T41028) 
LOCATION:Gemeindehaus Jona, Heimeck 23 a, Heimeck 23 a, 26135 Oldenburg
END:VEVENT
BEGIN:VEVENT
DTSTAMP:20260421T171838
DTSTART;TZID=Europe/Berlin:20250925T203000
DTEND;TZID=Europe/Berlin:20250925T210000
UID:T41028-20250925T203000@EFBOLDENBURG
SUMMARY:Gitarrenkurse für Erwachsene - Sylvalex Band     U2 im Gemeindehaus Jona (T41028) 
LOCATION:Gemeindehaus Jona, Heimeck 23 a, Heimeck 23 a, 26135 Oldenburg
END:VEVENT
BEGIN:VEVENT
DTSTAMP:20260421T171838
DTSTART;TZID=Europe/Berlin:20251002T203000
DTEND;TZID=Europe/Berlin:20251002T210000
UID:T41028-20251002T203000@EFBOLDENBURG
SUMMARY:Gitarrenkurse für Erwachsene - Sylvalex Band     U2 im Gemeindehaus Jona (T41028) 
LOCATION:Gemeindehaus Jona, Heimeck 23 a, Heimeck 23 a, 26135 Oldenburg
END:VEVENT
BEGIN:VEVENT
DTSTAMP:20260421T171838
DTSTART;TZID=Europe/Berlin:20251009T203000
DTEND;TZID=Europe/Berlin:20251009T210000
UID:T41028-20251009T203000@EFBOLDENBURG
SUMMARY:Gitarrenkurse für Erwachsene - Sylvalex Band     U2 im Gemeindehaus Jona (T41028) 
LOCATION:Gemeindehaus Jona, Heimeck 23 a, Heimeck 23 a, 26135 Oldenburg
END:VEVENT
BEGIN:VEVENT
DTSTAMP:20260421T171838
DTSTART;TZID=Europe/Berlin:20251030T203000
DTEND;TZID=Europe/Berlin:20251030T210000
UID:T41028-20251030T203000@EFBOLDENBURG
SUMMARY:Gitarrenkurse für Erwachsene - Sylvalex Band     U2 im Gemeindehaus Jona (T41028) 
LOCATION:Gemeindehaus Jona, Heimeck 23 a, Heimeck 23 a, 26135 Oldenburg
END:VEVENT
BEGIN:VEVENT
DTSTAMP:20260421T171838
DTSTART;TZID=Europe/Berlin:20251106T203000
DTEND;TZID=Europe/Berlin:20251106T210000
UID:T41028-20251106T203000@EFBOLDENBURG
SUMMARY:Gitarrenkurse für Erwachsene - Sylvalex Band     U2 im Gemeindehaus Jona (T41028) 
LOCATION:Gemeindehaus Jona, Heimeck 23 a, Heimeck 23 a, 26135 Oldenburg
END:VEVENT
BEGIN:VEVENT
DTSTAMP:20260421T171838
DTSTART;TZID=Europe/Berlin:20251113T203000
DTEND;TZID=Europe/Berlin:20251113T210000
UID:T41028-20251113T203000@EFBOLDENBURG
SUMMARY:Gitarrenkurse für Erwachsene - Sylvalex Band     U2 im Gemeindehaus Jona (T41028) 
LOCATION:Gemeindehaus Jona, Heimeck 23 a, Heimeck 23 a, 26135 Oldenburg
END:VEVENT
BEGIN:VEVENT
DTSTAMP:20260421T171838
DTSTART;TZID=Europe/Berlin:20251120T203000
DTEND;TZID=Europe/Berlin:20251120T210000
UID:T41028-20251120T203000@EFBOLDENBURG
SUMMARY:Gitarrenkurse für Erwachsene - Sylvalex Band     U2 im Gemeindehaus Jona (T41028) 
LOCATION:Gemeindehaus Jona, Heimeck 23 a, Heimeck 23 a, 26135 Oldenburg
END:VEVENT
BEGIN:VEVENT
DTSTAMP:20260421T171838
DTSTART;TZID=Europe/Berlin:20251127T203000
DTEND;TZID=Europe/Berlin:20251127T210000
UID:T41028-20251127T203000@EFBOLDENBURG
SUMMARY:Gitarrenkurse für Erwachsene - Sylvalex Band     U2 im Gemeindehaus Jona (T41028) 
LOCATION:Gemeindehaus Jona, Heimeck 23 a, Heimeck 23 a, 26135 Oldenburg
END:VEVENT
BEGIN:VEVENT
DTSTAMP:20260421T171838
DTSTART;TZID=Europe/Berlin:20251204T203000
DTEND;TZID=Europe/Berlin:20251204T210000
UID:T41028-20251204T203000@EFBOLDENBURG
SUMMARY:Gitarrenkurse für Erwachsene - Sylvalex Band     U2 im Gemeindehaus Jona (T41028) 
LOCATION:Gemeindehaus Jona, Heimeck 23 a, Heimeck 23 a, 26135 Oldenburg
END:VEVENT
BEGIN:VEVENT
DTSTAMP:20260421T171838
DTSTART;TZID=Europe/Berlin:20251211T203000
DTEND;TZID=Europe/Berlin:20251211T210000
UID:T41028-20251211T203000@EFBOLDENBURG
SUMMARY:Gitarrenkurse für Erwachsene - Sylvalex Band     U2 im Gemeindehaus Jona (T41028) 
LOCATION:Gemeindehaus Jona, Heimeck 23 a, Heimeck 23 a, 26135 Oldenburg
END:VEVENT
END:VCALENDAR