BEGIN:VCALENDAR
VERSION:2.0
PRODID:https://www.kufer.de/kuferweb / DE
METHOD:PUBLISH
CALSCALE:GREGORIAN
X-WR-TIMEZONE:Europe/Berlin
BEGIN:VTIMEZONE
TZID:Europe/Berlin
X-LIC-LOCATION:Europe/Berlin
BEGIN:DAYLIGHT
TZOFFSETFROM:+0100
TZOFFSETTO:+0200
TZNAME:CEST
DTSTART:19700329T020000
RRULE:FREQ=YEARLY;INTERVAL=1;BYDAY=-1SU;BYMONTH=3
END:DAYLIGHT
BEGIN:STANDARD
TZOFFSETFROM:+0200
TZOFFSETTO:+0100
TZNAME:CET
DTSTART:19701025T030000
RRULE:FREQ=YEARLY;INTERVAL=1;BYDAY=-1SU;BYMONTH=10
END:STANDARD
END:VTIMEZONE
BEGIN:VEVENT
DTSTAMP:20260422T025712
DTSTART;TZID=Europe/Berlin:20250916T090000
DTEND;TZID=Europe/Berlin:20250916T103000
UID:T42013-EEB-20250916T090000@EFBOLDENBURG
SUMMARY:Zeichnen und Malen am Vormittag (T42013-EEB) 
LOCATION:Ev. Familien-Bildungsstätte, Werkraum,  Gorch-Fock-Str. 5 a, 26135 Oldenburg
END:VEVENT
BEGIN:VEVENT
DTSTAMP:20260422T025712
DTSTART;TZID=Europe/Berlin:20250923T090000
DTEND;TZID=Europe/Berlin:20250923T103000
UID:T42013-EEB-20250923T090000@EFBOLDENBURG
SUMMARY:Zeichnen und Malen am Vormittag (T42013-EEB) 
LOCATION:Ev. Familien-Bildungsstätte, Werkraum,  Gorch-Fock-Str. 5 a, 26135 Oldenburg
END:VEVENT
BEGIN:VEVENT
DTSTAMP:20260422T025712
DTSTART;TZID=Europe/Berlin:20250930T090000
DTEND;TZID=Europe/Berlin:20250930T103000
UID:T42013-EEB-20250930T090000@EFBOLDENBURG
SUMMARY:Zeichnen und Malen am Vormittag (T42013-EEB) 
LOCATION:Ev. Familien-Bildungsstätte, Werkraum,  Gorch-Fock-Str. 5 a, 26135 Oldenburg
END:VEVENT
BEGIN:VEVENT
DTSTAMP:20260422T025712
DTSTART;TZID=Europe/Berlin:20251007T090000
DTEND;TZID=Europe/Berlin:20251007T103000
UID:T42013-EEB-20251007T090000@EFBOLDENBURG
SUMMARY:Zeichnen und Malen am Vormittag (T42013-EEB) 
LOCATION:Ev. Familien-Bildungsstätte, Werkraum,  Gorch-Fock-Str. 5 a, 26135 Oldenburg
END:VEVENT
BEGIN:VEVENT
DTSTAMP:20260422T025712
DTSTART;TZID=Europe/Berlin:20251028T090000
DTEND;TZID=Europe/Berlin:20251028T103000
UID:T42013-EEB-20251028T090000@EFBOLDENBURG
SUMMARY:Zeichnen und Malen am Vormittag (T42013-EEB) 
LOCATION:Ev. Familien-Bildungsstätte, Werkraum,  Gorch-Fock-Str. 5 a, 26135 Oldenburg
END:VEVENT
BEGIN:VEVENT
DTSTAMP:20260422T025712
DTSTART;TZID=Europe/Berlin:20251104T090000
DTEND;TZID=Europe/Berlin:20251104T103000
UID:T42013-EEB-20251104T090000@EFBOLDENBURG
SUMMARY:Zeichnen und Malen am Vormittag (T42013-EEB) 
LOCATION:Ev. Familien-Bildungsstätte, Werkraum,  Gorch-Fock-Str. 5 a, 26135 Oldenburg
END:VEVENT
BEGIN:VEVENT
DTSTAMP:20260422T025712
DTSTART;TZID=Europe/Berlin:20251111T090000
DTEND;TZID=Europe/Berlin:20251111T103000
UID:T42013-EEB-20251111T090000@EFBOLDENBURG
SUMMARY:Zeichnen und Malen am Vormittag (T42013-EEB) 
LOCATION:Ev. Familien-Bildungsstätte, Werkraum,  Gorch-Fock-Str. 5 a, 26135 Oldenburg
END:VEVENT
BEGIN:VEVENT
DTSTAMP:20260422T025712
DTSTART;TZID=Europe/Berlin:20251118T090000
DTEND;TZID=Europe/Berlin:20251118T103000
UID:T42013-EEB-20251118T090000@EFBOLDENBURG
SUMMARY:Zeichnen und Malen am Vormittag (T42013-EEB) 
LOCATION:Ev. Familien-Bildungsstätte, Werkraum,  Gorch-Fock-Str. 5 a, 26135 Oldenburg
END:VEVENT
BEGIN:VEVENT
DTSTAMP:20260422T025712
DTSTART;TZID=Europe/Berlin:20251125T090000
DTEND;TZID=Europe/Berlin:20251125T103000
UID:T42013-EEB-20251125T090000@EFBOLDENBURG
SUMMARY:Zeichnen und Malen am Vormittag (T42013-EEB) 
LOCATION:Ev. Familien-Bildungsstätte, Werkraum,  Gorch-Fock-Str. 5 a, 26135 Oldenburg
END:VEVENT
BEGIN:VEVENT
DTSTAMP:20260422T025712
DTSTART;TZID=Europe/Berlin:20251202T090000
DTEND;TZID=Europe/Berlin:20251202T103000
UID:T42013-EEB-20251202T090000@EFBOLDENBURG
SUMMARY:Zeichnen und Malen am Vormittag (T42013-EEB) 
LOCATION:Ev. Familien-Bildungsstätte, Werkraum,  Gorch-Fock-Str. 5 a, 26135 Oldenburg
END:VEVENT
END:VCALENDAR