BEGIN:VCALENDAR
VERSION:2.0
PRODID:https://www.kufer.de/kuferweb / DE
METHOD:PUBLISH
CALSCALE:GREGORIAN
X-WR-TIMEZONE:Europe/Berlin
BEGIN:VTIMEZONE
TZID:Europe/Berlin
X-LIC-LOCATION:Europe/Berlin
BEGIN:DAYLIGHT
TZOFFSETFROM:+0100
TZOFFSETTO:+0200
TZNAME:CEST
DTSTART:19700329T020000
RRULE:FREQ=YEARLY;INTERVAL=1;BYDAY=-1SU;BYMONTH=3
END:DAYLIGHT
BEGIN:STANDARD
TZOFFSETFROM:+0200
TZOFFSETTO:+0100
TZNAME:CET
DTSTART:19701025T030000
RRULE:FREQ=YEARLY;INTERVAL=1;BYDAY=-1SU;BYMONTH=10
END:STANDARD
END:VTIMEZONE
BEGIN:VEVENT
DTSTAMP:20260421T171833
DTSTART;TZID=Europe/Berlin:20250917T180000
DTEND;TZID=Europe/Berlin:20250917T194500
UID:T42014-EEB-20250917T180000@EFBOLDENBURG
SUMMARY:Entspanntes Malen am Abend (T42014-EEB) 
LOCATION:Ev. Familien-Bildungsstätte, Werkraum,  Gorch-Fock-Str. 5 a, 26135 Oldenburg
END:VEVENT
BEGIN:VEVENT
DTSTAMP:20260421T171833
DTSTART;TZID=Europe/Berlin:20250924T180000
DTEND;TZID=Europe/Berlin:20250924T194500
UID:T42014-EEB-20250924T180000@EFBOLDENBURG
SUMMARY:Entspanntes Malen am Abend (T42014-EEB) 
LOCATION:Ev. Familien-Bildungsstätte, Werkraum,  Gorch-Fock-Str. 5 a, 26135 Oldenburg
END:VEVENT
BEGIN:VEVENT
DTSTAMP:20260421T171833
DTSTART;TZID=Europe/Berlin:20251001T180000
DTEND;TZID=Europe/Berlin:20251001T194500
UID:T42014-EEB-20251001T180000@EFBOLDENBURG
SUMMARY:Entspanntes Malen am Abend (T42014-EEB) 
LOCATION:Ev. Familien-Bildungsstätte, Werkraum,  Gorch-Fock-Str. 5 a, 26135 Oldenburg
END:VEVENT
BEGIN:VEVENT
DTSTAMP:20260421T171833
DTSTART;TZID=Europe/Berlin:20251008T180000
DTEND;TZID=Europe/Berlin:20251008T194500
UID:T42014-EEB-20251008T180000@EFBOLDENBURG
SUMMARY:Entspanntes Malen am Abend (T42014-EEB) 
LOCATION:Ev. Familien-Bildungsstätte, Werkraum,  Gorch-Fock-Str. 5 a, 26135 Oldenburg
END:VEVENT
BEGIN:VEVENT
DTSTAMP:20260421T171833
DTSTART;TZID=Europe/Berlin:20251029T180000
DTEND;TZID=Europe/Berlin:20251029T194500
UID:T42014-EEB-20251029T180000@EFBOLDENBURG
SUMMARY:Entspanntes Malen am Abend (T42014-EEB) 
LOCATION:Ev. Familien-Bildungsstätte, Werkraum,  Gorch-Fock-Str. 5 a, 26135 Oldenburg
END:VEVENT
BEGIN:VEVENT
DTSTAMP:20260421T171833
DTSTART;TZID=Europe/Berlin:20251105T180000
DTEND;TZID=Europe/Berlin:20251105T194500
UID:T42014-EEB-20251105T180000@EFBOLDENBURG
SUMMARY:Entspanntes Malen am Abend (T42014-EEB) 
LOCATION:Ev. Familien-Bildungsstätte, Werkraum,  Gorch-Fock-Str. 5 a, 26135 Oldenburg
END:VEVENT
BEGIN:VEVENT
DTSTAMP:20260421T171833
DTSTART;TZID=Europe/Berlin:20251112T180000
DTEND;TZID=Europe/Berlin:20251112T194500
UID:T42014-EEB-20251112T180000@EFBOLDENBURG
SUMMARY:Entspanntes Malen am Abend (T42014-EEB) 
LOCATION:Ev. Familien-Bildungsstätte, Werkraum,  Gorch-Fock-Str. 5 a, 26135 Oldenburg
END:VEVENT
BEGIN:VEVENT
DTSTAMP:20260421T171833
DTSTART;TZID=Europe/Berlin:20251119T180000
DTEND;TZID=Europe/Berlin:20251119T194500
UID:T42014-EEB-20251119T180000@EFBOLDENBURG
SUMMARY:Entspanntes Malen am Abend (T42014-EEB) 
LOCATION:Ev. Familien-Bildungsstätte, Werkraum,  Gorch-Fock-Str. 5 a, 26135 Oldenburg
END:VEVENT
BEGIN:VEVENT
DTSTAMP:20260421T171833
DTSTART;TZID=Europe/Berlin:20251126T180000
DTEND;TZID=Europe/Berlin:20251126T194500
UID:T42014-EEB-20251126T180000@EFBOLDENBURG
SUMMARY:Entspanntes Malen am Abend (T42014-EEB) 
LOCATION:Ev. Familien-Bildungsstätte, Werkraum,  Gorch-Fock-Str. 5 a, 26135 Oldenburg
END:VEVENT
BEGIN:VEVENT
DTSTAMP:20260421T171833
DTSTART;TZID=Europe/Berlin:20251203T180000
DTEND;TZID=Europe/Berlin:20251203T194500
UID:T42014-EEB-20251203T180000@EFBOLDENBURG
SUMMARY:Entspanntes Malen am Abend (T42014-EEB) 
LOCATION:Ev. Familien-Bildungsstätte, Werkraum,  Gorch-Fock-Str. 5 a, 26135 Oldenburg
END:VEVENT
END:VCALENDAR