BEGIN:VCALENDAR
VERSION:2.0
PRODID:https://www.kufer.de/kuferweb / DE
METHOD:PUBLISH
CALSCALE:GREGORIAN
X-WR-TIMEZONE:Europe/Berlin
BEGIN:VTIMEZONE
TZID:Europe/Berlin
X-LIC-LOCATION:Europe/Berlin
BEGIN:DAYLIGHT
TZOFFSETFROM:+0100
TZOFFSETTO:+0200
TZNAME:CEST
DTSTART:19700329T020000
RRULE:FREQ=YEARLY;INTERVAL=1;BYDAY=-1SU;BYMONTH=3
END:DAYLIGHT
BEGIN:STANDARD
TZOFFSETFROM:+0200
TZOFFSETTO:+0100
TZNAME:CET
DTSTART:19701025T030000
RRULE:FREQ=YEARLY;INTERVAL=1;BYDAY=-1SU;BYMONTH=10
END:STANDARD
END:VTIMEZONE
BEGIN:VEVENT
DTSTAMP:20260421T183019
DTSTART;TZID=Europe/Berlin:20250825T194500
DTEND;TZID=Europe/Berlin:20250825T220000
UID:T43001-EEB-20250825T194500@EFBOLDENBURG
SUMMARY:Ich habe Lust zu nähen ... (T43001-EEB) 
LOCATION:Ev. Familien-Bildungsstätte, Nähraum,  Gorch-Fock-Str. 5 a, 26135 Oldenburg
END:VEVENT
BEGIN:VEVENT
DTSTAMP:20260421T183019
DTSTART;TZID=Europe/Berlin:20250901T194500
DTEND;TZID=Europe/Berlin:20250901T220000
UID:T43001-EEB-20250901T194500@EFBOLDENBURG
SUMMARY:Ich habe Lust zu nähen ... (T43001-EEB) 
LOCATION:Ev. Familien-Bildungsstätte, Nähraum,  Gorch-Fock-Str. 5 a, 26135 Oldenburg
END:VEVENT
BEGIN:VEVENT
DTSTAMP:20260421T183019
DTSTART;TZID=Europe/Berlin:20250908T194500
DTEND;TZID=Europe/Berlin:20250908T220000
UID:T43001-EEB-20250908T194500@EFBOLDENBURG
SUMMARY:Ich habe Lust zu nähen ... (T43001-EEB) 
LOCATION:Ev. Familien-Bildungsstätte, Nähraum,  Gorch-Fock-Str. 5 a, 26135 Oldenburg
END:VEVENT
BEGIN:VEVENT
DTSTAMP:20260421T183019
DTSTART;TZID=Europe/Berlin:20250915T194500
DTEND;TZID=Europe/Berlin:20250915T220000
UID:T43001-EEB-20250915T194500@EFBOLDENBURG
SUMMARY:Ich habe Lust zu nähen ... (T43001-EEB) 
LOCATION:Ev. Familien-Bildungsstätte, Nähraum,  Gorch-Fock-Str. 5 a, 26135 Oldenburg
END:VEVENT
BEGIN:VEVENT
DTSTAMP:20260421T183019
DTSTART;TZID=Europe/Berlin:20250922T194500
DTEND;TZID=Europe/Berlin:20250922T220000
UID:T43001-EEB-20250922T194500@EFBOLDENBURG
SUMMARY:Ich habe Lust zu nähen ... (T43001-EEB) 
LOCATION:Ev. Familien-Bildungsstätte, Nähraum,  Gorch-Fock-Str. 5 a, 26135 Oldenburg
END:VEVENT
BEGIN:VEVENT
DTSTAMP:20260421T183019
DTSTART;TZID=Europe/Berlin:20251006T194500
DTEND;TZID=Europe/Berlin:20251006T220000
UID:T43001-EEB-20251006T194500@EFBOLDENBURG
SUMMARY:Ich habe Lust zu nähen ... (T43001-EEB) 
LOCATION:Ev. Familien-Bildungsstätte, Nähraum,  Gorch-Fock-Str. 5 a, 26135 Oldenburg
END:VEVENT
BEGIN:VEVENT
DTSTAMP:20260421T183019
DTSTART;TZID=Europe/Berlin:20251027T194500
DTEND;TZID=Europe/Berlin:20251027T220000
UID:T43001-EEB-20251027T194500@EFBOLDENBURG
SUMMARY:Ich habe Lust zu nähen ... (T43001-EEB) 
LOCATION:Ev. Familien-Bildungsstätte, Nähraum,  Gorch-Fock-Str. 5 a, 26135 Oldenburg
END:VEVENT
BEGIN:VEVENT
DTSTAMP:20260421T183019
DTSTART;TZID=Europe/Berlin:20251103T194500
DTEND;TZID=Europe/Berlin:20251103T220000
UID:T43001-EEB-20251103T194500@EFBOLDENBURG
SUMMARY:Ich habe Lust zu nähen ... (T43001-EEB) 
LOCATION:Ev. Familien-Bildungsstätte, Nähraum,  Gorch-Fock-Str. 5 a, 26135 Oldenburg
END:VEVENT
BEGIN:VEVENT
DTSTAMP:20260421T183019
DTSTART;TZID=Europe/Berlin:20251110T194500
DTEND;TZID=Europe/Berlin:20251110T220000
UID:T43001-EEB-20251110T194500@EFBOLDENBURG
SUMMARY:Ich habe Lust zu nähen ... (T43001-EEB) 
LOCATION:Ev. Familien-Bildungsstätte, Nähraum,  Gorch-Fock-Str. 5 a, 26135 Oldenburg
END:VEVENT
BEGIN:VEVENT
DTSTAMP:20260421T183019
DTSTART;TZID=Europe/Berlin:20251117T194500
DTEND;TZID=Europe/Berlin:20251117T220000
UID:T43001-EEB-20251117T194500@EFBOLDENBURG
SUMMARY:Ich habe Lust zu nähen ... (T43001-EEB) 
LOCATION:Ev. Familien-Bildungsstätte, Nähraum,  Gorch-Fock-Str. 5 a, 26135 Oldenburg
END:VEVENT
BEGIN:VEVENT
DTSTAMP:20260421T183019
DTSTART;TZID=Europe/Berlin:20251124T194500
DTEND;TZID=Europe/Berlin:20251124T220000
UID:T43001-EEB-20251124T194500@EFBOLDENBURG
SUMMARY:Ich habe Lust zu nähen ... (T43001-EEB) 
LOCATION:Ev. Familien-Bildungsstätte, Nähraum,  Gorch-Fock-Str. 5 a, 26135 Oldenburg
END:VEVENT
BEGIN:VEVENT
DTSTAMP:20260421T183019
DTSTART;TZID=Europe/Berlin:20251201T194500
DTEND;TZID=Europe/Berlin:20251201T220000
UID:T43001-EEB-20251201T194500@EFBOLDENBURG
SUMMARY:Ich habe Lust zu nähen ... (T43001-EEB) 
LOCATION:Ev. Familien-Bildungsstätte, Nähraum,  Gorch-Fock-Str. 5 a, 26135 Oldenburg
END:VEVENT
BEGIN:VEVENT
DTSTAMP:20260421T183019
DTSTART;TZID=Europe/Berlin:20251208T194500
DTEND;TZID=Europe/Berlin:20251208T220000
UID:T43001-EEB-20251208T194500@EFBOLDENBURG
SUMMARY:Ich habe Lust zu nähen ... (T43001-EEB) 
LOCATION:Ev. Familien-Bildungsstätte, Nähraum,  Gorch-Fock-Str. 5 a, 26135 Oldenburg
END:VEVENT
BEGIN:VEVENT
DTSTAMP:20260421T183019
DTSTART;TZID=Europe/Berlin:20251215T194500
DTEND;TZID=Europe/Berlin:20251215T220000
UID:T43001-EEB-20251215T194500@EFBOLDENBURG
SUMMARY:Ich habe Lust zu nähen ... (T43001-EEB) 
LOCATION:Ev. Familien-Bildungsstätte, Nähraum,  Gorch-Fock-Str. 5 a, 26135 Oldenburg
END:VEVENT
BEGIN:VEVENT
DTSTAMP:20260421T183019
DTSTART;TZID=Europe/Berlin:20251222T194500
DTEND;TZID=Europe/Berlin:20251222T220000
UID:T43001-EEB-20251222T194500@EFBOLDENBURG
SUMMARY:Ich habe Lust zu nähen ... (T43001-EEB) 
LOCATION:Ev. Familien-Bildungsstätte, Nähraum,  Gorch-Fock-Str. 5 a, 26135 Oldenburg
END:VEVENT
END:VCALENDAR