BEGIN:VCALENDAR
VERSION:2.0
PRODID:https://www.kufer.de/kuferweb / DE
METHOD:PUBLISH
CALSCALE:GREGORIAN
X-WR-TIMEZONE:Europe/Berlin
BEGIN:VTIMEZONE
TZID:Europe/Berlin
X-LIC-LOCATION:Europe/Berlin
BEGIN:DAYLIGHT
TZOFFSETFROM:+0100
TZOFFSETTO:+0200
TZNAME:CEST
DTSTART:19700329T020000
RRULE:FREQ=YEARLY;INTERVAL=1;BYDAY=-1SU;BYMONTH=3
END:DAYLIGHT
BEGIN:STANDARD
TZOFFSETFROM:+0200
TZOFFSETTO:+0100
TZNAME:CET
DTSTART:19701025T030000
RRULE:FREQ=YEARLY;INTERVAL=1;BYDAY=-1SU;BYMONTH=10
END:STANDARD
END:VTIMEZONE
BEGIN:VEVENT
DTSTAMP:20260421T181355
DTSTART;TZID=Europe/Berlin:20250910T194500
DTEND;TZID=Europe/Berlin:20250910T220000
UID:T43002-EEB-20250910T194500@EFBOLDENBURG
SUMMARY:Ich habe Lust zu nähen ... (T43002-EEB) 
LOCATION:Ev. Familien-Bildungsstätte, Werkraum,  Gorch-Fock-Str. 5 a, 26135 Oldenburg
END:VEVENT
BEGIN:VEVENT
DTSTAMP:20260421T181355
DTSTART;TZID=Europe/Berlin:20250917T194500
DTEND;TZID=Europe/Berlin:20250917T220000
UID:T43002-EEB-20250917T194500@EFBOLDENBURG
SUMMARY:Ich habe Lust zu nähen ... (T43002-EEB) 
LOCATION:Ev. Familien-Bildungsstätte, Werkraum,  Gorch-Fock-Str. 5 a, 26135 Oldenburg
END:VEVENT
BEGIN:VEVENT
DTSTAMP:20260421T181355
DTSTART;TZID=Europe/Berlin:20250924T194500
DTEND;TZID=Europe/Berlin:20250924T220000
UID:T43002-EEB-20250924T194500@EFBOLDENBURG
SUMMARY:Ich habe Lust zu nähen ... (T43002-EEB) 
LOCATION:Ev. Familien-Bildungsstätte, Werkraum,  Gorch-Fock-Str. 5 a, 26135 Oldenburg
END:VEVENT
BEGIN:VEVENT
DTSTAMP:20260421T181355
DTSTART;TZID=Europe/Berlin:20251001T194500
DTEND;TZID=Europe/Berlin:20251001T220000
UID:T43002-EEB-20251001T194500@EFBOLDENBURG
SUMMARY:Ich habe Lust zu nähen ... (T43002-EEB) 
LOCATION:Ev. Familien-Bildungsstätte, Werkraum,  Gorch-Fock-Str. 5 a, 26135 Oldenburg
END:VEVENT
BEGIN:VEVENT
DTSTAMP:20260421T181355
DTSTART;TZID=Europe/Berlin:20251008T194500
DTEND;TZID=Europe/Berlin:20251008T220000
UID:T43002-EEB-20251008T194500@EFBOLDENBURG
SUMMARY:Ich habe Lust zu nähen ... (T43002-EEB) 
LOCATION:Ev. Familien-Bildungsstätte, Werkraum,  Gorch-Fock-Str. 5 a, 26135 Oldenburg
END:VEVENT
END:VCALENDAR