BEGIN:VCALENDAR
VERSION:2.0
PRODID:https://www.kufer.de/kuferweb / DE
METHOD:PUBLISH
CALSCALE:GREGORIAN
X-WR-TIMEZONE:Europe/Berlin
BEGIN:VTIMEZONE
TZID:Europe/Berlin
X-LIC-LOCATION:Europe/Berlin
BEGIN:DAYLIGHT
TZOFFSETFROM:+0100
TZOFFSETTO:+0200
TZNAME:CEST
DTSTART:19700329T020000
RRULE:FREQ=YEARLY;INTERVAL=1;BYDAY=-1SU;BYMONTH=3
END:DAYLIGHT
BEGIN:STANDARD
TZOFFSETFROM:+0200
TZOFFSETTO:+0100
TZNAME:CET
DTSTART:19701025T030000
RRULE:FREQ=YEARLY;INTERVAL=1;BYDAY=-1SU;BYMONTH=10
END:STANDARD
END:VTIMEZONE
BEGIN:VEVENT
DTSTAMP:20260422T012110
DTSTART;TZID=Europe/Berlin:20250902T183000
DTEND;TZID=Europe/Berlin:20250902T204500
UID:T43009-EEB-20250902T183000@EFBOLDENBURG
SUMMARY:Nähen - Weil es Spaß macht! -  Aufbaukurse (T43009-EEB) 
LOCATION:Gemeindehaus Christuskirche, Harlingerstr. 18, Harlingerstr. 18, 26121 Oldenburg
END:VEVENT
BEGIN:VEVENT
DTSTAMP:20260422T012110
DTSTART;TZID=Europe/Berlin:20250909T183000
DTEND;TZID=Europe/Berlin:20250909T204500
UID:T43009-EEB-20250909T183000@EFBOLDENBURG
SUMMARY:Nähen - Weil es Spaß macht! -  Aufbaukurse (T43009-EEB) 
LOCATION:Gemeindehaus Christuskirche, Harlingerstr. 18, Harlingerstr. 18, 26121 Oldenburg
END:VEVENT
BEGIN:VEVENT
DTSTAMP:20260422T012110
DTSTART;TZID=Europe/Berlin:20250916T183000
DTEND;TZID=Europe/Berlin:20250916T204500
UID:T43009-EEB-20250916T183000@EFBOLDENBURG
SUMMARY:Nähen - Weil es Spaß macht! -  Aufbaukurse (T43009-EEB) 
LOCATION:Gemeindehaus Christuskirche, Harlingerstr. 18, Harlingerstr. 18, 26121 Oldenburg
END:VEVENT
BEGIN:VEVENT
DTSTAMP:20260422T012110
DTSTART;TZID=Europe/Berlin:20250923T183000
DTEND;TZID=Europe/Berlin:20250923T204500
UID:T43009-EEB-20250923T183000@EFBOLDENBURG
SUMMARY:Nähen - Weil es Spaß macht! -  Aufbaukurse (T43009-EEB) 
LOCATION:Gemeindehaus Christuskirche, Harlingerstr. 18, Harlingerstr. 18, 26121 Oldenburg
END:VEVENT
BEGIN:VEVENT
DTSTAMP:20260422T012110
DTSTART;TZID=Europe/Berlin:20250930T183000
DTEND;TZID=Europe/Berlin:20250930T204500
UID:T43009-EEB-20250930T183000@EFBOLDENBURG
SUMMARY:Nähen - Weil es Spaß macht! -  Aufbaukurse (T43009-EEB) 
LOCATION:Gemeindehaus Christuskirche, Harlingerstr. 18, Harlingerstr. 18, 26121 Oldenburg
END:VEVENT
BEGIN:VEVENT
DTSTAMP:20260422T012110
DTSTART;TZID=Europe/Berlin:20251007T183000
DTEND;TZID=Europe/Berlin:20251007T204500
UID:T43009-EEB-20251007T183000@EFBOLDENBURG
SUMMARY:Nähen - Weil es Spaß macht! -  Aufbaukurse (T43009-EEB) 
LOCATION:Gemeindehaus Christuskirche, Harlingerstr. 18, Harlingerstr. 18, 26121 Oldenburg
END:VEVENT
BEGIN:VEVENT
DTSTAMP:20260422T012110
DTSTART;TZID=Europe/Berlin:20251028T183000
DTEND;TZID=Europe/Berlin:20251028T204500
UID:T43009-EEB-20251028T183000@EFBOLDENBURG
SUMMARY:Nähen - Weil es Spaß macht! -  Aufbaukurse (T43009-EEB) 
LOCATION:Gemeindehaus Christuskirche, Harlingerstr. 18, Harlingerstr. 18, 26121 Oldenburg
END:VEVENT
BEGIN:VEVENT
DTSTAMP:20260422T012110
DTSTART;TZID=Europe/Berlin:20251104T183000
DTEND;TZID=Europe/Berlin:20251104T204500
UID:T43009-EEB-20251104T183000@EFBOLDENBURG
SUMMARY:Nähen - Weil es Spaß macht! -  Aufbaukurse (T43009-EEB) 
LOCATION:Gemeindehaus Christuskirche, Harlingerstr. 18, Harlingerstr. 18, 26121 Oldenburg
END:VEVENT
BEGIN:VEVENT
DTSTAMP:20260422T012110
DTSTART;TZID=Europe/Berlin:20251111T183000
DTEND;TZID=Europe/Berlin:20251111T204500
UID:T43009-EEB-20251111T183000@EFBOLDENBURG
SUMMARY:Nähen - Weil es Spaß macht! -  Aufbaukurse (T43009-EEB) 
LOCATION:Gemeindehaus Christuskirche, Harlingerstr. 18, Harlingerstr. 18, 26121 Oldenburg
END:VEVENT
BEGIN:VEVENT
DTSTAMP:20260422T012110
DTSTART;TZID=Europe/Berlin:20251118T183000
DTEND;TZID=Europe/Berlin:20251118T204500
UID:T43009-EEB-20251118T183000@EFBOLDENBURG
SUMMARY:Nähen - Weil es Spaß macht! -  Aufbaukurse (T43009-EEB) 
LOCATION:Gemeindehaus Christuskirche, Harlingerstr. 18, Harlingerstr. 18, 26121 Oldenburg
END:VEVENT
END:VCALENDAR