BEGIN:VCALENDAR
VERSION:2.0
PRODID:https://www.kufer.de/kuferweb / DE
METHOD:PUBLISH
CALSCALE:GREGORIAN
X-WR-TIMEZONE:Europe/Berlin
BEGIN:VTIMEZONE
TZID:Europe/Berlin
X-LIC-LOCATION:Europe/Berlin
BEGIN:DAYLIGHT
TZOFFSETFROM:+0100
TZOFFSETTO:+0200
TZNAME:CEST
DTSTART:19700329T020000
RRULE:FREQ=YEARLY;INTERVAL=1;BYDAY=-1SU;BYMONTH=3
END:DAYLIGHT
BEGIN:STANDARD
TZOFFSETFROM:+0200
TZOFFSETTO:+0100
TZNAME:CET
DTSTART:19701025T030000
RRULE:FREQ=YEARLY;INTERVAL=1;BYDAY=-1SU;BYMONTH=10
END:STANDARD
END:VTIMEZONE
BEGIN:VEVENT
DTSTAMP:20260421T201306
DTSTART;TZID=Europe/Berlin:20250825T190000
DTEND;TZID=Europe/Berlin:20250825T211500
UID:T43011-EEB-20250825T190000@EFBOLDENBURG
SUMMARY:Nähkurs für Anfänger*innen und Fortgeschrittene (T43011-EEB) 
LOCATION:Ev. Familien-Bildungsstätte, Werkraum,  Gorch-Fock-Str. 5 a, 26135 Oldenburg
END:VEVENT
BEGIN:VEVENT
DTSTAMP:20260421T201306
DTSTART;TZID=Europe/Berlin:20250901T190000
DTEND;TZID=Europe/Berlin:20250901T211500
UID:T43011-EEB-20250901T190000@EFBOLDENBURG
SUMMARY:Nähkurs für Anfänger*innen und Fortgeschrittene (T43011-EEB) 
LOCATION:Ev. Familien-Bildungsstätte, Werkraum,  Gorch-Fock-Str. 5 a, 26135 Oldenburg
END:VEVENT
BEGIN:VEVENT
DTSTAMP:20260421T201306
DTSTART;TZID=Europe/Berlin:20250908T190000
DTEND;TZID=Europe/Berlin:20250908T211500
UID:T43011-EEB-20250908T190000@EFBOLDENBURG
SUMMARY:Nähkurs für Anfänger*innen und Fortgeschrittene (T43011-EEB) 
LOCATION:Ev. Familien-Bildungsstätte, Werkraum,  Gorch-Fock-Str. 5 a, 26135 Oldenburg
END:VEVENT
BEGIN:VEVENT
DTSTAMP:20260421T201306
DTSTART;TZID=Europe/Berlin:20250915T190000
DTEND;TZID=Europe/Berlin:20250915T211500
UID:T43011-EEB-20250915T190000@EFBOLDENBURG
SUMMARY:Nähkurs für Anfänger*innen und Fortgeschrittene (T43011-EEB) 
LOCATION:Ev. Familien-Bildungsstätte, Werkraum,  Gorch-Fock-Str. 5 a, 26135 Oldenburg
END:VEVENT
BEGIN:VEVENT
DTSTAMP:20260421T201306
DTSTART;TZID=Europe/Berlin:20250922T190000
DTEND;TZID=Europe/Berlin:20250922T211500
UID:T43011-EEB-20250922T190000@EFBOLDENBURG
SUMMARY:Nähkurs für Anfänger*innen und Fortgeschrittene (T43011-EEB) 
LOCATION:Ev. Familien-Bildungsstätte, Werkraum,  Gorch-Fock-Str. 5 a, 26135 Oldenburg
END:VEVENT
BEGIN:VEVENT
DTSTAMP:20260421T201306
DTSTART;TZID=Europe/Berlin:20250929T190000
DTEND;TZID=Europe/Berlin:20250929T211500
UID:T43011-EEB-20250929T190000@EFBOLDENBURG
SUMMARY:Nähkurs für Anfänger*innen und Fortgeschrittene (T43011-EEB) 
LOCATION:Ev. Familien-Bildungsstätte, Werkraum,  Gorch-Fock-Str. 5 a, 26135 Oldenburg
END:VEVENT
BEGIN:VEVENT
DTSTAMP:20260421T201306
DTSTART;TZID=Europe/Berlin:20251006T190000
DTEND;TZID=Europe/Berlin:20251006T211500
UID:T43011-EEB-20251006T190000@EFBOLDENBURG
SUMMARY:Nähkurs für Anfänger*innen und Fortgeschrittene (T43011-EEB) 
LOCATION:Ev. Familien-Bildungsstätte, Werkraum,  Gorch-Fock-Str. 5 a, 26135 Oldenburg
END:VEVENT
END:VCALENDAR