BEGIN:VCALENDAR
VERSION:2.0
PRODID:https://www.kufer.de/kuferweb / DE
METHOD:PUBLISH
CALSCALE:GREGORIAN
X-WR-TIMEZONE:Europe/Berlin
BEGIN:VTIMEZONE
TZID:Europe/Berlin
X-LIC-LOCATION:Europe/Berlin
BEGIN:DAYLIGHT
TZOFFSETFROM:+0100
TZOFFSETTO:+0200
TZNAME:CEST
DTSTART:19700329T020000
RRULE:FREQ=YEARLY;INTERVAL=1;BYDAY=-1SU;BYMONTH=3
END:DAYLIGHT
BEGIN:STANDARD
TZOFFSETFROM:+0200
TZOFFSETTO:+0100
TZNAME:CET
DTSTART:19701025T030000
RRULE:FREQ=YEARLY;INTERVAL=1;BYDAY=-1SU;BYMONTH=10
END:STANDARD
END:VTIMEZONE
BEGIN:VEVENT
DTSTAMP:20260422T025707
DTSTART;TZID=Europe/Berlin:20251027T190000
DTEND;TZID=Europe/Berlin:20251027T211500
UID:T43012-EEB-20251027T190000@EFBOLDENBURG
SUMMARY:Nähkurs für Anfänger*innen und Fortgeschrittene (T43012-EEB) 
LOCATION:Ev. Familien-Bildungsstätte, Werkraum,  Gorch-Fock-Str. 5 a, 26135 Oldenburg
END:VEVENT
BEGIN:VEVENT
DTSTAMP:20260422T025707
DTSTART;TZID=Europe/Berlin:20251103T190000
DTEND;TZID=Europe/Berlin:20251103T211500
UID:T43012-EEB-20251103T190000@EFBOLDENBURG
SUMMARY:Nähkurs für Anfänger*innen und Fortgeschrittene (T43012-EEB) 
LOCATION:Ev. Familien-Bildungsstätte, Werkraum,  Gorch-Fock-Str. 5 a, 26135 Oldenburg
END:VEVENT
BEGIN:VEVENT
DTSTAMP:20260422T025707
DTSTART;TZID=Europe/Berlin:20251110T190000
DTEND;TZID=Europe/Berlin:20251110T211500
UID:T43012-EEB-20251110T190000@EFBOLDENBURG
SUMMARY:Nähkurs für Anfänger*innen und Fortgeschrittene (T43012-EEB) 
LOCATION:Ev. Familien-Bildungsstätte, Werkraum,  Gorch-Fock-Str. 5 a, 26135 Oldenburg
END:VEVENT
BEGIN:VEVENT
DTSTAMP:20260422T025707
DTSTART;TZID=Europe/Berlin:20251124T190000
DTEND;TZID=Europe/Berlin:20251124T211500
UID:T43012-EEB-20251124T190000@EFBOLDENBURG
SUMMARY:Nähkurs für Anfänger*innen und Fortgeschrittene (T43012-EEB) 
LOCATION:Ev. Familien-Bildungsstätte, Werkraum,  Gorch-Fock-Str. 5 a, 26135 Oldenburg
END:VEVENT
BEGIN:VEVENT
DTSTAMP:20260422T025707
DTSTART;TZID=Europe/Berlin:20251201T190000
DTEND;TZID=Europe/Berlin:20251201T211500
UID:T43012-EEB-20251201T190000@EFBOLDENBURG
SUMMARY:Nähkurs für Anfänger*innen und Fortgeschrittene (T43012-EEB) 
LOCATION:Ev. Familien-Bildungsstätte, Werkraum,  Gorch-Fock-Str. 5 a, 26135 Oldenburg
END:VEVENT
BEGIN:VEVENT
DTSTAMP:20260422T025707
DTSTART;TZID=Europe/Berlin:20251208T190000
DTEND;TZID=Europe/Berlin:20251208T211500
UID:T43012-EEB-20251208T190000@EFBOLDENBURG
SUMMARY:Nähkurs für Anfänger*innen und Fortgeschrittene (T43012-EEB) 
LOCATION:Ev. Familien-Bildungsstätte, Werkraum,  Gorch-Fock-Str. 5 a, 26135 Oldenburg
END:VEVENT
BEGIN:VEVENT
DTSTAMP:20260422T025707
DTSTART;TZID=Europe/Berlin:20251210T190000
DTEND;TZID=Europe/Berlin:20251210T211500
UID:T43012-EEB-20251210T190000@EFBOLDENBURG
DESCRIPTION:Ersatz für Ausfall am 17.11.2025
SUMMARY:Nähkurs für Anfänger*innen und Fortgeschrittene (T43012-EEB) 
LOCATION:Ev. Familien-Bildungsstätte, Nähraum,  Gorch-Fock-Str. 5 a, 26135 Oldenburg
END:VEVENT
BEGIN:VEVENT
DTSTAMP:20260422T025707
DTSTART;TZID=Europe/Berlin:20251215T190000
DTEND;TZID=Europe/Berlin:20251215T211500
UID:T43012-EEB-20251215T190000@EFBOLDENBURG
SUMMARY:Nähkurs für Anfänger*innen und Fortgeschrittene (T43012-EEB) 
LOCATION:Ev. Familien-Bildungsstätte, Werkraum,  Gorch-Fock-Str. 5 a, 26135 Oldenburg
END:VEVENT
END:VCALENDAR