BEGIN:VCALENDAR
VERSION:2.0
PRODID:https://www.kufer.de/kuferweb / DE
METHOD:PUBLISH
CALSCALE:GREGORIAN
X-WR-TIMEZONE:Europe/Berlin
BEGIN:VTIMEZONE
TZID:Europe/Berlin
X-LIC-LOCATION:Europe/Berlin
BEGIN:DAYLIGHT
TZOFFSETFROM:+0100
TZOFFSETTO:+0200
TZNAME:CEST
DTSTART:19700329T020000
RRULE:FREQ=YEARLY;INTERVAL=1;BYDAY=-1SU;BYMONTH=3
END:DAYLIGHT
BEGIN:STANDARD
TZOFFSETFROM:+0200
TZOFFSETTO:+0100
TZNAME:CET
DTSTART:19701025T030000
RRULE:FREQ=YEARLY;INTERVAL=1;BYDAY=-1SU;BYMONTH=10
END:STANDARD
END:VTIMEZONE
BEGIN:VEVENT
DTSTAMP:20260422T110306
DTSTART;TZID=Europe/Berlin:20260106T123000
DTEND;TZID=Europe/Berlin:20260106T153000
UID:U03001-20260106T123000@EFBOLDENBURG
SUMMARY:FAZO - Pädagogischer Mittagstisch für Grundschulkinder (U03001) 
LOCATION:Ev. Familien-Bildungsstätte, Werkraum,  Gorch-Fock-Str. 5 a, 26135 Oldenburg
END:VEVENT
BEGIN:VEVENT
DTSTAMP:20260422T110306
DTSTART;TZID=Europe/Berlin:20260107T123000
DTEND;TZID=Europe/Berlin:20260107T153000
UID:U03001-20260107T123000@EFBOLDENBURG
SUMMARY:FAZO - Pädagogischer Mittagstisch für Grundschulkinder (U03001) 
LOCATION:Ev. Familien-Bildungsstätte, Werkraum,  Gorch-Fock-Str. 5 a, 26135 Oldenburg
END:VEVENT
BEGIN:VEVENT
DTSTAMP:20260422T110306
DTSTART;TZID=Europe/Berlin:20260108T123000
DTEND;TZID=Europe/Berlin:20260108T153000
UID:U03001-20260108T123000@EFBOLDENBURG
SUMMARY:FAZO - Pädagogischer Mittagstisch für Grundschulkinder (U03001) 
LOCATION:Ev. Familien-Bildungsstätte, Werkraum,  Gorch-Fock-Str. 5 a, 26135 Oldenburg
END:VEVENT
BEGIN:VEVENT
DTSTAMP:20260422T110306
DTSTART;TZID=Europe/Berlin:20260112T123000
DTEND;TZID=Europe/Berlin:20260112T153000
UID:U03001-20260112T123000@EFBOLDENBURG
SUMMARY:FAZO - Pädagogischer Mittagstisch für Grundschulkinder (U03001) 
LOCATION:Ev. Familien-Bildungsstätte, Werkraum,  Gorch-Fock-Str. 5 a, 26135 Oldenburg
END:VEVENT
BEGIN:VEVENT
DTSTAMP:20260422T110306
DTSTART;TZID=Europe/Berlin:20260113T123000
DTEND;TZID=Europe/Berlin:20260113T153000
UID:U03001-20260113T123000@EFBOLDENBURG
SUMMARY:FAZO - Pädagogischer Mittagstisch für Grundschulkinder (U03001) 
LOCATION:Ev. Familien-Bildungsstätte, Werkraum,  Gorch-Fock-Str. 5 a, 26135 Oldenburg
END:VEVENT
BEGIN:VEVENT
DTSTAMP:20260422T110306
DTSTART;TZID=Europe/Berlin:20260114T123000
DTEND;TZID=Europe/Berlin:20260114T153000
UID:U03001-20260114T123000@EFBOLDENBURG
SUMMARY:FAZO - Pädagogischer Mittagstisch für Grundschulkinder (U03001) 
LOCATION:Ev. Familien-Bildungsstätte, Werkraum,  Gorch-Fock-Str. 5 a, 26135 Oldenburg
END:VEVENT
BEGIN:VEVENT
DTSTAMP:20260422T110306
DTSTART;TZID=Europe/Berlin:20260115T123000
DTEND;TZID=Europe/Berlin:20260115T153000
UID:U03001-20260115T123000@EFBOLDENBURG
SUMMARY:FAZO - Pädagogischer Mittagstisch für Grundschulkinder (U03001) 
LOCATION:Ev. Familien-Bildungsstätte, Werkraum,  Gorch-Fock-Str. 5 a, 26135 Oldenburg
END:VEVENT
BEGIN:VEVENT
DTSTAMP:20260422T110306
DTSTART;TZID=Europe/Berlin:20260119T123000
DTEND;TZID=Europe/Berlin:20260119T153000
UID:U03001-20260119T123000@EFBOLDENBURG
SUMMARY:FAZO - Pädagogischer Mittagstisch für Grundschulkinder (U03001) 
LOCATION:Ev. Familien-Bildungsstätte, Werkraum,  Gorch-Fock-Str. 5 a, 26135 Oldenburg
END:VEVENT
BEGIN:VEVENT
DTSTAMP:20260422T110306
DTSTART;TZID=Europe/Berlin:20260120T123000
DTEND;TZID=Europe/Berlin:20260120T153000
UID:U03001-20260120T123000@EFBOLDENBURG
SUMMARY:FAZO - Pädagogischer Mittagstisch für Grundschulkinder (U03001) 
LOCATION:Ev. Familien-Bildungsstätte, Werkraum,  Gorch-Fock-Str. 5 a, 26135 Oldenburg
END:VEVENT
BEGIN:VEVENT
DTSTAMP:20260422T110306
DTSTART;TZID=Europe/Berlin:20260121T123000
DTEND;TZID=Europe/Berlin:20260121T153000
UID:U03001-20260121T123000@EFBOLDENBURG
SUMMARY:FAZO - Pädagogischer Mittagstisch für Grundschulkinder (U03001) 
LOCATION:Ev. Familien-Bildungsstätte, Werkraum,  Gorch-Fock-Str. 5 a, 26135 Oldenburg
END:VEVENT
BEGIN:VEVENT
DTSTAMP:20260422T110306
DTSTART;TZID=Europe/Berlin:20260122T123000
DTEND;TZID=Europe/Berlin:20260122T153000
UID:U03001-20260122T123000@EFBOLDENBURG
SUMMARY:FAZO - Pädagogischer Mittagstisch für Grundschulkinder (U03001) 
LOCATION:Ev. Familien-Bildungsstätte, Werkraum,  Gorch-Fock-Str. 5 a, 26135 Oldenburg
END:VEVENT
BEGIN:VEVENT
DTSTAMP:20260422T110306
DTSTART;TZID=Europe/Berlin:20260126T123000
DTEND;TZID=Europe/Berlin:20260126T153000
UID:U03001-20260126T123000@EFBOLDENBURG
SUMMARY:FAZO - Pädagogischer Mittagstisch für Grundschulkinder (U03001) 
LOCATION:Ev. Familien-Bildungsstätte, Werkraum,  Gorch-Fock-Str. 5 a, 26135 Oldenburg
END:VEVENT
BEGIN:VEVENT
DTSTAMP:20260422T110306
DTSTART;TZID=Europe/Berlin:20260127T123000
DTEND;TZID=Europe/Berlin:20260127T153000
UID:U03001-20260127T123000@EFBOLDENBURG
SUMMARY:FAZO - Pädagogischer Mittagstisch für Grundschulkinder (U03001) 
LOCATION:Ev. Familien-Bildungsstätte, Werkraum,  Gorch-Fock-Str. 5 a, 26135 Oldenburg
END:VEVENT
BEGIN:VEVENT
DTSTAMP:20260422T110306
DTSTART;TZID=Europe/Berlin:20260128T123000
DTEND;TZID=Europe/Berlin:20260128T153000
UID:U03001-20260128T123000@EFBOLDENBURG
SUMMARY:FAZO - Pädagogischer Mittagstisch für Grundschulkinder (U03001) 
LOCATION:Ev. Familien-Bildungsstätte, Werkraum,  Gorch-Fock-Str. 5 a, 26135 Oldenburg
END:VEVENT
BEGIN:VEVENT
DTSTAMP:20260422T110306
DTSTART;TZID=Europe/Berlin:20260129T123000
DTEND;TZID=Europe/Berlin:20260129T153000
UID:U03001-20260129T123000@EFBOLDENBURG
SUMMARY:FAZO - Pädagogischer Mittagstisch für Grundschulkinder (U03001) 
LOCATION:Ev. Familien-Bildungsstätte, Werkraum,  Gorch-Fock-Str. 5 a, 26135 Oldenburg
END:VEVENT
BEGIN:VEVENT
DTSTAMP:20260422T110306
DTSTART;TZID=Europe/Berlin:20260204T123000
DTEND;TZID=Europe/Berlin:20260204T153000
UID:U03001-20260204T123000@EFBOLDENBURG
SUMMARY:FAZO - Pädagogischer Mittagstisch für Grundschulkinder (U03001) 
LOCATION:Ev. Familien-Bildungsstätte, Werkraum,  Gorch-Fock-Str. 5 a, 26135 Oldenburg
END:VEVENT
BEGIN:VEVENT
DTSTAMP:20260422T110306
DTSTART;TZID=Europe/Berlin:20260205T123000
DTEND;TZID=Europe/Berlin:20260205T153000
UID:U03001-20260205T123000@EFBOLDENBURG
SUMMARY:FAZO - Pädagogischer Mittagstisch für Grundschulkinder (U03001) 
LOCATION:Ev. Familien-Bildungsstätte, Werkraum,  Gorch-Fock-Str. 5 a, 26135 Oldenburg
END:VEVENT
BEGIN:VEVENT
DTSTAMP:20260422T110306
DTSTART;TZID=Europe/Berlin:20260209T123000
DTEND;TZID=Europe/Berlin:20260209T153000
UID:U03001-20260209T123000@EFBOLDENBURG
SUMMARY:FAZO - Pädagogischer Mittagstisch für Grundschulkinder (U03001) 
LOCATION:Ev. Familien-Bildungsstätte, Werkraum,  Gorch-Fock-Str. 5 a, 26135 Oldenburg
END:VEVENT
BEGIN:VEVENT
DTSTAMP:20260422T110306
DTSTART;TZID=Europe/Berlin:20260210T123000
DTEND;TZID=Europe/Berlin:20260210T153000
UID:U03001-20260210T123000@EFBOLDENBURG
SUMMARY:FAZO - Pädagogischer Mittagstisch für Grundschulkinder (U03001) 
LOCATION:Ev. Familien-Bildungsstätte, Werkraum,  Gorch-Fock-Str. 5 a, 26135 Oldenburg
END:VEVENT
BEGIN:VEVENT
DTSTAMP:20260422T110306
DTSTART;TZID=Europe/Berlin:20260211T123000
DTEND;TZID=Europe/Berlin:20260211T153000
UID:U03001-20260211T123000@EFBOLDENBURG
SUMMARY:FAZO - Pädagogischer Mittagstisch für Grundschulkinder (U03001) 
LOCATION:Ev. Familien-Bildungsstätte, Werkraum,  Gorch-Fock-Str. 5 a, 26135 Oldenburg
END:VEVENT
BEGIN:VEVENT
DTSTAMP:20260422T110306
DTSTART;TZID=Europe/Berlin:20260212T123000
DTEND;TZID=Europe/Berlin:20260212T153000
UID:U03001-20260212T123000@EFBOLDENBURG
SUMMARY:FAZO - Pädagogischer Mittagstisch für Grundschulkinder (U03001) 
LOCATION:Ev. Familien-Bildungsstätte, Werkraum,  Gorch-Fock-Str. 5 a, 26135 Oldenburg
END:VEVENT
BEGIN:VEVENT
DTSTAMP:20260422T110306
DTSTART;TZID=Europe/Berlin:20260216T123000
DTEND;TZID=Europe/Berlin:20260216T153000
UID:U03001-20260216T123000@EFBOLDENBURG
SUMMARY:FAZO - Pädagogischer Mittagstisch für Grundschulkinder (U03001) 
LOCATION:Ev. Familien-Bildungsstätte, Werkraum,  Gorch-Fock-Str. 5 a, 26135 Oldenburg
END:VEVENT
BEGIN:VEVENT
DTSTAMP:20260422T110306
DTSTART;TZID=Europe/Berlin:20260217T123000
DTEND;TZID=Europe/Berlin:20260217T153000
UID:U03001-20260217T123000@EFBOLDENBURG
SUMMARY:FAZO - Pädagogischer Mittagstisch für Grundschulkinder (U03001) 
LOCATION:Ev. Familien-Bildungsstätte, Werkraum,  Gorch-Fock-Str. 5 a, 26135 Oldenburg
END:VEVENT
BEGIN:VEVENT
DTSTAMP:20260422T110306
DTSTART;TZID=Europe/Berlin:20260218T123000
DTEND;TZID=Europe/Berlin:20260218T153000
UID:U03001-20260218T123000@EFBOLDENBURG
SUMMARY:FAZO - Pädagogischer Mittagstisch für Grundschulkinder (U03001) 
LOCATION:Ev. Familien-Bildungsstätte, Werkraum,  Gorch-Fock-Str. 5 a, 26135 Oldenburg
END:VEVENT
BEGIN:VEVENT
DTSTAMP:20260422T110306
DTSTART;TZID=Europe/Berlin:20260219T123000
DTEND;TZID=Europe/Berlin:20260219T153000
UID:U03001-20260219T123000@EFBOLDENBURG
SUMMARY:FAZO - Pädagogischer Mittagstisch für Grundschulkinder (U03001) 
LOCATION:Ev. Familien-Bildungsstätte, Werkraum,  Gorch-Fock-Str. 5 a, 26135 Oldenburg
END:VEVENT
BEGIN:VEVENT
DTSTAMP:20260422T110306
DTSTART;TZID=Europe/Berlin:20260223T123000
DTEND;TZID=Europe/Berlin:20260223T153000
UID:U03001-20260223T123000@EFBOLDENBURG
SUMMARY:FAZO - Pädagogischer Mittagstisch für Grundschulkinder (U03001) 
LOCATION:Ev. Familien-Bildungsstätte, Werkraum,  Gorch-Fock-Str. 5 a, 26135 Oldenburg
END:VEVENT
BEGIN:VEVENT
DTSTAMP:20260422T110306
DTSTART;TZID=Europe/Berlin:20260224T123000
DTEND;TZID=Europe/Berlin:20260224T153000
UID:U03001-20260224T123000@EFBOLDENBURG
SUMMARY:FAZO - Pädagogischer Mittagstisch für Grundschulkinder (U03001) 
LOCATION:Ev. Familien-Bildungsstätte, Werkraum,  Gorch-Fock-Str. 5 a, 26135 Oldenburg
END:VEVENT
BEGIN:VEVENT
DTSTAMP:20260422T110306
DTSTART;TZID=Europe/Berlin:20260225T123000
DTEND;TZID=Europe/Berlin:20260225T153000
UID:U03001-20260225T123000@EFBOLDENBURG
SUMMARY:FAZO - Pädagogischer Mittagstisch für Grundschulkinder (U03001) 
LOCATION:Ev. Familien-Bildungsstätte, Werkraum,  Gorch-Fock-Str. 5 a, 26135 Oldenburg
END:VEVENT
BEGIN:VEVENT
DTSTAMP:20260422T110306
DTSTART;TZID=Europe/Berlin:20260226T123000
DTEND;TZID=Europe/Berlin:20260226T153000
UID:U03001-20260226T123000@EFBOLDENBURG
SUMMARY:FAZO - Pädagogischer Mittagstisch für Grundschulkinder (U03001) 
LOCATION:Ev. Familien-Bildungsstätte, Werkraum,  Gorch-Fock-Str. 5 a, 26135 Oldenburg
END:VEVENT
BEGIN:VEVENT
DTSTAMP:20260422T110306
DTSTART;TZID=Europe/Berlin:20260302T123000
DTEND;TZID=Europe/Berlin:20260302T153000
UID:U03001-20260302T123000@EFBOLDENBURG
SUMMARY:FAZO - Pädagogischer Mittagstisch für Grundschulkinder (U03001) 
LOCATION:Ev. Familien-Bildungsstätte, Werkraum,  Gorch-Fock-Str. 5 a, 26135 Oldenburg
END:VEVENT
BEGIN:VEVENT
DTSTAMP:20260422T110306
DTSTART;TZID=Europe/Berlin:20260303T123000
DTEND;TZID=Europe/Berlin:20260303T153000
UID:U03001-20260303T123000@EFBOLDENBURG
SUMMARY:FAZO - Pädagogischer Mittagstisch für Grundschulkinder (U03001) 
LOCATION:Ev. Familien-Bildungsstätte, Werkraum,  Gorch-Fock-Str. 5 a, 26135 Oldenburg
END:VEVENT
BEGIN:VEVENT
DTSTAMP:20260422T110306
DTSTART;TZID=Europe/Berlin:20260304T123000
DTEND;TZID=Europe/Berlin:20260304T153000
UID:U03001-20260304T123000@EFBOLDENBURG
SUMMARY:FAZO - Pädagogischer Mittagstisch für Grundschulkinder (U03001) 
LOCATION:Ev. Familien-Bildungsstätte, Werkraum,  Gorch-Fock-Str. 5 a, 26135 Oldenburg
END:VEVENT
BEGIN:VEVENT
DTSTAMP:20260422T110306
DTSTART;TZID=Europe/Berlin:20260305T123000
DTEND;TZID=Europe/Berlin:20260305T153000
UID:U03001-20260305T123000@EFBOLDENBURG
SUMMARY:FAZO - Pädagogischer Mittagstisch für Grundschulkinder (U03001) 
LOCATION:Ev. Familien-Bildungsstätte, Werkraum,  Gorch-Fock-Str. 5 a, 26135 Oldenburg
END:VEVENT
BEGIN:VEVENT
DTSTAMP:20260422T110306
DTSTART;TZID=Europe/Berlin:20260309T123000
DTEND;TZID=Europe/Berlin:20260309T153000
UID:U03001-20260309T123000@EFBOLDENBURG
SUMMARY:FAZO - Pädagogischer Mittagstisch für Grundschulkinder (U03001) 
LOCATION:Ev. Familien-Bildungsstätte, Werkraum,  Gorch-Fock-Str. 5 a, 26135 Oldenburg
END:VEVENT
BEGIN:VEVENT
DTSTAMP:20260422T110306
DTSTART;TZID=Europe/Berlin:20260310T123000
DTEND;TZID=Europe/Berlin:20260310T153000
UID:U03001-20260310T123000@EFBOLDENBURG
SUMMARY:FAZO - Pädagogischer Mittagstisch für Grundschulkinder (U03001) 
LOCATION:Ev. Familien-Bildungsstätte, Werkraum,  Gorch-Fock-Str. 5 a, 26135 Oldenburg
END:VEVENT
BEGIN:VEVENT
DTSTAMP:20260422T110306
DTSTART;TZID=Europe/Berlin:20260311T123000
DTEND;TZID=Europe/Berlin:20260311T153000
UID:U03001-20260311T123000@EFBOLDENBURG
SUMMARY:FAZO - Pädagogischer Mittagstisch für Grundschulkinder (U03001) 
LOCATION:Ev. Familien-Bildungsstätte, Werkraum,  Gorch-Fock-Str. 5 a, 26135 Oldenburg
END:VEVENT
BEGIN:VEVENT
DTSTAMP:20260422T110306
DTSTART;TZID=Europe/Berlin:20260312T123000
DTEND;TZID=Europe/Berlin:20260312T153000
UID:U03001-20260312T123000@EFBOLDENBURG
SUMMARY:FAZO - Pädagogischer Mittagstisch für Grundschulkinder (U03001) 
LOCATION:Ev. Familien-Bildungsstätte, Werkraum,  Gorch-Fock-Str. 5 a, 26135 Oldenburg
END:VEVENT
BEGIN:VEVENT
DTSTAMP:20260422T110306
DTSTART;TZID=Europe/Berlin:20260316T123000
DTEND;TZID=Europe/Berlin:20260316T153000
UID:U03001-20260316T123000@EFBOLDENBURG
SUMMARY:FAZO - Pädagogischer Mittagstisch für Grundschulkinder (U03001) 
LOCATION:Ev. Familien-Bildungsstätte, Werkraum,  Gorch-Fock-Str. 5 a, 26135 Oldenburg
END:VEVENT
BEGIN:VEVENT
DTSTAMP:20260422T110306
DTSTART;TZID=Europe/Berlin:20260317T123000
DTEND;TZID=Europe/Berlin:20260317T153000
UID:U03001-20260317T123000@EFBOLDENBURG
SUMMARY:FAZO - Pädagogischer Mittagstisch für Grundschulkinder (U03001) 
LOCATION:Ev. Familien-Bildungsstätte, Werkraum,  Gorch-Fock-Str. 5 a, 26135 Oldenburg
END:VEVENT
BEGIN:VEVENT
DTSTAMP:20260422T110306
DTSTART;TZID=Europe/Berlin:20260318T123000
DTEND;TZID=Europe/Berlin:20260318T153000
UID:U03001-20260318T123000@EFBOLDENBURG
SUMMARY:FAZO - Pädagogischer Mittagstisch für Grundschulkinder (U03001) 
LOCATION:Ev. Familien-Bildungsstätte, Werkraum,  Gorch-Fock-Str. 5 a, 26135 Oldenburg
END:VEVENT
BEGIN:VEVENT
DTSTAMP:20260422T110306
DTSTART;TZID=Europe/Berlin:20260319T123000
DTEND;TZID=Europe/Berlin:20260319T153000
UID:U03001-20260319T123000@EFBOLDENBURG
SUMMARY:FAZO - Pädagogischer Mittagstisch für Grundschulkinder (U03001) 
LOCATION:Ev. Familien-Bildungsstätte, Werkraum,  Gorch-Fock-Str. 5 a, 26135 Oldenburg
END:VEVENT
BEGIN:VEVENT
DTSTAMP:20260422T110306
DTSTART;TZID=Europe/Berlin:20260408T123000
DTEND;TZID=Europe/Berlin:20260408T153000
UID:U03001-20260408T123000@EFBOLDENBURG
SUMMARY:FAZO - Pädagogischer Mittagstisch für Grundschulkinder (U03001) 
LOCATION:Ev. Familien-Bildungsstätte, Werkraum,  Gorch-Fock-Str. 5 a, 26135 Oldenburg
END:VEVENT
BEGIN:VEVENT
DTSTAMP:20260422T110306
DTSTART;TZID=Europe/Berlin:20260409T123000
DTEND;TZID=Europe/Berlin:20260409T153000
UID:U03001-20260409T123000@EFBOLDENBURG
SUMMARY:FAZO - Pädagogischer Mittagstisch für Grundschulkinder (U03001) 
LOCATION:Ev. Familien-Bildungsstätte, Werkraum,  Gorch-Fock-Str. 5 a, 26135 Oldenburg
END:VEVENT
BEGIN:VEVENT
DTSTAMP:20260422T110306
DTSTART;TZID=Europe/Berlin:20260413T123000
DTEND;TZID=Europe/Berlin:20260413T153000
UID:U03001-20260413T123000@EFBOLDENBURG
SUMMARY:FAZO - Pädagogischer Mittagstisch für Grundschulkinder (U03001) 
LOCATION:Ev. Familien-Bildungsstätte, Werkraum,  Gorch-Fock-Str. 5 a, 26135 Oldenburg
END:VEVENT
BEGIN:VEVENT
DTSTAMP:20260422T110306
DTSTART;TZID=Europe/Berlin:20260414T123000
DTEND;TZID=Europe/Berlin:20260414T153000
UID:U03001-20260414T123000@EFBOLDENBURG
SUMMARY:FAZO - Pädagogischer Mittagstisch für Grundschulkinder (U03001) 
LOCATION:Ev. Familien-Bildungsstätte, Werkraum,  Gorch-Fock-Str. 5 a, 26135 Oldenburg
END:VEVENT
BEGIN:VEVENT
DTSTAMP:20260422T110306
DTSTART;TZID=Europe/Berlin:20260415T123000
DTEND;TZID=Europe/Berlin:20260415T153000
UID:U03001-20260415T123000@EFBOLDENBURG
SUMMARY:FAZO - Pädagogischer Mittagstisch für Grundschulkinder (U03001) 
LOCATION:Ev. Familien-Bildungsstätte, Werkraum,  Gorch-Fock-Str. 5 a, 26135 Oldenburg
END:VEVENT
BEGIN:VEVENT
DTSTAMP:20260422T110306
DTSTART;TZID=Europe/Berlin:20260416T123000
DTEND;TZID=Europe/Berlin:20260416T153000
UID:U03001-20260416T123000@EFBOLDENBURG
SUMMARY:FAZO - Pädagogischer Mittagstisch für Grundschulkinder (U03001) 
LOCATION:Ev. Familien-Bildungsstätte, Werkraum,  Gorch-Fock-Str. 5 a, 26135 Oldenburg
END:VEVENT
BEGIN:VEVENT
DTSTAMP:20260422T110306
DTSTART;TZID=Europe/Berlin:20260420T123000
DTEND;TZID=Europe/Berlin:20260420T153000
UID:U03001-20260420T123000@EFBOLDENBURG
SUMMARY:FAZO - Pädagogischer Mittagstisch für Grundschulkinder (U03001) 
LOCATION:Ev. Familien-Bildungsstätte, Werkraum,  Gorch-Fock-Str. 5 a, 26135 Oldenburg
END:VEVENT
BEGIN:VEVENT
DTSTAMP:20260422T110306
DTSTART;TZID=Europe/Berlin:20260421T123000
DTEND;TZID=Europe/Berlin:20260421T153000
UID:U03001-20260421T123000@EFBOLDENBURG
SUMMARY:FAZO - Pädagogischer Mittagstisch für Grundschulkinder (U03001) 
LOCATION:Ev. Familien-Bildungsstätte, Werkraum,  Gorch-Fock-Str. 5 a, 26135 Oldenburg
END:VEVENT
BEGIN:VEVENT
DTSTAMP:20260422T110306
DTSTART;TZID=Europe/Berlin:20260422T123000
DTEND;TZID=Europe/Berlin:20260422T153000
UID:U03001-20260422T123000@EFBOLDENBURG
SUMMARY:FAZO - Pädagogischer Mittagstisch für Grundschulkinder (U03001) 
LOCATION:Ev. Familien-Bildungsstätte, Werkraum,  Gorch-Fock-Str. 5 a, 26135 Oldenburg
END:VEVENT
BEGIN:VEVENT
DTSTAMP:20260422T110306
DTSTART;TZID=Europe/Berlin:20260423T123000
DTEND;TZID=Europe/Berlin:20260423T153000
UID:U03001-20260423T123000@EFBOLDENBURG
SUMMARY:FAZO - Pädagogischer Mittagstisch für Grundschulkinder (U03001) 
LOCATION:Ev. Familien-Bildungsstätte, Werkraum,  Gorch-Fock-Str. 5 a, 26135 Oldenburg
END:VEVENT
BEGIN:VEVENT
DTSTAMP:20260422T110306
DTSTART;TZID=Europe/Berlin:20260427T123000
DTEND;TZID=Europe/Berlin:20260427T153000
UID:U03001-20260427T123000@EFBOLDENBURG
SUMMARY:FAZO - Pädagogischer Mittagstisch für Grundschulkinder (U03001) 
LOCATION:Ev. Familien-Bildungsstätte, Werkraum,  Gorch-Fock-Str. 5 a, 26135 Oldenburg
END:VEVENT
BEGIN:VEVENT
DTSTAMP:20260422T110306
DTSTART;TZID=Europe/Berlin:20260428T123000
DTEND;TZID=Europe/Berlin:20260428T153000
UID:U03001-20260428T123000@EFBOLDENBURG
SUMMARY:FAZO - Pädagogischer Mittagstisch für Grundschulkinder (U03001) 
LOCATION:Ev. Familien-Bildungsstätte, Werkraum,  Gorch-Fock-Str. 5 a, 26135 Oldenburg
END:VEVENT
BEGIN:VEVENT
DTSTAMP:20260422T110306
DTSTART;TZID=Europe/Berlin:20260429T123000
DTEND;TZID=Europe/Berlin:20260429T153000
UID:U03001-20260429T123000@EFBOLDENBURG
SUMMARY:FAZO - Pädagogischer Mittagstisch für Grundschulkinder (U03001) 
LOCATION:Ev. Familien-Bildungsstätte, Werkraum,  Gorch-Fock-Str. 5 a, 26135 Oldenburg
END:VEVENT
BEGIN:VEVENT
DTSTAMP:20260422T110306
DTSTART;TZID=Europe/Berlin:20260430T123000
DTEND;TZID=Europe/Berlin:20260430T153000
UID:U03001-20260430T123000@EFBOLDENBURG
SUMMARY:FAZO - Pädagogischer Mittagstisch für Grundschulkinder (U03001) 
LOCATION:Ev. Familien-Bildungsstätte, Werkraum,  Gorch-Fock-Str. 5 a, 26135 Oldenburg
END:VEVENT
BEGIN:VEVENT
DTSTAMP:20260422T110306
DTSTART;TZID=Europe/Berlin:20260504T123000
DTEND;TZID=Europe/Berlin:20260504T153000
UID:U03001-20260504T123000@EFBOLDENBURG
SUMMARY:FAZO - Pädagogischer Mittagstisch für Grundschulkinder (U03001) 
LOCATION:Ev. Familien-Bildungsstätte, Werkraum,  Gorch-Fock-Str. 5 a, 26135 Oldenburg
END:VEVENT
BEGIN:VEVENT
DTSTAMP:20260422T110306
DTSTART;TZID=Europe/Berlin:20260505T123000
DTEND;TZID=Europe/Berlin:20260505T153000
UID:U03001-20260505T123000@EFBOLDENBURG
SUMMARY:FAZO - Pädagogischer Mittagstisch für Grundschulkinder (U03001) 
LOCATION:Ev. Familien-Bildungsstätte, Werkraum,  Gorch-Fock-Str. 5 a, 26135 Oldenburg
END:VEVENT
BEGIN:VEVENT
DTSTAMP:20260422T110306
DTSTART;TZID=Europe/Berlin:20260506T123000
DTEND;TZID=Europe/Berlin:20260506T153000
UID:U03001-20260506T123000@EFBOLDENBURG
SUMMARY:FAZO - Pädagogischer Mittagstisch für Grundschulkinder (U03001) 
LOCATION:Ev. Familien-Bildungsstätte, Werkraum,  Gorch-Fock-Str. 5 a, 26135 Oldenburg
END:VEVENT
BEGIN:VEVENT
DTSTAMP:20260422T110306
DTSTART;TZID=Europe/Berlin:20260507T123000
DTEND;TZID=Europe/Berlin:20260507T153000
UID:U03001-20260507T123000@EFBOLDENBURG
SUMMARY:FAZO - Pädagogischer Mittagstisch für Grundschulkinder (U03001) 
LOCATION:Ev. Familien-Bildungsstätte, Werkraum,  Gorch-Fock-Str. 5 a, 26135 Oldenburg
END:VEVENT
BEGIN:VEVENT
DTSTAMP:20260422T110306
DTSTART;TZID=Europe/Berlin:20260511T123000
DTEND;TZID=Europe/Berlin:20260511T153000
UID:U03001-20260511T123000@EFBOLDENBURG
SUMMARY:FAZO - Pädagogischer Mittagstisch für Grundschulkinder (U03001) 
LOCATION:Ev. Familien-Bildungsstätte, Werkraum,  Gorch-Fock-Str. 5 a, 26135 Oldenburg
END:VEVENT
BEGIN:VEVENT
DTSTAMP:20260422T110306
DTSTART;TZID=Europe/Berlin:20260512T123000
DTEND;TZID=Europe/Berlin:20260512T153000
UID:U03001-20260512T123000@EFBOLDENBURG
SUMMARY:FAZO - Pädagogischer Mittagstisch für Grundschulkinder (U03001) 
LOCATION:Ev. Familien-Bildungsstätte, Werkraum,  Gorch-Fock-Str. 5 a, 26135 Oldenburg
END:VEVENT
BEGIN:VEVENT
DTSTAMP:20260422T110306
DTSTART;TZID=Europe/Berlin:20260513T123000
DTEND;TZID=Europe/Berlin:20260513T153000
UID:U03001-20260513T123000@EFBOLDENBURG
SUMMARY:FAZO - Pädagogischer Mittagstisch für Grundschulkinder (U03001) 
LOCATION:Ev. Familien-Bildungsstätte, Werkraum,  Gorch-Fock-Str. 5 a, 26135 Oldenburg
END:VEVENT
BEGIN:VEVENT
DTSTAMP:20260422T110306
DTSTART;TZID=Europe/Berlin:20260518T123000
DTEND;TZID=Europe/Berlin:20260518T153000
UID:U03001-20260518T123000@EFBOLDENBURG
SUMMARY:FAZO - Pädagogischer Mittagstisch für Grundschulkinder (U03001) 
LOCATION:Ev. Familien-Bildungsstätte, Werkraum,  Gorch-Fock-Str. 5 a, 26135 Oldenburg
END:VEVENT
END:VCALENDAR