BEGIN:VCALENDAR
VERSION:2.0
PRODID:https://www.kufer.de/kuferweb / DE
METHOD:PUBLISH
CALSCALE:GREGORIAN
X-WR-TIMEZONE:Europe/Berlin
BEGIN:VTIMEZONE
TZID:Europe/Berlin
X-LIC-LOCATION:Europe/Berlin
BEGIN:DAYLIGHT
TZOFFSETFROM:+0100
TZOFFSETTO:+0200
TZNAME:CEST
DTSTART:19700329T020000
RRULE:FREQ=YEARLY;INTERVAL=1;BYDAY=-1SU;BYMONTH=3
END:DAYLIGHT
BEGIN:STANDARD
TZOFFSETFROM:+0200
TZOFFSETTO:+0100
TZNAME:CET
DTSTART:19701025T030000
RRULE:FREQ=YEARLY;INTERVAL=1;BYDAY=-1SU;BYMONTH=10
END:STANDARD
END:VTIMEZONE
BEGIN:VEVENT
DTSTAMP:20260421T220223
DTSTART;TZID=Europe/Berlin:20260907T160000
DTEND;TZID=Europe/Berlin:20260907T173000
UID:U05609-20260907T160000@EFBOLDENBURG
SUMMARY:FAZO - "Stricken verbindet" - Offener Stricktreff mit Anleitung  (U05609) 
LOCATION:Ev. Familien-Bildungsstätte, Nähraum,  Gorch-Fock-Str. 5 a, 26135 Oldenburg
END:VEVENT
BEGIN:VEVENT
DTSTAMP:20260421T220223
DTSTART;TZID=Europe/Berlin:20260914T160000
DTEND;TZID=Europe/Berlin:20260914T173000
UID:U05609-20260914T160000@EFBOLDENBURG
SUMMARY:FAZO - "Stricken verbindet" - Offener Stricktreff mit Anleitung  (U05609) 
LOCATION:Ev. Familien-Bildungsstätte, Nähraum,  Gorch-Fock-Str. 5 a, 26135 Oldenburg
END:VEVENT
BEGIN:VEVENT
DTSTAMP:20260421T220223
DTSTART;TZID=Europe/Berlin:20260921T160000
DTEND;TZID=Europe/Berlin:20260921T173000
UID:U05609-20260921T160000@EFBOLDENBURG
SUMMARY:FAZO - "Stricken verbindet" - Offener Stricktreff mit Anleitung  (U05609) 
LOCATION:Ev. Familien-Bildungsstätte, Nähraum,  Gorch-Fock-Str. 5 a, 26135 Oldenburg
END:VEVENT
BEGIN:VEVENT
DTSTAMP:20260421T220223
DTSTART;TZID=Europe/Berlin:20260928T160000
DTEND;TZID=Europe/Berlin:20260928T173000
UID:U05609-20260928T160000@EFBOLDENBURG
SUMMARY:FAZO - "Stricken verbindet" - Offener Stricktreff mit Anleitung  (U05609) 
LOCATION:Ev. Familien-Bildungsstätte, Nähraum,  Gorch-Fock-Str. 5 a, 26135 Oldenburg
END:VEVENT
END:VCALENDAR