BEGIN:VCALENDAR
VERSION:2.0
PRODID:https://www.kufer.de/kuferweb / DE
METHOD:PUBLISH
CALSCALE:GREGORIAN
X-WR-TIMEZONE:Europe/Berlin
BEGIN:VTIMEZONE
TZID:Europe/Berlin
X-LIC-LOCATION:Europe/Berlin
BEGIN:DAYLIGHT
TZOFFSETFROM:+0100
TZOFFSETTO:+0200
TZNAME:CEST
DTSTART:19700329T020000
RRULE:FREQ=YEARLY;INTERVAL=1;BYDAY=-1SU;BYMONTH=3
END:DAYLIGHT
BEGIN:STANDARD
TZOFFSETFROM:+0200
TZOFFSETTO:+0100
TZNAME:CET
DTSTART:19701025T030000
RRULE:FREQ=YEARLY;INTERVAL=1;BYDAY=-1SU;BYMONTH=10
END:STANDARD
END:VTIMEZONE
BEGIN:VEVENT
DTSTAMP:20260422T000907
DTSTART;TZID=Europe/Berlin:20261102T160000
DTEND;TZID=Europe/Berlin:20261102T173000
UID:U05611-20261102T160000@EFBOLDENBURG
SUMMARY:FAZO - "Stricken verbindet" - Offener Stricktreff mit Anleitung  (U05611) 
LOCATION:Ev. Familien-Bildungsstätte, Nähraum,  Gorch-Fock-Str. 5 a, 26135 Oldenburg
END:VEVENT
BEGIN:VEVENT
DTSTAMP:20260422T000907
DTSTART;TZID=Europe/Berlin:20261109T160000
DTEND;TZID=Europe/Berlin:20261109T173000
UID:U05611-20261109T160000@EFBOLDENBURG
SUMMARY:FAZO - "Stricken verbindet" - Offener Stricktreff mit Anleitung  (U05611) 
LOCATION:Ev. Familien-Bildungsstätte, Nähraum,  Gorch-Fock-Str. 5 a, 26135 Oldenburg
END:VEVENT
BEGIN:VEVENT
DTSTAMP:20260422T000907
DTSTART;TZID=Europe/Berlin:20261116T160000
DTEND;TZID=Europe/Berlin:20261116T173000
UID:U05611-20261116T160000@EFBOLDENBURG
SUMMARY:FAZO - "Stricken verbindet" - Offener Stricktreff mit Anleitung  (U05611) 
LOCATION:Ev. Familien-Bildungsstätte, Nähraum,  Gorch-Fock-Str. 5 a, 26135 Oldenburg
END:VEVENT
BEGIN:VEVENT
DTSTAMP:20260422T000907
DTSTART;TZID=Europe/Berlin:20261123T160000
DTEND;TZID=Europe/Berlin:20261123T173000
UID:U05611-20261123T160000@EFBOLDENBURG
SUMMARY:FAZO - "Stricken verbindet" - Offener Stricktreff mit Anleitung  (U05611) 
LOCATION:Ev. Familien-Bildungsstätte, Nähraum,  Gorch-Fock-Str. 5 a, 26135 Oldenburg
END:VEVENT
BEGIN:VEVENT
DTSTAMP:20260422T000907
DTSTART;TZID=Europe/Berlin:20261130T160000
DTEND;TZID=Europe/Berlin:20261130T173000
UID:U05611-20261130T160000@EFBOLDENBURG
SUMMARY:FAZO - "Stricken verbindet" - Offener Stricktreff mit Anleitung  (U05611) 
LOCATION:Ev. Familien-Bildungsstätte, Nähraum,  Gorch-Fock-Str. 5 a, 26135 Oldenburg
END:VEVENT
END:VCALENDAR