BEGIN:VCALENDAR
VERSION:2.0
PRODID:https://www.kufer.de/kuferweb / DE
METHOD:PUBLISH
CALSCALE:GREGORIAN
X-WR-TIMEZONE:Europe/Berlin
BEGIN:VTIMEZONE
TZID:Europe/Berlin
X-LIC-LOCATION:Europe/Berlin
BEGIN:DAYLIGHT
TZOFFSETFROM:+0100
TZOFFSETTO:+0200
TZNAME:CEST
DTSTART:19700329T020000
RRULE:FREQ=YEARLY;INTERVAL=1;BYDAY=-1SU;BYMONTH=3
END:DAYLIGHT
BEGIN:STANDARD
TZOFFSETFROM:+0200
TZOFFSETTO:+0100
TZNAME:CET
DTSTART:19701025T030000
RRULE:FREQ=YEARLY;INTERVAL=1;BYDAY=-1SU;BYMONTH=10
END:STANDARD
END:VTIMEZONE
BEGIN:VEVENT
DTSTAMP:20260421T171729
DTSTART;TZID=Europe/Berlin:20260108T173000
DTEND;TZID=Europe/Berlin:20260108T190000
UID:U09301-20260108T173000@EFBOLDENBURG
SUMMARY:FAZO - Ukulele - Spaß am gemeinsamen Musizieren (U09301) 
LOCATION:Ev. Familien-Bildungsstätte, Nähraum,  Gorch-Fock-Str. 5 a, 26135 Oldenburg
END:VEVENT
BEGIN:VEVENT
DTSTAMP:20260421T171729
DTSTART;TZID=Europe/Berlin:20260122T173000
DTEND;TZID=Europe/Berlin:20260122T190000
UID:U09301-20260122T173000@EFBOLDENBURG
SUMMARY:FAZO - Ukulele - Spaß am gemeinsamen Musizieren (U09301) 
LOCATION:Ev. Familien-Bildungsstätte, Nähraum,  Gorch-Fock-Str. 5 a, 26135 Oldenburg
END:VEVENT
BEGIN:VEVENT
DTSTAMP:20260421T171729
DTSTART;TZID=Europe/Berlin:20260205T173000
DTEND;TZID=Europe/Berlin:20260205T190000
UID:U09301-20260205T173000@EFBOLDENBURG
SUMMARY:FAZO - Ukulele - Spaß am gemeinsamen Musizieren (U09301) 
LOCATION:Ev. Familien-Bildungsstätte, Nähraum,  Gorch-Fock-Str. 5 a, 26135 Oldenburg
END:VEVENT
BEGIN:VEVENT
DTSTAMP:20260421T171729
DTSTART;TZID=Europe/Berlin:20260219T173000
DTEND;TZID=Europe/Berlin:20260219T190000
UID:U09301-20260219T173000@EFBOLDENBURG
SUMMARY:FAZO - Ukulele - Spaß am gemeinsamen Musizieren (U09301) 
LOCATION:Ev. Familien-Bildungsstätte, Nähraum,  Gorch-Fock-Str. 5 a, 26135 Oldenburg
END:VEVENT
BEGIN:VEVENT
DTSTAMP:20260421T171729
DTSTART;TZID=Europe/Berlin:20260305T173000
DTEND;TZID=Europe/Berlin:20260305T190000
UID:U09301-20260305T173000@EFBOLDENBURG
SUMMARY:FAZO - Ukulele - Spaß am gemeinsamen Musizieren (U09301) 
LOCATION:Ev. Familien-Bildungsstätte, Nähraum,  Gorch-Fock-Str. 5 a, 26135 Oldenburg
END:VEVENT
BEGIN:VEVENT
DTSTAMP:20260421T171729
DTSTART;TZID=Europe/Berlin:20260319T173000
DTEND;TZID=Europe/Berlin:20260319T190000
UID:U09301-20260319T173000@EFBOLDENBURG
SUMMARY:FAZO - Ukulele - Spaß am gemeinsamen Musizieren (U09301) 
LOCATION:Ev. Familien-Bildungsstätte, Nähraum,  Gorch-Fock-Str. 5 a, 26135 Oldenburg
END:VEVENT
BEGIN:VEVENT
DTSTAMP:20260421T171729
DTSTART;TZID=Europe/Berlin:20260416T173000
DTEND;TZID=Europe/Berlin:20260416T190000
UID:U09301-20260416T173000@EFBOLDENBURG
SUMMARY:FAZO - Ukulele - Spaß am gemeinsamen Musizieren (U09301) 
LOCATION:Ev. Familien-Bildungsstätte, Nähraum,  Gorch-Fock-Str. 5 a, 26135 Oldenburg
END:VEVENT
BEGIN:VEVENT
DTSTAMP:20260421T171729
DTSTART;TZID=Europe/Berlin:20260430T173000
DTEND;TZID=Europe/Berlin:20260430T190000
UID:U09301-20260430T173000@EFBOLDENBURG
SUMMARY:FAZO - Ukulele - Spaß am gemeinsamen Musizieren (U09301) 
LOCATION:Ev. Familien-Bildungsstätte, Nähraum,  Gorch-Fock-Str. 5 a, 26135 Oldenburg
END:VEVENT
BEGIN:VEVENT
DTSTAMP:20260421T171729
DTSTART;TZID=Europe/Berlin:20260528T173000
DTEND;TZID=Europe/Berlin:20260528T190000
UID:U09301-20260528T173000@EFBOLDENBURG
SUMMARY:FAZO - Ukulele - Spaß am gemeinsamen Musizieren (U09301) 
LOCATION:Ev. Familien-Bildungsstätte, Nähraum,  Gorch-Fock-Str. 5 a, 26135 Oldenburg
END:VEVENT
BEGIN:VEVENT
DTSTAMP:20260421T171729
DTSTART;TZID=Europe/Berlin:20260611T173000
DTEND;TZID=Europe/Berlin:20260611T190000
UID:U09301-20260611T173000@EFBOLDENBURG
SUMMARY:FAZO - Ukulele - Spaß am gemeinsamen Musizieren (U09301) 
LOCATION:Ev. Familien-Bildungsstätte, Nähraum,  Gorch-Fock-Str. 5 a, 26135 Oldenburg
END:VEVENT
BEGIN:VEVENT
DTSTAMP:20260421T171729
DTSTART;TZID=Europe/Berlin:20260625T173000
DTEND;TZID=Europe/Berlin:20260625T190000
UID:U09301-20260625T173000@EFBOLDENBURG
SUMMARY:FAZO - Ukulele - Spaß am gemeinsamen Musizieren (U09301) 
LOCATION:Ev. Familien-Bildungsstätte, Nähraum,  Gorch-Fock-Str. 5 a, 26135 Oldenburg
END:VEVENT
END:VCALENDAR