BEGIN:VCALENDAR
VERSION:2.0
PRODID:https://www.kufer.de/kuferweb / DE
METHOD:PUBLISH
CALSCALE:GREGORIAN
X-WR-TIMEZONE:Europe/Berlin
BEGIN:VTIMEZONE
TZID:Europe/Berlin
X-LIC-LOCATION:Europe/Berlin
BEGIN:DAYLIGHT
TZOFFSETFROM:+0100
TZOFFSETTO:+0200
TZNAME:CEST
DTSTART:19700329T020000
RRULE:FREQ=YEARLY;INTERVAL=1;BYDAY=-1SU;BYMONTH=3
END:DAYLIGHT
BEGIN:STANDARD
TZOFFSETFROM:+0200
TZOFFSETTO:+0100
TZNAME:CET
DTSTART:19701025T030000
RRULE:FREQ=YEARLY;INTERVAL=1;BYDAY=-1SU;BYMONTH=10
END:STANDARD
END:VTIMEZONE
BEGIN:VEVENT
DTSTAMP:20260423T105636
DTSTART;TZID=Europe/Berlin:20260902T200000
DTEND;TZID=Europe/Berlin:20260902T221500
UID:U12008-20260902T200000@EFBOLDENBURG
SUMMARY:Handwerkszeug für Eltern -  Damit der Familienalltag (noch) besser gelingt (U12008) 
LOCATION:Ev. Familien-Bildungsstätte, Nähraum,  Gorch-Fock-Str. 5 a, 26135 Oldenburg
END:VEVENT
BEGIN:VEVENT
DTSTAMP:20260423T105636
DTSTART;TZID=Europe/Berlin:20260909T200000
DTEND;TZID=Europe/Berlin:20260909T221500
UID:U12008-20260909T200000@EFBOLDENBURG
SUMMARY:Handwerkszeug für Eltern -  Damit der Familienalltag (noch) besser gelingt (U12008) 
LOCATION:Ev. Familien-Bildungsstätte, Gesprächsraum, Gorch-Fock-Str. 5 a, 26135 Oldenburg
END:VEVENT
BEGIN:VEVENT
DTSTAMP:20260423T105636
DTSTART;TZID=Europe/Berlin:20260916T200000
DTEND;TZID=Europe/Berlin:20260916T221500
UID:U12008-20260916T200000@EFBOLDENBURG
SUMMARY:Handwerkszeug für Eltern -  Damit der Familienalltag (noch) besser gelingt (U12008) 
LOCATION:Ev. Familien-Bildungsstätte, Gesprächsraum, Gorch-Fock-Str. 5 a, 26135 Oldenburg
END:VEVENT
BEGIN:VEVENT
DTSTAMP:20260423T105636
DTSTART;TZID=Europe/Berlin:20260923T200000
DTEND;TZID=Europe/Berlin:20260923T221500
UID:U12008-20260923T200000@EFBOLDENBURG
SUMMARY:Handwerkszeug für Eltern -  Damit der Familienalltag (noch) besser gelingt (U12008) 
LOCATION:Ev. Familien-Bildungsstätte, Gesprächsraum, Gorch-Fock-Str. 5 a, 26135 Oldenburg
END:VEVENT
END:VCALENDAR