BEGIN:VCALENDAR
VERSION:2.0
PRODID:https://www.kufer.de/kuferweb / DE
METHOD:PUBLISH
CALSCALE:GREGORIAN
X-WR-TIMEZONE:Europe/Berlin
BEGIN:VTIMEZONE
TZID:Europe/Berlin
X-LIC-LOCATION:Europe/Berlin
BEGIN:DAYLIGHT
TZOFFSETFROM:+0100
TZOFFSETTO:+0200
TZNAME:CEST
DTSTART:19700329T020000
RRULE:FREQ=YEARLY;INTERVAL=1;BYDAY=-1SU;BYMONTH=3
END:DAYLIGHT
BEGIN:STANDARD
TZOFFSETFROM:+0200
TZOFFSETTO:+0100
TZNAME:CET
DTSTART:19701025T030000
RRULE:FREQ=YEARLY;INTERVAL=1;BYDAY=-1SU;BYMONTH=10
END:STANDARD
END:VTIMEZONE
BEGIN:VEVENT
DTSTAMP:20260421T165937
DTSTART;TZID=Europe/Berlin:20260304T174500
DTEND;TZID=Europe/Berlin:20260304T191500
UID:U13001-20260304T174500@EFBOLDENBURG
SUMMARY:Geburtsvorbereitung für Frauen/Paare (U13001) 
LOCATION:Ev. Familien-Bildungsstätte, Kinderraum, Gorch-Fock-Str. 5 a, 26135 Oldenburg
END:VEVENT
BEGIN:VEVENT
DTSTAMP:20260421T165937
DTSTART;TZID=Europe/Berlin:20260311T174500
DTEND;TZID=Europe/Berlin:20260311T191500
UID:U13001-20260311T174500@EFBOLDENBURG
SUMMARY:Geburtsvorbereitung für Frauen/Paare (U13001) 
LOCATION:Ev. Familien-Bildungsstätte, Kinderraum, Gorch-Fock-Str. 5 a, 26135 Oldenburg
END:VEVENT
BEGIN:VEVENT
DTSTAMP:20260421T165937
DTSTART;TZID=Europe/Berlin:20260318T174500
DTEND;TZID=Europe/Berlin:20260318T191500
UID:U13001-20260318T174500@EFBOLDENBURG
SUMMARY:Geburtsvorbereitung für Frauen/Paare (U13001) 
LOCATION:Ev. Familien-Bildungsstätte, Kinderraum, Gorch-Fock-Str. 5 a, 26135 Oldenburg
END:VEVENT
BEGIN:VEVENT
DTSTAMP:20260421T165937
DTSTART;TZID=Europe/Berlin:20260408T174500
DTEND;TZID=Europe/Berlin:20260408T191500
UID:U13001-20260408T174500@EFBOLDENBURG
SUMMARY:Geburtsvorbereitung für Frauen/Paare (U13001) 
LOCATION:Ev. Familien-Bildungsstätte, Kinderraum, Gorch-Fock-Str. 5 a, 26135 Oldenburg
END:VEVENT
BEGIN:VEVENT
DTSTAMP:20260421T165937
DTSTART;TZID=Europe/Berlin:20260408T191500
DTEND;TZID=Europe/Berlin:20260408T204500
UID:U13001-20260408T191500@EFBOLDENBURG
DESCRIPTION:Ersatz für Ausfall am 29.04.2026 Ersatz für Ausfall am 01.04.2026
SUMMARY:Geburtsvorbereitung für Frauen/Paare (U13001) 
LOCATION:Ev. Familien-Bildungsstätte, Kinderraum, Gorch-Fock-Str. 5 a, 26135 Oldenburg
END:VEVENT
BEGIN:VEVENT
DTSTAMP:20260421T165937
DTSTART;TZID=Europe/Berlin:20260415T174500
DTEND;TZID=Europe/Berlin:20260415T191500
UID:U13001-20260415T174500@EFBOLDENBURG
DESCRIPTION:wird nachgeholt am 22.04.2026
SUMMARY:Geburtsvorbereitung für Frauen/Paare (U13001) 
LOCATION:Ev. Familien-Bildungsstätte, Kinderraum, Gorch-Fock-Str. 5 a, 26135 Oldenburg
END:VEVENT
BEGIN:VEVENT
DTSTAMP:20260421T165937
DTSTART;TZID=Europe/Berlin:20260415T191500
DTEND;TZID=Europe/Berlin:20260415T204500
UID:U13001-20260415T191500@EFBOLDENBURG
DESCRIPTION:Ersatz für Ausfall am 15.04.2026
SUMMARY:Geburtsvorbereitung für Frauen/Paare (U13001) 
LOCATION:Ev. Familien-Bildungsstätte, Kinderraum, Gorch-Fock-Str. 5 a, 26135 Oldenburg
END:VEVENT
BEGIN:VEVENT
DTSTAMP:20260421T165937
DTSTART;TZID=Europe/Berlin:20260422T174500
DTEND;TZID=Europe/Berlin:20260422T191500
UID:U13001-20260422T174500@EFBOLDENBURG
DESCRIPTION:wird nachgeholt am 01.04.2026
SUMMARY:Geburtsvorbereitung für Frauen/Paare (U13001) 
LOCATION:Ev. Familien-Bildungsstätte, Kinderraum, Gorch-Fock-Str. 5 a, 26135 Oldenburg
END:VEVENT
END:VCALENDAR