BEGIN:VCALENDAR
VERSION:2.0
PRODID:https://www.kufer.de/kuferweb / DE
METHOD:PUBLISH
CALSCALE:GREGORIAN
X-WR-TIMEZONE:Europe/Berlin
BEGIN:VTIMEZONE
TZID:Europe/Berlin
X-LIC-LOCATION:Europe/Berlin
BEGIN:DAYLIGHT
TZOFFSETFROM:+0100
TZOFFSETTO:+0200
TZNAME:CEST
DTSTART:19700329T020000
RRULE:FREQ=YEARLY;INTERVAL=1;BYDAY=-1SU;BYMONTH=3
END:DAYLIGHT
BEGIN:STANDARD
TZOFFSETFROM:+0200
TZOFFSETTO:+0100
TZNAME:CET
DTSTART:19701025T030000
RRULE:FREQ=YEARLY;INTERVAL=1;BYDAY=-1SU;BYMONTH=10
END:STANDARD
END:VTIMEZONE
BEGIN:VEVENT
DTSTAMP:20260421T191602
DTSTART;TZID=Europe/Berlin:20260701T174500
DTEND;TZID=Europe/Berlin:20260701T191500
UID:U13002-20260701T174500@EFBOLDENBURG
SUMMARY:Geburtsvorbereitung für Frauen/Paare (U13002) 
LOCATION:Ev. Familien-Bildungsstätte, Kinderraum, Gorch-Fock-Str. 5 a, 26135 Oldenburg
END:VEVENT
BEGIN:VEVENT
DTSTAMP:20260421T191602
DTSTART;TZID=Europe/Berlin:20260708T174500
DTEND;TZID=Europe/Berlin:20260708T191500
UID:U13002-20260708T174500@EFBOLDENBURG
SUMMARY:Geburtsvorbereitung für Frauen/Paare (U13002) 
LOCATION:Ev. Familien-Bildungsstätte, Kinderraum, Gorch-Fock-Str. 5 a, 26135 Oldenburg
END:VEVENT
BEGIN:VEVENT
DTSTAMP:20260421T191602
DTSTART;TZID=Europe/Berlin:20260715T174500
DTEND;TZID=Europe/Berlin:20260715T191500
UID:U13002-20260715T174500@EFBOLDENBURG
SUMMARY:Geburtsvorbereitung für Frauen/Paare (U13002) 
LOCATION:Ev. Familien-Bildungsstätte, Kinderraum, Gorch-Fock-Str. 5 a, 26135 Oldenburg
END:VEVENT
BEGIN:VEVENT
DTSTAMP:20260421T191602
DTSTART;TZID=Europe/Berlin:20260722T174500
DTEND;TZID=Europe/Berlin:20260722T191500
UID:U13002-20260722T174500@EFBOLDENBURG
SUMMARY:Geburtsvorbereitung für Frauen/Paare (U13002) 
LOCATION:Ev. Familien-Bildungsstätte, Kinderraum, Gorch-Fock-Str. 5 a, 26135 Oldenburg
END:VEVENT
BEGIN:VEVENT
DTSTAMP:20260421T191602
DTSTART;TZID=Europe/Berlin:20260729T174500
DTEND;TZID=Europe/Berlin:20260729T191500
UID:U13002-20260729T174500@EFBOLDENBURG
SUMMARY:Geburtsvorbereitung für Frauen/Paare (U13002) 
LOCATION:Ev. Familien-Bildungsstätte, Kinderraum, Gorch-Fock-Str. 5 a, 26135 Oldenburg
END:VEVENT
BEGIN:VEVENT
DTSTAMP:20260421T191602
DTSTART;TZID=Europe/Berlin:20260805T174500
DTEND;TZID=Europe/Berlin:20260805T191500
UID:U13002-20260805T174500@EFBOLDENBURG
SUMMARY:Geburtsvorbereitung für Frauen/Paare (U13002) 
LOCATION:Ev. Familien-Bildungsstätte, Kinderraum, Gorch-Fock-Str. 5 a, 26135 Oldenburg
END:VEVENT
BEGIN:VEVENT
DTSTAMP:20260421T191602
DTSTART;TZID=Europe/Berlin:20260812T174500
DTEND;TZID=Europe/Berlin:20260812T191500
UID:U13002-20260812T174500@EFBOLDENBURG
SUMMARY:Geburtsvorbereitung für Frauen/Paare (U13002) 
LOCATION:Ev. Familien-Bildungsstätte, Kinderraum, Gorch-Fock-Str. 5 a, 26135 Oldenburg
END:VEVENT
BEGIN:VEVENT
DTSTAMP:20260421T191602
DTSTART;TZID=Europe/Berlin:20260819T174500
DTEND;TZID=Europe/Berlin:20260819T191500
UID:U13002-20260819T174500@EFBOLDENBURG
SUMMARY:Geburtsvorbereitung für Frauen/Paare (U13002) 
LOCATION:Ev. Familien-Bildungsstätte, Kinderraum, Gorch-Fock-Str. 5 a, 26135 Oldenburg
END:VEVENT
END:VCALENDAR