BEGIN:VCALENDAR
VERSION:2.0
PRODID:https://www.kufer.de/kuferweb / DE
METHOD:PUBLISH
CALSCALE:GREGORIAN
X-WR-TIMEZONE:Europe/Berlin
BEGIN:VTIMEZONE
TZID:Europe/Berlin
X-LIC-LOCATION:Europe/Berlin
BEGIN:DAYLIGHT
TZOFFSETFROM:+0100
TZOFFSETTO:+0200
TZNAME:CEST
DTSTART:19700329T020000
RRULE:FREQ=YEARLY;INTERVAL=1;BYDAY=-1SU;BYMONTH=3
END:DAYLIGHT
BEGIN:STANDARD
TZOFFSETFROM:+0200
TZOFFSETTO:+0100
TZNAME:CET
DTSTART:19701025T030000
RRULE:FREQ=YEARLY;INTERVAL=1;BYDAY=-1SU;BYMONTH=10
END:STANDARD
END:VTIMEZONE
BEGIN:VEVENT
DTSTAMP:20260421T171823
DTSTART;TZID=Europe/Berlin:20261028T174500
DTEND;TZID=Europe/Berlin:20261028T191500
UID:U13003-20261028T174500@EFBOLDENBURG
SUMMARY:Geburtsvorbereitung für Frauen/Paare (U13003) 
LOCATION:Ev. Familien-Bildungsstätte, Kinderraum, Gorch-Fock-Str. 5 a, 26135 Oldenburg
END:VEVENT
BEGIN:VEVENT
DTSTAMP:20260421T171823
DTSTART;TZID=Europe/Berlin:20261104T174500
DTEND;TZID=Europe/Berlin:20261104T191500
UID:U13003-20261104T174500@EFBOLDENBURG
SUMMARY:Geburtsvorbereitung für Frauen/Paare (U13003) 
LOCATION:Ev. Familien-Bildungsstätte, Kinderraum, Gorch-Fock-Str. 5 a, 26135 Oldenburg
END:VEVENT
BEGIN:VEVENT
DTSTAMP:20260421T171823
DTSTART;TZID=Europe/Berlin:20261111T174500
DTEND;TZID=Europe/Berlin:20261111T191500
UID:U13003-20261111T174500@EFBOLDENBURG
SUMMARY:Geburtsvorbereitung für Frauen/Paare (U13003) 
LOCATION:Ev. Familien-Bildungsstätte, Kinderraum, Gorch-Fock-Str. 5 a, 26135 Oldenburg
END:VEVENT
BEGIN:VEVENT
DTSTAMP:20260421T171823
DTSTART;TZID=Europe/Berlin:20261118T174500
DTEND;TZID=Europe/Berlin:20261118T191500
UID:U13003-20261118T174500@EFBOLDENBURG
SUMMARY:Geburtsvorbereitung für Frauen/Paare (U13003) 
LOCATION:Ev. Familien-Bildungsstätte, Kinderraum, Gorch-Fock-Str. 5 a, 26135 Oldenburg
END:VEVENT
BEGIN:VEVENT
DTSTAMP:20260421T171823
DTSTART;TZID=Europe/Berlin:20261125T174500
DTEND;TZID=Europe/Berlin:20261125T191500
UID:U13003-20261125T174500@EFBOLDENBURG
SUMMARY:Geburtsvorbereitung für Frauen/Paare (U13003) 
LOCATION:Ev. Familien-Bildungsstätte, Kinderraum, Gorch-Fock-Str. 5 a, 26135 Oldenburg
END:VEVENT
BEGIN:VEVENT
DTSTAMP:20260421T171823
DTSTART;TZID=Europe/Berlin:20261202T174500
DTEND;TZID=Europe/Berlin:20261202T191500
UID:U13003-20261202T174500@EFBOLDENBURG
SUMMARY:Geburtsvorbereitung für Frauen/Paare (U13003) 
LOCATION:Ev. Familien-Bildungsstätte, Kinderraum, Gorch-Fock-Str. 5 a, 26135 Oldenburg
END:VEVENT
BEGIN:VEVENT
DTSTAMP:20260421T171823
DTSTART;TZID=Europe/Berlin:20261209T174500
DTEND;TZID=Europe/Berlin:20261209T191500
UID:U13003-20261209T174500@EFBOLDENBURG
SUMMARY:Geburtsvorbereitung für Frauen/Paare (U13003) 
LOCATION:Ev. Familien-Bildungsstätte, Kinderraum, Gorch-Fock-Str. 5 a, 26135 Oldenburg
END:VEVENT
BEGIN:VEVENT
DTSTAMP:20260421T171823
DTSTART;TZID=Europe/Berlin:20261216T174500
DTEND;TZID=Europe/Berlin:20261216T191500
UID:U13003-20261216T174500@EFBOLDENBURG
SUMMARY:Geburtsvorbereitung für Frauen/Paare (U13003) 
LOCATION:Ev. Familien-Bildungsstätte, Kinderraum, Gorch-Fock-Str. 5 a, 26135 Oldenburg
END:VEVENT
END:VCALENDAR