BEGIN:VCALENDAR
VERSION:2.0
PRODID:https://www.kufer.de/kuferweb / DE
METHOD:PUBLISH
CALSCALE:GREGORIAN
X-WR-TIMEZONE:Europe/Berlin
BEGIN:VTIMEZONE
TZID:Europe/Berlin
X-LIC-LOCATION:Europe/Berlin
BEGIN:DAYLIGHT
TZOFFSETFROM:+0100
TZOFFSETTO:+0200
TZNAME:CEST
DTSTART:19700329T020000
RRULE:FREQ=YEARLY;INTERVAL=1;BYDAY=-1SU;BYMONTH=3
END:DAYLIGHT
BEGIN:STANDARD
TZOFFSETFROM:+0200
TZOFFSETTO:+0100
TZNAME:CET
DTSTART:19701025T030000
RRULE:FREQ=YEARLY;INTERVAL=1;BYDAY=-1SU;BYMONTH=10
END:STANDARD
END:VTIMEZONE
BEGIN:VEVENT
DTSTAMP:20260421T220346
DTSTART;TZID=Europe/Berlin:20260707T173000
DTEND;TZID=Europe/Berlin:20260707T184500
UID:U13014-K-20260707T173000@EFBOLDENBURG
SUMMARY:Rückbildungsyoga ohne Baby (U13014-K) 
LOCATION:Ev. Familien-Bildungsstätte, Kinderraum, Gorch-Fock-Str. 5 a, 26135 Oldenburg
END:VEVENT
BEGIN:VEVENT
DTSTAMP:20260421T220346
DTSTART;TZID=Europe/Berlin:20260714T173000
DTEND;TZID=Europe/Berlin:20260714T184500
UID:U13014-K-20260714T173000@EFBOLDENBURG
SUMMARY:Rückbildungsyoga ohne Baby (U13014-K) 
LOCATION:Ev. Familien-Bildungsstätte, Kinderraum, Gorch-Fock-Str. 5 a, 26135 Oldenburg
END:VEVENT
BEGIN:VEVENT
DTSTAMP:20260421T220346
DTSTART;TZID=Europe/Berlin:20260721T173000
DTEND;TZID=Europe/Berlin:20260721T184500
UID:U13014-K-20260721T173000@EFBOLDENBURG
SUMMARY:Rückbildungsyoga ohne Baby (U13014-K) 
LOCATION:Ev. Familien-Bildungsstätte, Kinderraum, Gorch-Fock-Str. 5 a, 26135 Oldenburg
END:VEVENT
BEGIN:VEVENT
DTSTAMP:20260421T220346
DTSTART;TZID=Europe/Berlin:20260728T173000
DTEND;TZID=Europe/Berlin:20260728T184500
UID:U13014-K-20260728T173000@EFBOLDENBURG
SUMMARY:Rückbildungsyoga ohne Baby (U13014-K) 
LOCATION:Ev. Familien-Bildungsstätte, Kinderraum, Gorch-Fock-Str. 5 a, 26135 Oldenburg
END:VEVENT
BEGIN:VEVENT
DTSTAMP:20260421T220346
DTSTART;TZID=Europe/Berlin:20260804T173000
DTEND;TZID=Europe/Berlin:20260804T184500
UID:U13014-K-20260804T173000@EFBOLDENBURG
SUMMARY:Rückbildungsyoga ohne Baby (U13014-K) 
LOCATION:Ev. Familien-Bildungsstätte, Kinderraum, Gorch-Fock-Str. 5 a, 26135 Oldenburg
END:VEVENT
BEGIN:VEVENT
DTSTAMP:20260421T220346
DTSTART;TZID=Europe/Berlin:20260811T173000
DTEND;TZID=Europe/Berlin:20260811T184500
UID:U13014-K-20260811T173000@EFBOLDENBURG
SUMMARY:Rückbildungsyoga ohne Baby (U13014-K) 
LOCATION:Ev. Familien-Bildungsstätte, Kinderraum, Gorch-Fock-Str. 5 a, 26135 Oldenburg
END:VEVENT
BEGIN:VEVENT
DTSTAMP:20260421T220346
DTSTART;TZID=Europe/Berlin:20260818T173000
DTEND;TZID=Europe/Berlin:20260818T184500
UID:U13014-K-20260818T173000@EFBOLDENBURG
SUMMARY:Rückbildungsyoga ohne Baby (U13014-K) 
LOCATION:Ev. Familien-Bildungsstätte, Kinderraum, Gorch-Fock-Str. 5 a, 26135 Oldenburg
END:VEVENT
BEGIN:VEVENT
DTSTAMP:20260421T220346
DTSTART;TZID=Europe/Berlin:20260825T173000
DTEND;TZID=Europe/Berlin:20260825T184500
UID:U13014-K-20260825T173000@EFBOLDENBURG
SUMMARY:Rückbildungsyoga ohne Baby (U13014-K) 
LOCATION:Ev. Familien-Bildungsstätte, Kinderraum, Gorch-Fock-Str. 5 a, 26135 Oldenburg
END:VEVENT
BEGIN:VEVENT
DTSTAMP:20260421T220346
DTSTART;TZID=Europe/Berlin:20260901T173000
DTEND;TZID=Europe/Berlin:20260901T184500
UID:U13014-K-20260901T173000@EFBOLDENBURG
SUMMARY:Rückbildungsyoga ohne Baby (U13014-K) 
LOCATION:Ev. Familien-Bildungsstätte, Kinderraum, Gorch-Fock-Str. 5 a, 26135 Oldenburg
END:VEVENT
BEGIN:VEVENT
DTSTAMP:20260421T220346
DTSTART;TZID=Europe/Berlin:20260908T173000
DTEND;TZID=Europe/Berlin:20260908T184500
UID:U13014-K-20260908T173000@EFBOLDENBURG
SUMMARY:Rückbildungsyoga ohne Baby (U13014-K) 
LOCATION:Ev. Familien-Bildungsstätte, Kinderraum, Gorch-Fock-Str. 5 a, 26135 Oldenburg
END:VEVENT
BEGIN:VEVENT
DTSTAMP:20260421T220346
DTSTART;TZID=Europe/Berlin:20260915T173000
DTEND;TZID=Europe/Berlin:20260915T184500
UID:U13014-K-20260915T173000@EFBOLDENBURG
SUMMARY:Rückbildungsyoga ohne Baby (U13014-K) 
LOCATION:Ev. Familien-Bildungsstätte, Kinderraum, Gorch-Fock-Str. 5 a, 26135 Oldenburg
END:VEVENT
BEGIN:VEVENT
DTSTAMP:20260421T220346
DTSTART;TZID=Europe/Berlin:20260922T173000
DTEND;TZID=Europe/Berlin:20260922T184500
UID:U13014-K-20260922T173000@EFBOLDENBURG
SUMMARY:Rückbildungsyoga ohne Baby (U13014-K) 
LOCATION:Ev. Familien-Bildungsstätte, Kinderraum, Gorch-Fock-Str. 5 a, 26135 Oldenburg
END:VEVENT
BEGIN:VEVENT
DTSTAMP:20260421T220346
DTSTART;TZID=Europe/Berlin:20260929T173000
DTEND;TZID=Europe/Berlin:20260929T184500
UID:U13014-K-20260929T173000@EFBOLDENBURG
SUMMARY:Rückbildungsyoga ohne Baby (U13014-K) 
LOCATION:Ev. Familien-Bildungsstätte, Kinderraum, Gorch-Fock-Str. 5 a, 26135 Oldenburg
END:VEVENT
BEGIN:VEVENT
DTSTAMP:20260421T220346
DTSTART;TZID=Europe/Berlin:20261006T173000
DTEND;TZID=Europe/Berlin:20261006T184500
UID:U13014-K-20261006T173000@EFBOLDENBURG
SUMMARY:Rückbildungsyoga ohne Baby (U13014-K) 
LOCATION:Ev. Familien-Bildungsstätte, Kinderraum, Gorch-Fock-Str. 5 a, 26135 Oldenburg
END:VEVENT
BEGIN:VEVENT
DTSTAMP:20260421T220346
DTSTART;TZID=Europe/Berlin:20261013T173000
DTEND;TZID=Europe/Berlin:20261013T184500
UID:U13014-K-20261013T173000@EFBOLDENBURG
SUMMARY:Rückbildungsyoga ohne Baby (U13014-K) 
LOCATION:Ev. Familien-Bildungsstätte, Kinderraum, Gorch-Fock-Str. 5 a, 26135 Oldenburg
END:VEVENT
BEGIN:VEVENT
DTSTAMP:20260421T220346
DTSTART;TZID=Europe/Berlin:20261020T173000
DTEND;TZID=Europe/Berlin:20261020T184500
UID:U13014-K-20261020T173000@EFBOLDENBURG
SUMMARY:Rückbildungsyoga ohne Baby (U13014-K) 
LOCATION:Ev. Familien-Bildungsstätte, Kinderraum, Gorch-Fock-Str. 5 a, 26135 Oldenburg
END:VEVENT
BEGIN:VEVENT
DTSTAMP:20260421T220346
DTSTART;TZID=Europe/Berlin:20261027T173000
DTEND;TZID=Europe/Berlin:20261027T184500
UID:U13014-K-20261027T173000@EFBOLDENBURG
SUMMARY:Rückbildungsyoga ohne Baby (U13014-K) 
LOCATION:Ev. Familien-Bildungsstätte, Kinderraum, Gorch-Fock-Str. 5 a, 26135 Oldenburg
END:VEVENT
BEGIN:VEVENT
DTSTAMP:20260421T220346
DTSTART;TZID=Europe/Berlin:20261103T173000
DTEND;TZID=Europe/Berlin:20261103T184500
UID:U13014-K-20261103T173000@EFBOLDENBURG
SUMMARY:Rückbildungsyoga ohne Baby (U13014-K) 
LOCATION:Ev. Familien-Bildungsstätte, Kinderraum, Gorch-Fock-Str. 5 a, 26135 Oldenburg
END:VEVENT
BEGIN:VEVENT
DTSTAMP:20260421T220346
DTSTART;TZID=Europe/Berlin:20261110T173000
DTEND;TZID=Europe/Berlin:20261110T184500
UID:U13014-K-20261110T173000@EFBOLDENBURG
SUMMARY:Rückbildungsyoga ohne Baby (U13014-K) 
LOCATION:Ev. Familien-Bildungsstätte, Kinderraum, Gorch-Fock-Str. 5 a, 26135 Oldenburg
END:VEVENT
BEGIN:VEVENT
DTSTAMP:20260421T220346
DTSTART;TZID=Europe/Berlin:20261117T173000
DTEND;TZID=Europe/Berlin:20261117T184500
UID:U13014-K-20261117T173000@EFBOLDENBURG
SUMMARY:Rückbildungsyoga ohne Baby (U13014-K) 
LOCATION:Ev. Familien-Bildungsstätte, Kinderraum, Gorch-Fock-Str. 5 a, 26135 Oldenburg
END:VEVENT
BEGIN:VEVENT
DTSTAMP:20260421T220346
DTSTART;TZID=Europe/Berlin:20261124T173000
DTEND;TZID=Europe/Berlin:20261124T184500
UID:U13014-K-20261124T173000@EFBOLDENBURG
SUMMARY:Rückbildungsyoga ohne Baby (U13014-K) 
LOCATION:Ev. Familien-Bildungsstätte, Kinderraum, Gorch-Fock-Str. 5 a, 26135 Oldenburg
END:VEVENT
BEGIN:VEVENT
DTSTAMP:20260421T220346
DTSTART;TZID=Europe/Berlin:20261201T173000
DTEND;TZID=Europe/Berlin:20261201T184500
UID:U13014-K-20261201T173000@EFBOLDENBURG
SUMMARY:Rückbildungsyoga ohne Baby (U13014-K) 
LOCATION:Ev. Familien-Bildungsstätte, Kinderraum, Gorch-Fock-Str. 5 a, 26135 Oldenburg
END:VEVENT
BEGIN:VEVENT
DTSTAMP:20260421T220346
DTSTART;TZID=Europe/Berlin:20261208T173000
DTEND;TZID=Europe/Berlin:20261208T184500
UID:U13014-K-20261208T173000@EFBOLDENBURG
SUMMARY:Rückbildungsyoga ohne Baby (U13014-K) 
LOCATION:Ev. Familien-Bildungsstätte, Kinderraum, Gorch-Fock-Str. 5 a, 26135 Oldenburg
END:VEVENT
BEGIN:VEVENT
DTSTAMP:20260421T220346
DTSTART;TZID=Europe/Berlin:20261215T173000
DTEND;TZID=Europe/Berlin:20261215T184500
UID:U13014-K-20261215T173000@EFBOLDENBURG
SUMMARY:Rückbildungsyoga ohne Baby (U13014-K) 
LOCATION:Ev. Familien-Bildungsstätte, Kinderraum, Gorch-Fock-Str. 5 a, 26135 Oldenburg
END:VEVENT
BEGIN:VEVENT
DTSTAMP:20260421T220346
DTSTART;TZID=Europe/Berlin:20261222T173000
DTEND;TZID=Europe/Berlin:20261222T184500
UID:U13014-K-20261222T173000@EFBOLDENBURG
SUMMARY:Rückbildungsyoga ohne Baby (U13014-K) 
LOCATION:Ev. Familien-Bildungsstätte, Kinderraum, Gorch-Fock-Str. 5 a, 26135 Oldenburg
END:VEVENT
END:VCALENDAR