BEGIN:VCALENDAR
VERSION:2.0
PRODID:https://www.kufer.de/kuferweb / DE
METHOD:PUBLISH
CALSCALE:GREGORIAN
X-WR-TIMEZONE:Europe/Berlin
BEGIN:VTIMEZONE
TZID:Europe/Berlin
X-LIC-LOCATION:Europe/Berlin
BEGIN:DAYLIGHT
TZOFFSETFROM:+0100
TZOFFSETTO:+0200
TZNAME:CEST
DTSTART:19700329T020000
RRULE:FREQ=YEARLY;INTERVAL=1;BYDAY=-1SU;BYMONTH=3
END:DAYLIGHT
BEGIN:STANDARD
TZOFFSETFROM:+0200
TZOFFSETTO:+0100
TZNAME:CET
DTSTART:19701025T030000
RRULE:FREQ=YEARLY;INTERVAL=1;BYDAY=-1SU;BYMONTH=10
END:STANDARD
END:VTIMEZONE
BEGIN:VEVENT
DTSTAMP:20260421T153759
DTSTART;TZID=Europe/Berlin:20260303T190000
DTEND;TZID=Europe/Berlin:20260303T204500
UID:U13015-K-20260303T190000@EFBOLDENBURG
SUMMARY:NEU: Yoga für Schwangere mit praktischer Geburtsvorbereitung (U13015-K) 
LOCATION:Ev. Familien-Bildungsstätte, Kinderraum, Gorch-Fock-Str. 5 a, 26135 Oldenburg
END:VEVENT
BEGIN:VEVENT
DTSTAMP:20260421T153759
DTSTART;TZID=Europe/Berlin:20260310T190000
DTEND;TZID=Europe/Berlin:20260310T204500
UID:U13015-K-20260310T190000@EFBOLDENBURG
SUMMARY:NEU: Yoga für Schwangere mit praktischer Geburtsvorbereitung (U13015-K) 
LOCATION:Ev. Familien-Bildungsstätte, Kinderraum, Gorch-Fock-Str. 5 a, 26135 Oldenburg
END:VEVENT
BEGIN:VEVENT
DTSTAMP:20260421T153759
DTSTART;TZID=Europe/Berlin:20260317T190000
DTEND;TZID=Europe/Berlin:20260317T204500
UID:U13015-K-20260317T190000@EFBOLDENBURG
SUMMARY:NEU: Yoga für Schwangere mit praktischer Geburtsvorbereitung (U13015-K) 
LOCATION:Ev. Familien-Bildungsstätte, Kinderraum, Gorch-Fock-Str. 5 a, 26135 Oldenburg
END:VEVENT
BEGIN:VEVENT
DTSTAMP:20260421T153759
DTSTART;TZID=Europe/Berlin:20260407T190000
DTEND;TZID=Europe/Berlin:20260407T204500
UID:U13015-K-20260407T190000@EFBOLDENBURG
SUMMARY:NEU: Yoga für Schwangere mit praktischer Geburtsvorbereitung (U13015-K) 
LOCATION:Ev. Familien-Bildungsstätte, Kinderraum, Gorch-Fock-Str. 5 a, 26135 Oldenburg
END:VEVENT
BEGIN:VEVENT
DTSTAMP:20260421T153759
DTSTART;TZID=Europe/Berlin:20260414T190000
DTEND;TZID=Europe/Berlin:20260414T204500
UID:U13015-K-20260414T190000@EFBOLDENBURG
SUMMARY:NEU: Yoga für Schwangere mit praktischer Geburtsvorbereitung (U13015-K) 
LOCATION:Ev. Familien-Bildungsstätte, Kinderraum, Gorch-Fock-Str. 5 a, 26135 Oldenburg
END:VEVENT
BEGIN:VEVENT
DTSTAMP:20260421T153759
DTSTART;TZID=Europe/Berlin:20260421T190000
DTEND;TZID=Europe/Berlin:20260421T204500
UID:U13015-K-20260421T190000@EFBOLDENBURG
SUMMARY:NEU: Yoga für Schwangere mit praktischer Geburtsvorbereitung (U13015-K) 
LOCATION:Ev. Familien-Bildungsstätte, Kinderraum, Gorch-Fock-Str. 5 a, 26135 Oldenburg
END:VEVENT
BEGIN:VEVENT
DTSTAMP:20260421T153759
DTSTART;TZID=Europe/Berlin:20260428T190000
DTEND;TZID=Europe/Berlin:20260428T204500
UID:U13015-K-20260428T190000@EFBOLDENBURG
SUMMARY:NEU: Yoga für Schwangere mit praktischer Geburtsvorbereitung (U13015-K) 
LOCATION:Ev. Familien-Bildungsstätte, Kinderraum, Gorch-Fock-Str. 5 a, 26135 Oldenburg
END:VEVENT
BEGIN:VEVENT
DTSTAMP:20260421T153759
DTSTART;TZID=Europe/Berlin:20260505T190000
DTEND;TZID=Europe/Berlin:20260505T204500
UID:U13015-K-20260505T190000@EFBOLDENBURG
SUMMARY:NEU: Yoga für Schwangere mit praktischer Geburtsvorbereitung (U13015-K) 
LOCATION:Ev. Familien-Bildungsstätte, Kinderraum, Gorch-Fock-Str. 5 a, 26135 Oldenburg
END:VEVENT
BEGIN:VEVENT
DTSTAMP:20260421T153759
DTSTART;TZID=Europe/Berlin:20260512T190000
DTEND;TZID=Europe/Berlin:20260512T204500
UID:U13015-K-20260512T190000@EFBOLDENBURG
SUMMARY:NEU: Yoga für Schwangere mit praktischer Geburtsvorbereitung (U13015-K) 
LOCATION:Ev. Familien-Bildungsstätte, Kinderraum, Gorch-Fock-Str. 5 a, 26135 Oldenburg
END:VEVENT
BEGIN:VEVENT
DTSTAMP:20260421T153759
DTSTART;TZID=Europe/Berlin:20260519T190000
DTEND;TZID=Europe/Berlin:20260519T204500
UID:U13015-K-20260519T190000@EFBOLDENBURG
SUMMARY:NEU: Yoga für Schwangere mit praktischer Geburtsvorbereitung (U13015-K) 
LOCATION:Ev. Familien-Bildungsstätte, Kinderraum, Gorch-Fock-Str. 5 a, 26135 Oldenburg
END:VEVENT
BEGIN:VEVENT
DTSTAMP:20260421T153759
DTSTART;TZID=Europe/Berlin:20260526T190000
DTEND;TZID=Europe/Berlin:20260526T204500
UID:U13015-K-20260526T190000@EFBOLDENBURG
SUMMARY:NEU: Yoga für Schwangere mit praktischer Geburtsvorbereitung (U13015-K) 
LOCATION:Ev. Familien-Bildungsstätte, Kinderraum, Gorch-Fock-Str. 5 a, 26135 Oldenburg
END:VEVENT
BEGIN:VEVENT
DTSTAMP:20260421T153759
DTSTART;TZID=Europe/Berlin:20260602T190000
DTEND;TZID=Europe/Berlin:20260602T204500
UID:U13015-K-20260602T190000@EFBOLDENBURG
SUMMARY:NEU: Yoga für Schwangere mit praktischer Geburtsvorbereitung (U13015-K) 
LOCATION:Ev. Familien-Bildungsstätte, Kinderraum, Gorch-Fock-Str. 5 a, 26135 Oldenburg
END:VEVENT
BEGIN:VEVENT
DTSTAMP:20260421T153759
DTSTART;TZID=Europe/Berlin:20260609T190000
DTEND;TZID=Europe/Berlin:20260609T204500
UID:U13015-K-20260609T190000@EFBOLDENBURG
SUMMARY:NEU: Yoga für Schwangere mit praktischer Geburtsvorbereitung (U13015-K) 
LOCATION:Ev. Familien-Bildungsstätte, Kinderraum, Gorch-Fock-Str. 5 a, 26135 Oldenburg
END:VEVENT
BEGIN:VEVENT
DTSTAMP:20260421T153759
DTSTART;TZID=Europe/Berlin:20260616T190000
DTEND;TZID=Europe/Berlin:20260616T204500
UID:U13015-K-20260616T190000@EFBOLDENBURG
SUMMARY:NEU: Yoga für Schwangere mit praktischer Geburtsvorbereitung (U13015-K) 
LOCATION:Ev. Familien-Bildungsstätte, Kinderraum, Gorch-Fock-Str. 5 a, 26135 Oldenburg
END:VEVENT
BEGIN:VEVENT
DTSTAMP:20260421T153759
DTSTART;TZID=Europe/Berlin:20260623T190000
DTEND;TZID=Europe/Berlin:20260623T204500
UID:U13015-K-20260623T190000@EFBOLDENBURG
SUMMARY:NEU: Yoga für Schwangere mit praktischer Geburtsvorbereitung (U13015-K) 
LOCATION:Ev. Familien-Bildungsstätte, Kinderraum, Gorch-Fock-Str. 5 a, 26135 Oldenburg
END:VEVENT
BEGIN:VEVENT
DTSTAMP:20260421T153759
DTSTART;TZID=Europe/Berlin:20260630T190000
DTEND;TZID=Europe/Berlin:20260630T204500
UID:U13015-K-20260630T190000@EFBOLDENBURG
SUMMARY:NEU: Yoga für Schwangere mit praktischer Geburtsvorbereitung (U13015-K) 
LOCATION:Ev. Familien-Bildungsstätte, Kinderraum, Gorch-Fock-Str. 5 a, 26135 Oldenburg
END:VEVENT
BEGIN:VEVENT
DTSTAMP:20260421T153759
DTSTART;TZID=Europe/Berlin:20260707T190000
DTEND;TZID=Europe/Berlin:20260707T204500
UID:U13015-K-20260707T190000@EFBOLDENBURG
SUMMARY:NEU: Yoga für Schwangere mit praktischer Geburtsvorbereitung (U13015-K) 
LOCATION:Ev. Familien-Bildungsstätte, Kinderraum, Gorch-Fock-Str. 5 a, 26135 Oldenburg
END:VEVENT
BEGIN:VEVENT
DTSTAMP:20260421T153759
DTSTART;TZID=Europe/Berlin:20260714T190000
DTEND;TZID=Europe/Berlin:20260714T204500
UID:U13015-K-20260714T190000@EFBOLDENBURG
SUMMARY:NEU: Yoga für Schwangere mit praktischer Geburtsvorbereitung (U13015-K) 
LOCATION:Ev. Familien-Bildungsstätte, Kinderraum, Gorch-Fock-Str. 5 a, 26135 Oldenburg
END:VEVENT
BEGIN:VEVENT
DTSTAMP:20260421T153759
DTSTART;TZID=Europe/Berlin:20260721T190000
DTEND;TZID=Europe/Berlin:20260721T204500
UID:U13015-K-20260721T190000@EFBOLDENBURG
SUMMARY:NEU: Yoga für Schwangere mit praktischer Geburtsvorbereitung (U13015-K) 
LOCATION:Ev. Familien-Bildungsstätte, Kinderraum, Gorch-Fock-Str. 5 a, 26135 Oldenburg
END:VEVENT
BEGIN:VEVENT
DTSTAMP:20260421T153759
DTSTART;TZID=Europe/Berlin:20260728T190000
DTEND;TZID=Europe/Berlin:20260728T204500
UID:U13015-K-20260728T190000@EFBOLDENBURG
SUMMARY:NEU: Yoga für Schwangere mit praktischer Geburtsvorbereitung (U13015-K) 
LOCATION:Ev. Familien-Bildungsstätte, Kinderraum, Gorch-Fock-Str. 5 a, 26135 Oldenburg
END:VEVENT
BEGIN:VEVENT
DTSTAMP:20260421T153759
DTSTART;TZID=Europe/Berlin:20260804T190000
DTEND;TZID=Europe/Berlin:20260804T204500
UID:U13015-K-20260804T190000@EFBOLDENBURG
SUMMARY:NEU: Yoga für Schwangere mit praktischer Geburtsvorbereitung (U13015-K) 
LOCATION:Ev. Familien-Bildungsstätte, Kinderraum, Gorch-Fock-Str. 5 a, 26135 Oldenburg
END:VEVENT
BEGIN:VEVENT
DTSTAMP:20260421T153759
DTSTART;TZID=Europe/Berlin:20260811T190000
DTEND;TZID=Europe/Berlin:20260811T204500
UID:U13015-K-20260811T190000@EFBOLDENBURG
SUMMARY:NEU: Yoga für Schwangere mit praktischer Geburtsvorbereitung (U13015-K) 
LOCATION:Ev. Familien-Bildungsstätte, Kinderraum, Gorch-Fock-Str. 5 a, 26135 Oldenburg
END:VEVENT
BEGIN:VEVENT
DTSTAMP:20260421T153759
DTSTART;TZID=Europe/Berlin:20260818T190000
DTEND;TZID=Europe/Berlin:20260818T204500
UID:U13015-K-20260818T190000@EFBOLDENBURG
SUMMARY:NEU: Yoga für Schwangere mit praktischer Geburtsvorbereitung (U13015-K) 
LOCATION:Ev. Familien-Bildungsstätte, Kinderraum, Gorch-Fock-Str. 5 a, 26135 Oldenburg
END:VEVENT
END:VCALENDAR