BEGIN:VCALENDAR
VERSION:2.0
PRODID:https://www.kufer.de/kuferweb / DE
METHOD:PUBLISH
CALSCALE:GREGORIAN
X-WR-TIMEZONE:Europe/Berlin
BEGIN:VTIMEZONE
TZID:Europe/Berlin
X-LIC-LOCATION:Europe/Berlin
BEGIN:DAYLIGHT
TZOFFSETFROM:+0100
TZOFFSETTO:+0200
TZNAME:CEST
DTSTART:19700329T020000
RRULE:FREQ=YEARLY;INTERVAL=1;BYDAY=-1SU;BYMONTH=3
END:DAYLIGHT
BEGIN:STANDARD
TZOFFSETFROM:+0200
TZOFFSETTO:+0100
TZNAME:CET
DTSTART:19701025T030000
RRULE:FREQ=YEARLY;INTERVAL=1;BYDAY=-1SU;BYMONTH=10
END:STANDARD
END:VTIMEZONE
BEGIN:VEVENT
DTSTAMP:20260421T153756
DTSTART;TZID=Europe/Berlin:20260825T190000
DTEND;TZID=Europe/Berlin:20260825T204500
UID:U13016-K-20260825T190000@EFBOLDENBURG
SUMMARY:Yoga für Schwangere mit praktischer Geburtsvorbereitung (U13016-K) 
LOCATION:Ev. Familien-Bildungsstätte, Kinderraum, Gorch-Fock-Str. 5 a, 26135 Oldenburg
END:VEVENT
BEGIN:VEVENT
DTSTAMP:20260421T153756
DTSTART;TZID=Europe/Berlin:20260901T190000
DTEND;TZID=Europe/Berlin:20260901T204500
UID:U13016-K-20260901T190000@EFBOLDENBURG
SUMMARY:Yoga für Schwangere mit praktischer Geburtsvorbereitung (U13016-K) 
LOCATION:Ev. Familien-Bildungsstätte, Kinderraum, Gorch-Fock-Str. 5 a, 26135 Oldenburg
END:VEVENT
BEGIN:VEVENT
DTSTAMP:20260421T153756
DTSTART;TZID=Europe/Berlin:20260908T190000
DTEND;TZID=Europe/Berlin:20260908T204500
UID:U13016-K-20260908T190000@EFBOLDENBURG
SUMMARY:Yoga für Schwangere mit praktischer Geburtsvorbereitung (U13016-K) 
LOCATION:Ev. Familien-Bildungsstätte, Kinderraum, Gorch-Fock-Str. 5 a, 26135 Oldenburg
END:VEVENT
BEGIN:VEVENT
DTSTAMP:20260421T153756
DTSTART;TZID=Europe/Berlin:20260915T190000
DTEND;TZID=Europe/Berlin:20260915T204500
UID:U13016-K-20260915T190000@EFBOLDENBURG
SUMMARY:Yoga für Schwangere mit praktischer Geburtsvorbereitung (U13016-K) 
LOCATION:Ev. Familien-Bildungsstätte, Kinderraum, Gorch-Fock-Str. 5 a, 26135 Oldenburg
END:VEVENT
BEGIN:VEVENT
DTSTAMP:20260421T153756
DTSTART;TZID=Europe/Berlin:20260922T190000
DTEND;TZID=Europe/Berlin:20260922T204500
UID:U13016-K-20260922T190000@EFBOLDENBURG
SUMMARY:Yoga für Schwangere mit praktischer Geburtsvorbereitung (U13016-K) 
LOCATION:Ev. Familien-Bildungsstätte, Kinderraum, Gorch-Fock-Str. 5 a, 26135 Oldenburg
END:VEVENT
BEGIN:VEVENT
DTSTAMP:20260421T153756
DTSTART;TZID=Europe/Berlin:20260929T190000
DTEND;TZID=Europe/Berlin:20260929T204500
UID:U13016-K-20260929T190000@EFBOLDENBURG
SUMMARY:Yoga für Schwangere mit praktischer Geburtsvorbereitung (U13016-K) 
LOCATION:Ev. Familien-Bildungsstätte, Kinderraum, Gorch-Fock-Str. 5 a, 26135 Oldenburg
END:VEVENT
BEGIN:VEVENT
DTSTAMP:20260421T153756
DTSTART;TZID=Europe/Berlin:20261006T190000
DTEND;TZID=Europe/Berlin:20261006T204500
UID:U13016-K-20261006T190000@EFBOLDENBURG
SUMMARY:Yoga für Schwangere mit praktischer Geburtsvorbereitung (U13016-K) 
LOCATION:Ev. Familien-Bildungsstätte, Kinderraum, Gorch-Fock-Str. 5 a, 26135 Oldenburg
END:VEVENT
BEGIN:VEVENT
DTSTAMP:20260421T153756
DTSTART;TZID=Europe/Berlin:20261013T190000
DTEND;TZID=Europe/Berlin:20261013T204500
UID:U13016-K-20261013T190000@EFBOLDENBURG
SUMMARY:Yoga für Schwangere mit praktischer Geburtsvorbereitung (U13016-K) 
LOCATION:Ev. Familien-Bildungsstätte, Kinderraum, Gorch-Fock-Str. 5 a, 26135 Oldenburg
END:VEVENT
BEGIN:VEVENT
DTSTAMP:20260421T153756
DTSTART;TZID=Europe/Berlin:20261020T190000
DTEND;TZID=Europe/Berlin:20261020T204500
UID:U13016-K-20261020T190000@EFBOLDENBURG
SUMMARY:Yoga für Schwangere mit praktischer Geburtsvorbereitung (U13016-K) 
LOCATION:Ev. Familien-Bildungsstätte, Kinderraum, Gorch-Fock-Str. 5 a, 26135 Oldenburg
END:VEVENT
BEGIN:VEVENT
DTSTAMP:20260421T153756
DTSTART;TZID=Europe/Berlin:20261027T190000
DTEND;TZID=Europe/Berlin:20261027T204500
UID:U13016-K-20261027T190000@EFBOLDENBURG
SUMMARY:Yoga für Schwangere mit praktischer Geburtsvorbereitung (U13016-K) 
LOCATION:Ev. Familien-Bildungsstätte, Kinderraum, Gorch-Fock-Str. 5 a, 26135 Oldenburg
END:VEVENT
BEGIN:VEVENT
DTSTAMP:20260421T153756
DTSTART;TZID=Europe/Berlin:20261103T190000
DTEND;TZID=Europe/Berlin:20261103T204500
UID:U13016-K-20261103T190000@EFBOLDENBURG
SUMMARY:Yoga für Schwangere mit praktischer Geburtsvorbereitung (U13016-K) 
LOCATION:Ev. Familien-Bildungsstätte, Kinderraum, Gorch-Fock-Str. 5 a, 26135 Oldenburg
END:VEVENT
BEGIN:VEVENT
DTSTAMP:20260421T153756
DTSTART;TZID=Europe/Berlin:20261110T190000
DTEND;TZID=Europe/Berlin:20261110T204500
UID:U13016-K-20261110T190000@EFBOLDENBURG
SUMMARY:Yoga für Schwangere mit praktischer Geburtsvorbereitung (U13016-K) 
LOCATION:Ev. Familien-Bildungsstätte, Kinderraum, Gorch-Fock-Str. 5 a, 26135 Oldenburg
END:VEVENT
BEGIN:VEVENT
DTSTAMP:20260421T153756
DTSTART;TZID=Europe/Berlin:20261117T190000
DTEND;TZID=Europe/Berlin:20261117T204500
UID:U13016-K-20261117T190000@EFBOLDENBURG
SUMMARY:Yoga für Schwangere mit praktischer Geburtsvorbereitung (U13016-K) 
LOCATION:Ev. Familien-Bildungsstätte, Kinderraum, Gorch-Fock-Str. 5 a, 26135 Oldenburg
END:VEVENT
BEGIN:VEVENT
DTSTAMP:20260421T153756
DTSTART;TZID=Europe/Berlin:20261124T190000
DTEND;TZID=Europe/Berlin:20261124T204500
UID:U13016-K-20261124T190000@EFBOLDENBURG
SUMMARY:Yoga für Schwangere mit praktischer Geburtsvorbereitung (U13016-K) 
LOCATION:Ev. Familien-Bildungsstätte, Kinderraum, Gorch-Fock-Str. 5 a, 26135 Oldenburg
END:VEVENT
BEGIN:VEVENT
DTSTAMP:20260421T153756
DTSTART;TZID=Europe/Berlin:20261201T190000
DTEND;TZID=Europe/Berlin:20261201T204500
UID:U13016-K-20261201T190000@EFBOLDENBURG
SUMMARY:Yoga für Schwangere mit praktischer Geburtsvorbereitung (U13016-K) 
LOCATION:Ev. Familien-Bildungsstätte, Kinderraum, Gorch-Fock-Str. 5 a, 26135 Oldenburg
END:VEVENT
BEGIN:VEVENT
DTSTAMP:20260421T153756
DTSTART;TZID=Europe/Berlin:20261208T190000
DTEND;TZID=Europe/Berlin:20261208T204500
UID:U13016-K-20261208T190000@EFBOLDENBURG
SUMMARY:Yoga für Schwangere mit praktischer Geburtsvorbereitung (U13016-K) 
LOCATION:Ev. Familien-Bildungsstätte, Kinderraum, Gorch-Fock-Str. 5 a, 26135 Oldenburg
END:VEVENT
BEGIN:VEVENT
DTSTAMP:20260421T153756
DTSTART;TZID=Europe/Berlin:20261215T190000
DTEND;TZID=Europe/Berlin:20261215T204500
UID:U13016-K-20261215T190000@EFBOLDENBURG
SUMMARY:Yoga für Schwangere mit praktischer Geburtsvorbereitung (U13016-K) 
LOCATION:Ev. Familien-Bildungsstätte, Kinderraum, Gorch-Fock-Str. 5 a, 26135 Oldenburg
END:VEVENT
BEGIN:VEVENT
DTSTAMP:20260421T153756
DTSTART;TZID=Europe/Berlin:20261222T190000
DTEND;TZID=Europe/Berlin:20261222T204500
UID:U13016-K-20261222T190000@EFBOLDENBURG
SUMMARY:Yoga für Schwangere mit praktischer Geburtsvorbereitung (U13016-K) 
LOCATION:Ev. Familien-Bildungsstätte, Kinderraum, Gorch-Fock-Str. 5 a, 26135 Oldenburg
END:VEVENT
END:VCALENDAR