BEGIN:VCALENDAR
VERSION:2.0
PRODID:https://www.kufer.de/kuferweb / DE
METHOD:PUBLISH
CALSCALE:GREGORIAN
X-WR-TIMEZONE:Europe/Berlin
BEGIN:VTIMEZONE
TZID:Europe/Berlin
X-LIC-LOCATION:Europe/Berlin
BEGIN:DAYLIGHT
TZOFFSETFROM:+0100
TZOFFSETTO:+0200
TZNAME:CEST
DTSTART:19700329T020000
RRULE:FREQ=YEARLY;INTERVAL=1;BYDAY=-1SU;BYMONTH=3
END:DAYLIGHT
BEGIN:STANDARD
TZOFFSETFROM:+0200
TZOFFSETTO:+0100
TZNAME:CET
DTSTART:19701025T030000
RRULE:FREQ=YEARLY;INTERVAL=1;BYDAY=-1SU;BYMONTH=10
END:STANDARD
END:VTIMEZONE
BEGIN:VEVENT
DTSTAMP:20260422T014231
DTSTART;TZID=Europe/Berlin:20260211T104500
DTEND;TZID=Europe/Berlin:20260211T121500
UID:U14002-20260211T104500@EFBOLDENBURG
DESCRIPTION:Ersatz für Ausfall am 03.06.2026
SUMMARY:DELFI ®  Juni 2025 geborene Kinder 2.Teil (U14002) 
LOCATION:Ev. Familien-Bildungsstätte, Saal, Gorch-Fock-Str. 5 a, 26135 Oldenburg
END:VEVENT
BEGIN:VEVENT
DTSTAMP:20260422T014231
DTSTART;TZID=Europe/Berlin:20260218T104500
DTEND;TZID=Europe/Berlin:20260218T121500
UID:U14002-20260218T104500@EFBOLDENBURG
SUMMARY:DELFI ®  Juni 2025 geborene Kinder 2.Teil (U14002) 
LOCATION:Ev. Familien-Bildungsstätte, Saal, Gorch-Fock-Str. 5 a, 26135 Oldenburg
END:VEVENT
BEGIN:VEVENT
DTSTAMP:20260422T014231
DTSTART;TZID=Europe/Berlin:20260225T104500
DTEND;TZID=Europe/Berlin:20260225T121500
UID:U14002-20260225T104500@EFBOLDENBURG
SUMMARY:DELFI ®  Juni 2025 geborene Kinder 2.Teil (U14002) 
LOCATION:Ev. Familien-Bildungsstätte, Saal, Gorch-Fock-Str. 5 a, 26135 Oldenburg
END:VEVENT
BEGIN:VEVENT
DTSTAMP:20260422T014231
DTSTART;TZID=Europe/Berlin:20260304T104500
DTEND;TZID=Europe/Berlin:20260304T121500
UID:U14002-20260304T104500@EFBOLDENBURG
SUMMARY:DELFI ®  Juni 2025 geborene Kinder 2.Teil (U14002) 
LOCATION:Ev. Familien-Bildungsstätte, Saal, Gorch-Fock-Str. 5 a, 26135 Oldenburg
END:VEVENT
BEGIN:VEVENT
DTSTAMP:20260422T014231
DTSTART;TZID=Europe/Berlin:20260318T104500
DTEND;TZID=Europe/Berlin:20260318T121500
UID:U14002-20260318T104500@EFBOLDENBURG
SUMMARY:DELFI ®  Juni 2025 geborene Kinder 2.Teil (U14002) 
LOCATION:Ev. Familien-Bildungsstätte, Saal, Gorch-Fock-Str. 5 a, 26135 Oldenburg
END:VEVENT
BEGIN:VEVENT
DTSTAMP:20260422T014231
DTSTART;TZID=Europe/Berlin:20260408T104500
DTEND;TZID=Europe/Berlin:20260408T121500
UID:U14002-20260408T104500@EFBOLDENBURG
SUMMARY:DELFI ®  Juni 2025 geborene Kinder 2.Teil (U14002) 
LOCATION:Ev. Familien-Bildungsstätte, Saal, Gorch-Fock-Str. 5 a, 26135 Oldenburg
END:VEVENT
BEGIN:VEVENT
DTSTAMP:20260422T014231
DTSTART;TZID=Europe/Berlin:20260415T104500
DTEND;TZID=Europe/Berlin:20260415T121500
UID:U14002-20260415T104500@EFBOLDENBURG
SUMMARY:DELFI ®  Juni 2025 geborene Kinder 2.Teil (U14002) 
LOCATION:Ev. Familien-Bildungsstätte, Saal, Gorch-Fock-Str. 5 a, 26135 Oldenburg
END:VEVENT
BEGIN:VEVENT
DTSTAMP:20260422T014231
DTSTART;TZID=Europe/Berlin:20260422T104500
DTEND;TZID=Europe/Berlin:20260422T121500
UID:U14002-20260422T104500@EFBOLDENBURG
SUMMARY:DELFI ®  Juni 2025 geborene Kinder 2.Teil (U14002) 
LOCATION:Ev. Familien-Bildungsstätte, Saal, Gorch-Fock-Str. 5 a, 26135 Oldenburg
END:VEVENT
BEGIN:VEVENT
DTSTAMP:20260422T014231
DTSTART;TZID=Europe/Berlin:20260429T104500
DTEND;TZID=Europe/Berlin:20260429T121500
UID:U14002-20260429T104500@EFBOLDENBURG
SUMMARY:DELFI ®  Juni 2025 geborene Kinder 2.Teil (U14002) 
LOCATION:Ev. Familien-Bildungsstätte, Saal, Gorch-Fock-Str. 5 a, 26135 Oldenburg
END:VEVENT
BEGIN:VEVENT
DTSTAMP:20260422T014231
DTSTART;TZID=Europe/Berlin:20260506T104500
DTEND;TZID=Europe/Berlin:20260506T121500
UID:U14002-20260506T104500@EFBOLDENBURG
SUMMARY:DELFI ®  Juni 2025 geborene Kinder 2.Teil (U14002) 
LOCATION:Ev. Familien-Bildungsstätte, Saal, Gorch-Fock-Str. 5 a, 26135 Oldenburg
END:VEVENT
BEGIN:VEVENT
DTSTAMP:20260422T014231
DTSTART;TZID=Europe/Berlin:20260513T104500
DTEND;TZID=Europe/Berlin:20260513T121500
UID:U14002-20260513T104500@EFBOLDENBURG
SUMMARY:DELFI ®  Juni 2025 geborene Kinder 2.Teil (U14002) 
LOCATION:Ev. Familien-Bildungsstätte, Saal, Gorch-Fock-Str. 5 a, 26135 Oldenburg
END:VEVENT
BEGIN:VEVENT
DTSTAMP:20260422T014231
DTSTART;TZID=Europe/Berlin:20260520T104500
DTEND;TZID=Europe/Berlin:20260520T121500
UID:U14002-20260520T104500@EFBOLDENBURG
SUMMARY:DELFI ®  Juni 2025 geborene Kinder 2.Teil (U14002) 
LOCATION:Ev. Familien-Bildungsstätte, Saal, Gorch-Fock-Str. 5 a, 26135 Oldenburg
END:VEVENT
BEGIN:VEVENT
DTSTAMP:20260422T014231
DTSTART;TZID=Europe/Berlin:20260527T104500
DTEND;TZID=Europe/Berlin:20260527T121500
UID:U14002-20260527T104500@EFBOLDENBURG
SUMMARY:DELFI ®  Juni 2025 geborene Kinder 2.Teil (U14002) 
LOCATION:Ev. Familien-Bildungsstätte, Saal, Gorch-Fock-Str. 5 a, 26135 Oldenburg
END:VEVENT
BEGIN:VEVENT
DTSTAMP:20260422T014231
DTSTART;TZID=Europe/Berlin:20260603T104500
DTEND;TZID=Europe/Berlin:20260603T121500
UID:U14002-20260603T104500@EFBOLDENBURG
DESCRIPTION:Ersatz für Ausfall am 04.02.2026
SUMMARY:DELFI ®  Juni 2025 geborene Kinder 2.Teil (U14002) 
LOCATION:Ev. Familien-Bildungsstätte, Saal, Gorch-Fock-Str. 5 a, 26135 Oldenburg
END:VEVENT
BEGIN:VEVENT
DTSTAMP:20260422T014231
DTSTART;TZID=Europe/Berlin:20260610T104500
DTEND;TZID=Europe/Berlin:20260610T121500
UID:U14002-20260610T104500@EFBOLDENBURG
DESCRIPTION:Ersatz für Ausfall am 11.03.2026
SUMMARY:DELFI ®  Juni 2025 geborene Kinder 2.Teil (U14002) 
LOCATION:Ev. Familien-Bildungsstätte, Saal, Gorch-Fock-Str. 5 a, 26135 Oldenburg
END:VEVENT
END:VCALENDAR