BEGIN:VCALENDAR
VERSION:2.0
PRODID:https://www.kufer.de/kuferweb / DE
METHOD:PUBLISH
CALSCALE:GREGORIAN
X-WR-TIMEZONE:Europe/Berlin
BEGIN:VTIMEZONE
TZID:Europe/Berlin
X-LIC-LOCATION:Europe/Berlin
BEGIN:DAYLIGHT
TZOFFSETFROM:+0100
TZOFFSETTO:+0200
TZNAME:CEST
DTSTART:19700329T020000
RRULE:FREQ=YEARLY;INTERVAL=1;BYDAY=-1SU;BYMONTH=3
END:DAYLIGHT
BEGIN:STANDARD
TZOFFSETFROM:+0200
TZOFFSETTO:+0100
TZNAME:CET
DTSTART:19701025T030000
RRULE:FREQ=YEARLY;INTERVAL=1;BYDAY=-1SU;BYMONTH=10
END:STANDARD
END:VTIMEZONE
BEGIN:VEVENT
DTSTAMP:20260422T045538
DTSTART;TZID=Europe/Berlin:20260223T090000
DTEND;TZID=Europe/Berlin:20260223T103000
UID:U14003-20260223T090000@EFBOLDENBURG
SUMMARY:DELFI ®  Juli 2025 geborene Kinder 2.Teil (U14003) 
LOCATION:Ev. Familien-Bildungsstätte, Kinderraum, Gorch-Fock-Str. 5 a, 26135 Oldenburg
END:VEVENT
BEGIN:VEVENT
DTSTAMP:20260422T045538
DTSTART;TZID=Europe/Berlin:20260302T090000
DTEND;TZID=Europe/Berlin:20260302T103000
UID:U14003-20260302T090000@EFBOLDENBURG
SUMMARY:DELFI ®  Juli 2025 geborene Kinder 2.Teil (U14003) 
LOCATION:Ev. Familien-Bildungsstätte, Kinderraum, Gorch-Fock-Str. 5 a, 26135 Oldenburg
END:VEVENT
BEGIN:VEVENT
DTSTAMP:20260422T045538
DTSTART;TZID=Europe/Berlin:20260309T090000
DTEND;TZID=Europe/Berlin:20260309T103000
UID:U14003-20260309T090000@EFBOLDENBURG
SUMMARY:DELFI ®  Juli 2025 geborene Kinder 2.Teil (U14003) 
LOCATION:Ev. Familien-Bildungsstätte, Kinderraum, Gorch-Fock-Str. 5 a, 26135 Oldenburg
END:VEVENT
BEGIN:VEVENT
DTSTAMP:20260422T045538
DTSTART;TZID=Europe/Berlin:20260316T090000
DTEND;TZID=Europe/Berlin:20260316T103000
UID:U14003-20260316T090000@EFBOLDENBURG
SUMMARY:DELFI ®  Juli 2025 geborene Kinder 2.Teil (U14003) 
LOCATION:Ev. Familien-Bildungsstätte, Kinderraum, Gorch-Fock-Str. 5 a, 26135 Oldenburg
END:VEVENT
BEGIN:VEVENT
DTSTAMP:20260422T045538
DTSTART;TZID=Europe/Berlin:20260413T090000
DTEND;TZID=Europe/Berlin:20260413T103000
UID:U14003-20260413T090000@EFBOLDENBURG
SUMMARY:DELFI ®  Juli 2025 geborene Kinder 2.Teil (U14003) 
LOCATION:Ev. Familien-Bildungsstätte, Kinderraum, Gorch-Fock-Str. 5 a, 26135 Oldenburg
END:VEVENT
BEGIN:VEVENT
DTSTAMP:20260422T045538
DTSTART;TZID=Europe/Berlin:20260420T090000
DTEND;TZID=Europe/Berlin:20260420T103000
UID:U14003-20260420T090000@EFBOLDENBURG
SUMMARY:DELFI ®  Juli 2025 geborene Kinder 2.Teil (U14003) 
LOCATION:Ev. Familien-Bildungsstätte, Kinderraum, Gorch-Fock-Str. 5 a, 26135 Oldenburg
END:VEVENT
BEGIN:VEVENT
DTSTAMP:20260422T045538
DTSTART;TZID=Europe/Berlin:20260427T090000
DTEND;TZID=Europe/Berlin:20260427T103000
UID:U14003-20260427T090000@EFBOLDENBURG
SUMMARY:DELFI ®  Juli 2025 geborene Kinder 2.Teil (U14003) 
LOCATION:Ev. Familien-Bildungsstätte, Kinderraum, Gorch-Fock-Str. 5 a, 26135 Oldenburg
END:VEVENT
BEGIN:VEVENT
DTSTAMP:20260422T045538
DTSTART;TZID=Europe/Berlin:20260504T090000
DTEND;TZID=Europe/Berlin:20260504T103000
UID:U14003-20260504T090000@EFBOLDENBURG
SUMMARY:DELFI ®  Juli 2025 geborene Kinder 2.Teil (U14003) 
LOCATION:Ev. Familien-Bildungsstätte, Kinderraum, Gorch-Fock-Str. 5 a, 26135 Oldenburg
END:VEVENT
BEGIN:VEVENT
DTSTAMP:20260422T045538
DTSTART;TZID=Europe/Berlin:20260511T090000
DTEND;TZID=Europe/Berlin:20260511T103000
UID:U14003-20260511T090000@EFBOLDENBURG
SUMMARY:DELFI ®  Juli 2025 geborene Kinder 2.Teil (U14003) 
LOCATION:Ev. Familien-Bildungsstätte, Kinderraum, Gorch-Fock-Str. 5 a, 26135 Oldenburg
END:VEVENT
BEGIN:VEVENT
DTSTAMP:20260422T045538
DTSTART;TZID=Europe/Berlin:20260518T090000
DTEND;TZID=Europe/Berlin:20260518T103000
UID:U14003-20260518T090000@EFBOLDENBURG
SUMMARY:DELFI ®  Juli 2025 geborene Kinder 2.Teil (U14003) 
LOCATION:Ev. Familien-Bildungsstätte, Kinderraum, Gorch-Fock-Str. 5 a, 26135 Oldenburg
END:VEVENT
BEGIN:VEVENT
DTSTAMP:20260422T045538
DTSTART;TZID=Europe/Berlin:20260601T090000
DTEND;TZID=Europe/Berlin:20260601T103000
UID:U14003-20260601T090000@EFBOLDENBURG
SUMMARY:DELFI ®  Juli 2025 geborene Kinder 2.Teil (U14003) 
LOCATION:Ev. Familien-Bildungsstätte, Kinderraum, Gorch-Fock-Str. 5 a, 26135 Oldenburg
END:VEVENT
BEGIN:VEVENT
DTSTAMP:20260422T045538
DTSTART;TZID=Europe/Berlin:20260608T090000
DTEND;TZID=Europe/Berlin:20260608T103000
UID:U14003-20260608T090000@EFBOLDENBURG
SUMMARY:DELFI ®  Juli 2025 geborene Kinder 2.Teil (U14003) 
LOCATION:Ev. Familien-Bildungsstätte, Kinderraum, Gorch-Fock-Str. 5 a, 26135 Oldenburg
END:VEVENT
BEGIN:VEVENT
DTSTAMP:20260422T045538
DTSTART;TZID=Europe/Berlin:20260615T090000
DTEND;TZID=Europe/Berlin:20260615T103000
UID:U14003-20260615T090000@EFBOLDENBURG
SUMMARY:DELFI ®  Juli 2025 geborene Kinder 2.Teil (U14003) 
LOCATION:Ev. Familien-Bildungsstätte, Kinderraum, Gorch-Fock-Str. 5 a, 26135 Oldenburg
END:VEVENT
BEGIN:VEVENT
DTSTAMP:20260422T045538
DTSTART;TZID=Europe/Berlin:20260622T090000
DTEND;TZID=Europe/Berlin:20260622T103000
UID:U14003-20260622T090000@EFBOLDENBURG
SUMMARY:DELFI ®  Juli 2025 geborene Kinder 2.Teil (U14003) 
LOCATION:Ev. Familien-Bildungsstätte, Kinderraum, Gorch-Fock-Str. 5 a, 26135 Oldenburg
END:VEVENT
BEGIN:VEVENT
DTSTAMP:20260422T045538
DTSTART;TZID=Europe/Berlin:20260629T090000
DTEND;TZID=Europe/Berlin:20260629T103000
UID:U14003-20260629T090000@EFBOLDENBURG
SUMMARY:DELFI ®  Juli 2025 geborene Kinder 2.Teil (U14003) 
LOCATION:Ev. Familien-Bildungsstätte, Kinderraum, Gorch-Fock-Str. 5 a, 26135 Oldenburg
END:VEVENT
END:VCALENDAR