BEGIN:VCALENDAR
VERSION:2.0
PRODID:https://www.kufer.de/kuferweb / DE
METHOD:PUBLISH
CALSCALE:GREGORIAN
X-WR-TIMEZONE:Europe/Berlin
BEGIN:VTIMEZONE
TZID:Europe/Berlin
X-LIC-LOCATION:Europe/Berlin
BEGIN:DAYLIGHT
TZOFFSETFROM:+0100
TZOFFSETTO:+0200
TZNAME:CEST
DTSTART:19700329T020000
RRULE:FREQ=YEARLY;INTERVAL=1;BYDAY=-1SU;BYMONTH=3
END:DAYLIGHT
BEGIN:STANDARD
TZOFFSETFROM:+0200
TZOFFSETTO:+0100
TZNAME:CET
DTSTART:19701025T030000
RRULE:FREQ=YEARLY;INTERVAL=1;BYDAY=-1SU;BYMONTH=10
END:STANDARD
END:VTIMEZONE
BEGIN:VEVENT
DTSTAMP:20260421T182839
DTSTART;TZID=Europe/Berlin:20260416T104500
DTEND;TZID=Europe/Berlin:20260416T121500
UID:U14009-20260416T104500@EFBOLDENBURG
SUMMARY:DELFI ®  September 2025 geborene Kinder 2.Teil (U14009) 
LOCATION:Ev. Familien-Bildungsstätte, Kinderraum, Gorch-Fock-Str. 5 a, 26135 Oldenburg
END:VEVENT
BEGIN:VEVENT
DTSTAMP:20260421T182839
DTSTART;TZID=Europe/Berlin:20260423T104500
DTEND;TZID=Europe/Berlin:20260423T121500
UID:U14009-20260423T104500@EFBOLDENBURG
SUMMARY:DELFI ®  September 2025 geborene Kinder 2.Teil (U14009) 
LOCATION:Ev. Familien-Bildungsstätte, Kinderraum, Gorch-Fock-Str. 5 a, 26135 Oldenburg
END:VEVENT
BEGIN:VEVENT
DTSTAMP:20260421T182839
DTSTART;TZID=Europe/Berlin:20260430T104500
DTEND;TZID=Europe/Berlin:20260430T121500
UID:U14009-20260430T104500@EFBOLDENBURG
SUMMARY:DELFI ®  September 2025 geborene Kinder 2.Teil (U14009) 
LOCATION:Ev. Familien-Bildungsstätte, Kinderraum, Gorch-Fock-Str. 5 a, 26135 Oldenburg
END:VEVENT
BEGIN:VEVENT
DTSTAMP:20260421T182839
DTSTART;TZID=Europe/Berlin:20260507T104500
DTEND;TZID=Europe/Berlin:20260507T121500
UID:U14009-20260507T104500@EFBOLDENBURG
SUMMARY:DELFI ®  September 2025 geborene Kinder 2.Teil (U14009) 
LOCATION:Ev. Familien-Bildungsstätte, Kinderraum, Gorch-Fock-Str. 5 a, 26135 Oldenburg
END:VEVENT
BEGIN:VEVENT
DTSTAMP:20260421T182839
DTSTART;TZID=Europe/Berlin:20260521T104500
DTEND;TZID=Europe/Berlin:20260521T121500
UID:U14009-20260521T104500@EFBOLDENBURG
SUMMARY:DELFI ®  September 2025 geborene Kinder 2.Teil (U14009) 
LOCATION:Ev. Familien-Bildungsstätte, Kinderraum, Gorch-Fock-Str. 5 a, 26135 Oldenburg
END:VEVENT
BEGIN:VEVENT
DTSTAMP:20260421T182839
DTSTART;TZID=Europe/Berlin:20260528T104500
DTEND;TZID=Europe/Berlin:20260528T121500
UID:U14009-20260528T104500@EFBOLDENBURG
SUMMARY:DELFI ®  September 2025 geborene Kinder 2.Teil (U14009) 
LOCATION:Ev. Familien-Bildungsstätte, Kinderraum, Gorch-Fock-Str. 5 a, 26135 Oldenburg
END:VEVENT
BEGIN:VEVENT
DTSTAMP:20260421T182839
DTSTART;TZID=Europe/Berlin:20260604T104500
DTEND;TZID=Europe/Berlin:20260604T121500
UID:U14009-20260604T104500@EFBOLDENBURG
SUMMARY:DELFI ®  September 2025 geborene Kinder 2.Teil (U14009) 
LOCATION:Ev. Familien-Bildungsstätte, Kinderraum, Gorch-Fock-Str. 5 a, 26135 Oldenburg
END:VEVENT
BEGIN:VEVENT
DTSTAMP:20260421T182839
DTSTART;TZID=Europe/Berlin:20260611T104500
DTEND;TZID=Europe/Berlin:20260611T121500
UID:U14009-20260611T104500@EFBOLDENBURG
SUMMARY:DELFI ®  September 2025 geborene Kinder 2.Teil (U14009) 
LOCATION:Ev. Familien-Bildungsstätte, Kinderraum, Gorch-Fock-Str. 5 a, 26135 Oldenburg
END:VEVENT
BEGIN:VEVENT
DTSTAMP:20260421T182839
DTSTART;TZID=Europe/Berlin:20260618T104500
DTEND;TZID=Europe/Berlin:20260618T121500
UID:U14009-20260618T104500@EFBOLDENBURG
SUMMARY:DELFI ®  September 2025 geborene Kinder 2.Teil (U14009) 
LOCATION:Ev. Familien-Bildungsstätte, Kinderraum, Gorch-Fock-Str. 5 a, 26135 Oldenburg
END:VEVENT
BEGIN:VEVENT
DTSTAMP:20260421T182839
DTSTART;TZID=Europe/Berlin:20260625T104500
DTEND;TZID=Europe/Berlin:20260625T121500
UID:U14009-20260625T104500@EFBOLDENBURG
SUMMARY:DELFI ®  September 2025 geborene Kinder 2.Teil (U14009) 
LOCATION:Ev. Familien-Bildungsstätte, Kinderraum, Gorch-Fock-Str. 5 a, 26135 Oldenburg
END:VEVENT
BEGIN:VEVENT
DTSTAMP:20260421T182839
DTSTART;TZID=Europe/Berlin:20260813T104500
DTEND;TZID=Europe/Berlin:20260813T121500
UID:U14009-20260813T104500@EFBOLDENBURG
SUMMARY:DELFI ®  September 2025 geborene Kinder 2.Teil (U14009) 
LOCATION:Ev. Familien-Bildungsstätte, Kinderraum, Gorch-Fock-Str. 5 a, 26135 Oldenburg
END:VEVENT
BEGIN:VEVENT
DTSTAMP:20260421T182839
DTSTART;TZID=Europe/Berlin:20260820T104500
DTEND;TZID=Europe/Berlin:20260820T121500
UID:U14009-20260820T104500@EFBOLDENBURG
SUMMARY:DELFI ®  September 2025 geborene Kinder 2.Teil (U14009) 
LOCATION:Ev. Familien-Bildungsstätte, Kinderraum, Gorch-Fock-Str. 5 a, 26135 Oldenburg
END:VEVENT
BEGIN:VEVENT
DTSTAMP:20260421T182839
DTSTART;TZID=Europe/Berlin:20260827T104500
DTEND;TZID=Europe/Berlin:20260827T121500
UID:U14009-20260827T104500@EFBOLDENBURG
SUMMARY:DELFI ®  September 2025 geborene Kinder 2.Teil (U14009) 
LOCATION:Ev. Familien-Bildungsstätte, Kinderraum, Gorch-Fock-Str. 5 a, 26135 Oldenburg
END:VEVENT
BEGIN:VEVENT
DTSTAMP:20260421T182839
DTSTART;TZID=Europe/Berlin:20260903T104500
DTEND;TZID=Europe/Berlin:20260903T121500
UID:U14009-20260903T104500@EFBOLDENBURG
SUMMARY:DELFI ®  September 2025 geborene Kinder 2.Teil (U14009) 
LOCATION:Ev. Familien-Bildungsstätte, Kinderraum, Gorch-Fock-Str. 5 a, 26135 Oldenburg
END:VEVENT
BEGIN:VEVENT
DTSTAMP:20260421T182839
DTSTART;TZID=Europe/Berlin:20260910T104500
DTEND;TZID=Europe/Berlin:20260910T121500
UID:U14009-20260910T104500@EFBOLDENBURG
DESCRIPTION:Ersatz für Ausfall am 09.04.2026
SUMMARY:DELFI ®  September 2025 geborene Kinder 2.Teil (U14009) 
LOCATION:Ev. Familien-Bildungsstätte, Kinderraum, Gorch-Fock-Str. 5 a, 26135 Oldenburg
END:VEVENT
END:VCALENDAR