BEGIN:VCALENDAR
VERSION:2.0
PRODID:https://www.kufer.de/kuferweb / DE
METHOD:PUBLISH
CALSCALE:GREGORIAN
X-WR-TIMEZONE:Europe/Berlin
BEGIN:VTIMEZONE
TZID:Europe/Berlin
X-LIC-LOCATION:Europe/Berlin
BEGIN:DAYLIGHT
TZOFFSETFROM:+0100
TZOFFSETTO:+0200
TZNAME:CEST
DTSTART:19700329T020000
RRULE:FREQ=YEARLY;INTERVAL=1;BYDAY=-1SU;BYMONTH=3
END:DAYLIGHT
BEGIN:STANDARD
TZOFFSETFROM:+0200
TZOFFSETTO:+0100
TZNAME:CET
DTSTART:19701025T030000
RRULE:FREQ=YEARLY;INTERVAL=1;BYDAY=-1SU;BYMONTH=10
END:STANDARD
END:VTIMEZONE
BEGIN:VEVENT
DTSTAMP:20260421T185807
DTSTART;TZID=Europe/Berlin:20260505T090000
DTEND;TZID=Europe/Berlin:20260505T103000
UID:U14011-20260505T090000@EFBOLDENBURG
SUMMARY:DELFI ®  September 2025 geborene Kinder 2.Teil (U14011) 
LOCATION:Christophorus-Haus, Brookweg 32, Brookweg 32, 26127 Oldenburg
END:VEVENT
BEGIN:VEVENT
DTSTAMP:20260421T185807
DTSTART;TZID=Europe/Berlin:20260512T090000
DTEND;TZID=Europe/Berlin:20260512T103000
UID:U14011-20260512T090000@EFBOLDENBURG
SUMMARY:DELFI ®  September 2025 geborene Kinder 2.Teil (U14011) 
LOCATION:Christophorus-Haus, Brookweg 32, Brookweg 32, 26127 Oldenburg
END:VEVENT
BEGIN:VEVENT
DTSTAMP:20260421T185807
DTSTART;TZID=Europe/Berlin:20260519T090000
DTEND;TZID=Europe/Berlin:20260519T103000
UID:U14011-20260519T090000@EFBOLDENBURG
SUMMARY:DELFI ®  September 2025 geborene Kinder 2.Teil (U14011) 
LOCATION:Christophorus-Haus, Brookweg 32, Brookweg 32, 26127 Oldenburg
END:VEVENT
BEGIN:VEVENT
DTSTAMP:20260421T185807
DTSTART;TZID=Europe/Berlin:20260602T090000
DTEND;TZID=Europe/Berlin:20260602T103000
UID:U14011-20260602T090000@EFBOLDENBURG
SUMMARY:DELFI ®  September 2025 geborene Kinder 2.Teil (U14011) 
LOCATION:Christophorus-Haus, Brookweg 32, Brookweg 32, 26127 Oldenburg
END:VEVENT
BEGIN:VEVENT
DTSTAMP:20260421T185807
DTSTART;TZID=Europe/Berlin:20260609T090000
DTEND;TZID=Europe/Berlin:20260609T103000
UID:U14011-20260609T090000@EFBOLDENBURG
SUMMARY:DELFI ®  September 2025 geborene Kinder 2.Teil (U14011) 
LOCATION:Christophorus-Haus, Brookweg 32, Brookweg 32, 26127 Oldenburg
END:VEVENT
BEGIN:VEVENT
DTSTAMP:20260421T185807
DTSTART;TZID=Europe/Berlin:20260616T090000
DTEND;TZID=Europe/Berlin:20260616T103000
UID:U14011-20260616T090000@EFBOLDENBURG
SUMMARY:DELFI ®  September 2025 geborene Kinder 2.Teil (U14011) 
LOCATION:Christophorus-Haus, Brookweg 32, Brookweg 32, 26127 Oldenburg
END:VEVENT
BEGIN:VEVENT
DTSTAMP:20260421T185807
DTSTART;TZID=Europe/Berlin:20260623T090000
DTEND;TZID=Europe/Berlin:20260623T103000
UID:U14011-20260623T090000@EFBOLDENBURG
SUMMARY:DELFI ®  September 2025 geborene Kinder 2.Teil (U14011) 
LOCATION:Christophorus-Haus, Brookweg 32, Brookweg 32, 26127 Oldenburg
END:VEVENT
BEGIN:VEVENT
DTSTAMP:20260421T185807
DTSTART;TZID=Europe/Berlin:20260630T090000
DTEND;TZID=Europe/Berlin:20260630T103000
UID:U14011-20260630T090000@EFBOLDENBURG
SUMMARY:DELFI ®  September 2025 geborene Kinder 2.Teil (U14011) 
LOCATION:Christophorus-Haus, Brookweg 32, Brookweg 32, 26127 Oldenburg
END:VEVENT
BEGIN:VEVENT
DTSTAMP:20260421T185807
DTSTART;TZID=Europe/Berlin:20260818T090000
DTEND;TZID=Europe/Berlin:20260818T103000
UID:U14011-20260818T090000@EFBOLDENBURG
SUMMARY:DELFI ®  September 2025 geborene Kinder 2.Teil (U14011) 
LOCATION:Christophorus-Haus, Brookweg 32, Brookweg 32, 26127 Oldenburg
END:VEVENT
BEGIN:VEVENT
DTSTAMP:20260421T185807
DTSTART;TZID=Europe/Berlin:20260825T090000
DTEND;TZID=Europe/Berlin:20260825T103000
UID:U14011-20260825T090000@EFBOLDENBURG
SUMMARY:DELFI ®  September 2025 geborene Kinder 2.Teil (U14011) 
LOCATION:Christophorus-Haus, Brookweg 32, Brookweg 32, 26127 Oldenburg
END:VEVENT
BEGIN:VEVENT
DTSTAMP:20260421T185807
DTSTART;TZID=Europe/Berlin:20260901T090000
DTEND;TZID=Europe/Berlin:20260901T103000
UID:U14011-20260901T090000@EFBOLDENBURG
SUMMARY:DELFI ®  September 2025 geborene Kinder 2.Teil (U14011) 
LOCATION:Christophorus-Haus, Brookweg 32, Brookweg 32, 26127 Oldenburg
END:VEVENT
BEGIN:VEVENT
DTSTAMP:20260421T185807
DTSTART;TZID=Europe/Berlin:20260908T090000
DTEND;TZID=Europe/Berlin:20260908T103000
UID:U14011-20260908T090000@EFBOLDENBURG
SUMMARY:DELFI ®  September 2025 geborene Kinder 2.Teil (U14011) 
LOCATION:Christophorus-Haus, Brookweg 32, Brookweg 32, 26127 Oldenburg
END:VEVENT
BEGIN:VEVENT
DTSTAMP:20260421T185807
DTSTART;TZID=Europe/Berlin:20260915T090000
DTEND;TZID=Europe/Berlin:20260915T103000
UID:U14011-20260915T090000@EFBOLDENBURG
SUMMARY:DELFI ®  September 2025 geborene Kinder 2.Teil (U14011) 
LOCATION:Christophorus-Haus, Brookweg 32, Brookweg 32, 26127 Oldenburg
END:VEVENT
BEGIN:VEVENT
DTSTAMP:20260421T185807
DTSTART;TZID=Europe/Berlin:20260922T090000
DTEND;TZID=Europe/Berlin:20260922T103000
UID:U14011-20260922T090000@EFBOLDENBURG
SUMMARY:DELFI ®  September 2025 geborene Kinder 2.Teil (U14011) 
LOCATION:Christophorus-Haus, Brookweg 32, Brookweg 32, 26127 Oldenburg
END:VEVENT
BEGIN:VEVENT
DTSTAMP:20260421T185807
DTSTART;TZID=Europe/Berlin:20260929T090000
DTEND;TZID=Europe/Berlin:20260929T103000
UID:U14011-20260929T090000@EFBOLDENBURG
DESCRIPTION:Ersatz für Ausfall am 28.04.2026
SUMMARY:DELFI ®  September 2025 geborene Kinder 2.Teil (U14011) 
LOCATION:Christophorus-Haus, Brookweg 32, Brookweg 32, 26127 Oldenburg
END:VEVENT
END:VCALENDAR