BEGIN:VCALENDAR
VERSION:2.0
PRODID:https://www.kufer.de/kuferweb / DE
METHOD:PUBLISH
CALSCALE:GREGORIAN
X-WR-TIMEZONE:Europe/Berlin
BEGIN:VTIMEZONE
TZID:Europe/Berlin
X-LIC-LOCATION:Europe/Berlin
BEGIN:DAYLIGHT
TZOFFSETFROM:+0100
TZOFFSETTO:+0200
TZNAME:CEST
DTSTART:19700329T020000
RRULE:FREQ=YEARLY;INTERVAL=1;BYDAY=-1SU;BYMONTH=3
END:DAYLIGHT
BEGIN:STANDARD
TZOFFSETFROM:+0200
TZOFFSETTO:+0100
TZNAME:CET
DTSTART:19701025T030000
RRULE:FREQ=YEARLY;INTERVAL=1;BYDAY=-1SU;BYMONTH=10
END:STANDARD
END:VTIMEZONE
BEGIN:VEVENT
DTSTAMP:20260422T012028
DTSTART;TZID=Europe/Berlin:20260107T104500
DTEND;TZID=Europe/Berlin:20260107T121500
UID:U14013-20260107T104500@EFBOLDENBURG
SUMMARY:DELFI ®  Oktober 2025 geborene Kinder 1.Teil (U14013) 
LOCATION:Ev. Familien-Bildungsstätte, Kinderraum, Gorch-Fock-Str. 5 a, 26135 Oldenburg
END:VEVENT
BEGIN:VEVENT
DTSTAMP:20260422T012028
DTSTART;TZID=Europe/Berlin:20260114T104500
DTEND;TZID=Europe/Berlin:20260114T121500
UID:U14013-20260114T104500@EFBOLDENBURG
SUMMARY:DELFI ®  Oktober 2025 geborene Kinder 1.Teil (U14013) 
LOCATION:Ev. Familien-Bildungsstätte, Kinderraum, Gorch-Fock-Str. 5 a, 26135 Oldenburg
END:VEVENT
BEGIN:VEVENT
DTSTAMP:20260422T012028
DTSTART;TZID=Europe/Berlin:20260121T104500
DTEND;TZID=Europe/Berlin:20260121T121500
UID:U14013-20260121T104500@EFBOLDENBURG
SUMMARY:DELFI ®  Oktober 2025 geborene Kinder 1.Teil (U14013) 
LOCATION:Ev. Familien-Bildungsstätte, Kinderraum, Gorch-Fock-Str. 5 a, 26135 Oldenburg
END:VEVENT
BEGIN:VEVENT
DTSTAMP:20260422T012028
DTSTART;TZID=Europe/Berlin:20260128T104500
DTEND;TZID=Europe/Berlin:20260128T121500
UID:U14013-20260128T104500@EFBOLDENBURG
SUMMARY:DELFI ®  Oktober 2025 geborene Kinder 1.Teil (U14013) 
LOCATION:Ev. Familien-Bildungsstätte, Kinderraum, Gorch-Fock-Str. 5 a, 26135 Oldenburg
END:VEVENT
BEGIN:VEVENT
DTSTAMP:20260422T012028
DTSTART;TZID=Europe/Berlin:20260211T104500
DTEND;TZID=Europe/Berlin:20260211T121500
UID:U14013-20260211T104500@EFBOLDENBURG
SUMMARY:DELFI ®  Oktober 2025 geborene Kinder 1.Teil (U14013) 
LOCATION:Ev. Familien-Bildungsstätte, Kinderraum, Gorch-Fock-Str. 5 a, 26135 Oldenburg
END:VEVENT
BEGIN:VEVENT
DTSTAMP:20260422T012028
DTSTART;TZID=Europe/Berlin:20260218T104500
DTEND;TZID=Europe/Berlin:20260218T121500
UID:U14013-20260218T104500@EFBOLDENBURG
SUMMARY:DELFI ®  Oktober 2025 geborene Kinder 1.Teil (U14013) 
LOCATION:Ev. Familien-Bildungsstätte, Kinderraum, Gorch-Fock-Str. 5 a, 26135 Oldenburg
END:VEVENT
BEGIN:VEVENT
DTSTAMP:20260422T012028
DTSTART;TZID=Europe/Berlin:20260225T104500
DTEND;TZID=Europe/Berlin:20260225T121500
UID:U14013-20260225T104500@EFBOLDENBURG
SUMMARY:DELFI ®  Oktober 2025 geborene Kinder 1.Teil (U14013) 
LOCATION:Ev. Familien-Bildungsstätte, Kinderraum, Gorch-Fock-Str. 5 a, 26135 Oldenburg
END:VEVENT
BEGIN:VEVENT
DTSTAMP:20260422T012028
DTSTART;TZID=Europe/Berlin:20260304T104500
DTEND;TZID=Europe/Berlin:20260304T121500
UID:U14013-20260304T104500@EFBOLDENBURG
SUMMARY:DELFI ®  Oktober 2025 geborene Kinder 1.Teil (U14013) 
LOCATION:Ev. Familien-Bildungsstätte, Kinderraum, Gorch-Fock-Str. 5 a, 26135 Oldenburg
END:VEVENT
BEGIN:VEVENT
DTSTAMP:20260422T012028
DTSTART;TZID=Europe/Berlin:20260318T104500
DTEND;TZID=Europe/Berlin:20260318T121500
UID:U14013-20260318T104500@EFBOLDENBURG
SUMMARY:DELFI ®  Oktober 2025 geborene Kinder 1.Teil (U14013) 
LOCATION:Ev. Familien-Bildungsstätte, Kinderraum, Gorch-Fock-Str. 5 a, 26135 Oldenburg
END:VEVENT
BEGIN:VEVENT
DTSTAMP:20260422T012028
DTSTART;TZID=Europe/Berlin:20260408T104500
DTEND;TZID=Europe/Berlin:20260408T121500
UID:U14013-20260408T104500@EFBOLDENBURG
SUMMARY:DELFI ®  Oktober 2025 geborene Kinder 1.Teil (U14013) 
LOCATION:Ev. Familien-Bildungsstätte, Kinderraum, Gorch-Fock-Str. 5 a, 26135 Oldenburg
END:VEVENT
BEGIN:VEVENT
DTSTAMP:20260422T012028
DTSTART;TZID=Europe/Berlin:20260415T104500
DTEND;TZID=Europe/Berlin:20260415T121500
UID:U14013-20260415T104500@EFBOLDENBURG
SUMMARY:DELFI ®  Oktober 2025 geborene Kinder 1.Teil (U14013) 
LOCATION:Ev. Familien-Bildungsstätte, Kinderraum, Gorch-Fock-Str. 5 a, 26135 Oldenburg
END:VEVENT
BEGIN:VEVENT
DTSTAMP:20260422T012028
DTSTART;TZID=Europe/Berlin:20260422T104500
DTEND;TZID=Europe/Berlin:20260422T121500
UID:U14013-20260422T104500@EFBOLDENBURG
SUMMARY:DELFI ®  Oktober 2025 geborene Kinder 1.Teil (U14013) 
LOCATION:Ev. Familien-Bildungsstätte, Kinderraum, Gorch-Fock-Str. 5 a, 26135 Oldenburg
END:VEVENT
BEGIN:VEVENT
DTSTAMP:20260422T012028
DTSTART;TZID=Europe/Berlin:20260429T104500
DTEND;TZID=Europe/Berlin:20260429T121500
UID:U14013-20260429T104500@EFBOLDENBURG
SUMMARY:DELFI ®  Oktober 2025 geborene Kinder 1.Teil (U14013) 
LOCATION:Ev. Familien-Bildungsstätte, Kinderraum, Gorch-Fock-Str. 5 a, 26135 Oldenburg
END:VEVENT
BEGIN:VEVENT
DTSTAMP:20260422T012028
DTSTART;TZID=Europe/Berlin:20260506T104500
DTEND;TZID=Europe/Berlin:20260506T121500
UID:U14013-20260506T104500@EFBOLDENBURG
DESCRIPTION:Ersatz für Ausfall am 04.02.2026
SUMMARY:DELFI ®  Oktober 2025 geborene Kinder 1.Teil (U14013) 
LOCATION:Ev. Familien-Bildungsstätte, Kinderraum, Gorch-Fock-Str. 5 a, 26135 Oldenburg
END:VEVENT
END:VCALENDAR