BEGIN:VCALENDAR
VERSION:2.0
PRODID:https://www.kufer.de/kuferweb / DE
METHOD:PUBLISH
CALSCALE:GREGORIAN
X-WR-TIMEZONE:Europe/Berlin
BEGIN:VTIMEZONE
TZID:Europe/Berlin
X-LIC-LOCATION:Europe/Berlin
BEGIN:DAYLIGHT
TZOFFSETFROM:+0100
TZOFFSETTO:+0200
TZNAME:CEST
DTSTART:19700329T020000
RRULE:FREQ=YEARLY;INTERVAL=1;BYDAY=-1SU;BYMONTH=3
END:DAYLIGHT
BEGIN:STANDARD
TZOFFSETFROM:+0200
TZOFFSETTO:+0100
TZNAME:CET
DTSTART:19701025T030000
RRULE:FREQ=YEARLY;INTERVAL=1;BYDAY=-1SU;BYMONTH=10
END:STANDARD
END:VTIMEZONE
BEGIN:VEVENT
DTSTAMP:20260421T165828
DTSTART;TZID=Europe/Berlin:20260116T104500
DTEND;TZID=Europe/Berlin:20260116T121500
UID:U14014-20260116T104500@EFBOLDENBURG
SUMMARY:DELFI ®  Oktober 2025 geborene Kinder 1.Teil (U14014) 
LOCATION:Ev. Familien-Bildungsstätte, Saal, Gorch-Fock-Str. 5 a, 26135 Oldenburg
END:VEVENT
BEGIN:VEVENT
DTSTAMP:20260421T165828
DTSTART;TZID=Europe/Berlin:20260130T104500
DTEND;TZID=Europe/Berlin:20260130T121500
UID:U14014-20260130T104500@EFBOLDENBURG
SUMMARY:DELFI ®  Oktober 2025 geborene Kinder 1.Teil (U14014) 
LOCATION:Ev. Familien-Bildungsstätte, Saal, Gorch-Fock-Str. 5 a, 26135 Oldenburg
END:VEVENT
BEGIN:VEVENT
DTSTAMP:20260421T165828
DTSTART;TZID=Europe/Berlin:20260206T104500
DTEND;TZID=Europe/Berlin:20260206T121500
UID:U14014-20260206T104500@EFBOLDENBURG
SUMMARY:DELFI ®  Oktober 2025 geborene Kinder 1.Teil (U14014) 
LOCATION:Ev. Familien-Bildungsstätte, Saal, Gorch-Fock-Str. 5 a, 26135 Oldenburg
END:VEVENT
BEGIN:VEVENT
DTSTAMP:20260421T165828
DTSTART;TZID=Europe/Berlin:20260213T104500
DTEND;TZID=Europe/Berlin:20260213T121500
UID:U14014-20260213T104500@EFBOLDENBURG
SUMMARY:DELFI ®  Oktober 2025 geborene Kinder 1.Teil (U14014) 
LOCATION:Ev. Familien-Bildungsstätte, Saal, Gorch-Fock-Str. 5 a, 26135 Oldenburg
END:VEVENT
BEGIN:VEVENT
DTSTAMP:20260421T165828
DTSTART;TZID=Europe/Berlin:20260220T104500
DTEND;TZID=Europe/Berlin:20260220T121500
UID:U14014-20260220T104500@EFBOLDENBURG
SUMMARY:DELFI ®  Oktober 2025 geborene Kinder 1.Teil (U14014) 
LOCATION:Ev. Familien-Bildungsstätte, Saal, Gorch-Fock-Str. 5 a, 26135 Oldenburg
END:VEVENT
BEGIN:VEVENT
DTSTAMP:20260421T165828
DTSTART;TZID=Europe/Berlin:20260306T104500
DTEND;TZID=Europe/Berlin:20260306T121500
UID:U14014-20260306T104500@EFBOLDENBURG
SUMMARY:DELFI ®  Oktober 2025 geborene Kinder 1.Teil (U14014) 
LOCATION:Ev. Familien-Bildungsstätte, Saal, Gorch-Fock-Str. 5 a, 26135 Oldenburg
END:VEVENT
BEGIN:VEVENT
DTSTAMP:20260421T165828
DTSTART;TZID=Europe/Berlin:20260313T104500
DTEND;TZID=Europe/Berlin:20260313T121500
UID:U14014-20260313T104500@EFBOLDENBURG
SUMMARY:DELFI ®  Oktober 2025 geborene Kinder 1.Teil (U14014) 
LOCATION:Ev. Familien-Bildungsstätte, Saal, Gorch-Fock-Str. 5 a, 26135 Oldenburg
END:VEVENT
BEGIN:VEVENT
DTSTAMP:20260421T165828
DTSTART;TZID=Europe/Berlin:20260320T104500
DTEND;TZID=Europe/Berlin:20260320T121500
UID:U14014-20260320T104500@EFBOLDENBURG
SUMMARY:DELFI ®  Oktober 2025 geborene Kinder 1.Teil (U14014) 
LOCATION:Ev. Familien-Bildungsstätte, Saal, Gorch-Fock-Str. 5 a, 26135 Oldenburg
END:VEVENT
BEGIN:VEVENT
DTSTAMP:20260421T165828
DTSTART;TZID=Europe/Berlin:20260410T104500
DTEND;TZID=Europe/Berlin:20260410T121500
UID:U14014-20260410T104500@EFBOLDENBURG
SUMMARY:DELFI ®  Oktober 2025 geborene Kinder 1.Teil (U14014) 
LOCATION:Ev. Familien-Bildungsstätte, Saal, Gorch-Fock-Str. 5 a, 26135 Oldenburg
END:VEVENT
BEGIN:VEVENT
DTSTAMP:20260421T165828
DTSTART;TZID=Europe/Berlin:20260417T104500
DTEND;TZID=Europe/Berlin:20260417T121500
UID:U14014-20260417T104500@EFBOLDENBURG
DESCRIPTION:Ersatz für Ausfall am 09.01.2026
SUMMARY:DELFI ®  Oktober 2025 geborene Kinder 1.Teil (U14014) 
LOCATION:Ev. Familien-Bildungsstätte, Saal, Gorch-Fock-Str. 5 a, 26135 Oldenburg
END:VEVENT
BEGIN:VEVENT
DTSTAMP:20260421T165828
DTSTART;TZID=Europe/Berlin:20260424T104500
DTEND;TZID=Europe/Berlin:20260424T121500
UID:U14014-20260424T104500@EFBOLDENBURG
DESCRIPTION:Ersatz für Ausfall am 23.01.2026
SUMMARY:DELFI ®  Oktober 2025 geborene Kinder 1.Teil (U14014) 
LOCATION:Ev. Familien-Bildungsstätte, Saal, Gorch-Fock-Str. 5 a, 26135 Oldenburg
END:VEVENT
BEGIN:VEVENT
DTSTAMP:20260421T165828
DTSTART;TZID=Europe/Berlin:20260508T104500
DTEND;TZID=Europe/Berlin:20260508T121500
UID:U14014-20260508T104500@EFBOLDENBURG
SUMMARY:DELFI ®  Oktober 2025 geborene Kinder 1.Teil (U14014) 
LOCATION:Ev. Familien-Bildungsstätte, Saal, Gorch-Fock-Str. 5 a, 26135 Oldenburg
END:VEVENT
END:VCALENDAR