BEGIN:VCALENDAR
VERSION:2.0
PRODID:https://www.kufer.de/kuferweb / DE
METHOD:PUBLISH
CALSCALE:GREGORIAN
X-WR-TIMEZONE:Europe/Berlin
BEGIN:VTIMEZONE
TZID:Europe/Berlin
X-LIC-LOCATION:Europe/Berlin
BEGIN:DAYLIGHT
TZOFFSETFROM:+0100
TZOFFSETTO:+0200
TZNAME:CEST
DTSTART:19700329T020000
RRULE:FREQ=YEARLY;INTERVAL=1;BYDAY=-1SU;BYMONTH=3
END:DAYLIGHT
BEGIN:STANDARD
TZOFFSETFROM:+0200
TZOFFSETTO:+0100
TZNAME:CET
DTSTART:19701025T030000
RRULE:FREQ=YEARLY;INTERVAL=1;BYDAY=-1SU;BYMONTH=10
END:STANDARD
END:VTIMEZONE
BEGIN:VEVENT
DTSTAMP:20260421T233137
DTSTART;TZID=Europe/Berlin:20260513T104500
DTEND;TZID=Europe/Berlin:20260513T121500
UID:U14015-20260513T104500@EFBOLDENBURG
SUMMARY:DELFI ®  Oktober 2025 geborene Kinder 2.Teil (U14015) 
LOCATION:Ev. Familien-Bildungsstätte, Kinderraum, Gorch-Fock-Str. 5 a, 26135 Oldenburg
END:VEVENT
BEGIN:VEVENT
DTSTAMP:20260421T233137
DTSTART;TZID=Europe/Berlin:20260520T104500
DTEND;TZID=Europe/Berlin:20260520T121500
UID:U14015-20260520T104500@EFBOLDENBURG
SUMMARY:DELFI ®  Oktober 2025 geborene Kinder 2.Teil (U14015) 
LOCATION:Ev. Familien-Bildungsstätte, Kinderraum, Gorch-Fock-Str. 5 a, 26135 Oldenburg
END:VEVENT
BEGIN:VEVENT
DTSTAMP:20260421T233137
DTSTART;TZID=Europe/Berlin:20260527T104500
DTEND;TZID=Europe/Berlin:20260527T121500
UID:U14015-20260527T104500@EFBOLDENBURG
SUMMARY:DELFI ®  Oktober 2025 geborene Kinder 2.Teil (U14015) 
LOCATION:Ev. Familien-Bildungsstätte, Kinderraum, Gorch-Fock-Str. 5 a, 26135 Oldenburg
END:VEVENT
BEGIN:VEVENT
DTSTAMP:20260421T233137
DTSTART;TZID=Europe/Berlin:20260603T104500
DTEND;TZID=Europe/Berlin:20260603T121500
UID:U14015-20260603T104500@EFBOLDENBURG
SUMMARY:DELFI ®  Oktober 2025 geborene Kinder 2.Teil (U14015) 
LOCATION:Ev. Familien-Bildungsstätte, Kinderraum, Gorch-Fock-Str. 5 a, 26135 Oldenburg
END:VEVENT
BEGIN:VEVENT
DTSTAMP:20260421T233137
DTSTART;TZID=Europe/Berlin:20260610T104500
DTEND;TZID=Europe/Berlin:20260610T121500
UID:U14015-20260610T104500@EFBOLDENBURG
SUMMARY:DELFI ®  Oktober 2025 geborene Kinder 2.Teil (U14015) 
LOCATION:Ev. Familien-Bildungsstätte, Kinderraum, Gorch-Fock-Str. 5 a, 26135 Oldenburg
END:VEVENT
BEGIN:VEVENT
DTSTAMP:20260421T233137
DTSTART;TZID=Europe/Berlin:20260617T104500
DTEND;TZID=Europe/Berlin:20260617T121500
UID:U14015-20260617T104500@EFBOLDENBURG
SUMMARY:DELFI ®  Oktober 2025 geborene Kinder 2.Teil (U14015) 
LOCATION:Ev. Familien-Bildungsstätte, Kinderraum, Gorch-Fock-Str. 5 a, 26135 Oldenburg
END:VEVENT
BEGIN:VEVENT
DTSTAMP:20260421T233137
DTSTART;TZID=Europe/Berlin:20260624T104500
DTEND;TZID=Europe/Berlin:20260624T121500
UID:U14015-20260624T104500@EFBOLDENBURG
SUMMARY:DELFI ®  Oktober 2025 geborene Kinder 2.Teil (U14015) 
LOCATION:Ev. Familien-Bildungsstätte, Kinderraum, Gorch-Fock-Str. 5 a, 26135 Oldenburg
END:VEVENT
BEGIN:VEVENT
DTSTAMP:20260421T233137
DTSTART;TZID=Europe/Berlin:20260701T104500
DTEND;TZID=Europe/Berlin:20260701T121500
UID:U14015-20260701T104500@EFBOLDENBURG
SUMMARY:DELFI ®  Oktober 2025 geborene Kinder 2.Teil (U14015) 
LOCATION:Ev. Familien-Bildungsstätte, Kinderraum, Gorch-Fock-Str. 5 a, 26135 Oldenburg
END:VEVENT
BEGIN:VEVENT
DTSTAMP:20260421T233137
DTSTART;TZID=Europe/Berlin:20260819T104500
DTEND;TZID=Europe/Berlin:20260819T121500
UID:U14015-20260819T104500@EFBOLDENBURG
SUMMARY:DELFI ®  Oktober 2025 geborene Kinder 2.Teil (U14015) 
LOCATION:Ev. Familien-Bildungsstätte, Kinderraum, Gorch-Fock-Str. 5 a, 26135 Oldenburg
END:VEVENT
BEGIN:VEVENT
DTSTAMP:20260421T233137
DTSTART;TZID=Europe/Berlin:20260826T104500
DTEND;TZID=Europe/Berlin:20260826T121500
UID:U14015-20260826T104500@EFBOLDENBURG
SUMMARY:DELFI ®  Oktober 2025 geborene Kinder 2.Teil (U14015) 
LOCATION:Ev. Familien-Bildungsstätte, Kinderraum, Gorch-Fock-Str. 5 a, 26135 Oldenburg
END:VEVENT
BEGIN:VEVENT
DTSTAMP:20260421T233137
DTSTART;TZID=Europe/Berlin:20260902T104500
DTEND;TZID=Europe/Berlin:20260902T121500
UID:U14015-20260902T104500@EFBOLDENBURG
SUMMARY:DELFI ®  Oktober 2025 geborene Kinder 2.Teil (U14015) 
LOCATION:Ev. Familien-Bildungsstätte, Kinderraum, Gorch-Fock-Str. 5 a, 26135 Oldenburg
END:VEVENT
BEGIN:VEVENT
DTSTAMP:20260421T233137
DTSTART;TZID=Europe/Berlin:20260909T104500
DTEND;TZID=Europe/Berlin:20260909T121500
UID:U14015-20260909T104500@EFBOLDENBURG
SUMMARY:DELFI ®  Oktober 2025 geborene Kinder 2.Teil (U14015) 
LOCATION:Ev. Familien-Bildungsstätte, Kinderraum, Gorch-Fock-Str. 5 a, 26135 Oldenburg
END:VEVENT
BEGIN:VEVENT
DTSTAMP:20260421T233137
DTSTART;TZID=Europe/Berlin:20260916T104500
DTEND;TZID=Europe/Berlin:20260916T121500
UID:U14015-20260916T104500@EFBOLDENBURG
SUMMARY:DELFI ®  Oktober 2025 geborene Kinder 2.Teil (U14015) 
LOCATION:Ev. Familien-Bildungsstätte, Kinderraum, Gorch-Fock-Str. 5 a, 26135 Oldenburg
END:VEVENT
BEGIN:VEVENT
DTSTAMP:20260421T233137
DTSTART;TZID=Europe/Berlin:20260923T104500
DTEND;TZID=Europe/Berlin:20260923T121500
UID:U14015-20260923T104500@EFBOLDENBURG
SUMMARY:DELFI ®  Oktober 2025 geborene Kinder 2.Teil (U14015) 
LOCATION:Ev. Familien-Bildungsstätte, Kinderraum, Gorch-Fock-Str. 5 a, 26135 Oldenburg
END:VEVENT
BEGIN:VEVENT
DTSTAMP:20260421T233137
DTSTART;TZID=Europe/Berlin:20260930T104500
DTEND;TZID=Europe/Berlin:20260930T121500
UID:U14015-20260930T104500@EFBOLDENBURG
SUMMARY:DELFI ®  Oktober 2025 geborene Kinder 2.Teil (U14015) 
LOCATION:Ev. Familien-Bildungsstätte, Kinderraum, Gorch-Fock-Str. 5 a, 26135 Oldenburg
END:VEVENT
END:VCALENDAR