BEGIN:VCALENDAR
VERSION:2.0
PRODID:https://www.kufer.de/kuferweb / DE
METHOD:PUBLISH
CALSCALE:GREGORIAN
X-WR-TIMEZONE:Europe/Berlin
BEGIN:VTIMEZONE
TZID:Europe/Berlin
X-LIC-LOCATION:Europe/Berlin
BEGIN:DAYLIGHT
TZOFFSETFROM:+0100
TZOFFSETTO:+0200
TZNAME:CEST
DTSTART:19700329T020000
RRULE:FREQ=YEARLY;INTERVAL=1;BYDAY=-1SU;BYMONTH=3
END:DAYLIGHT
BEGIN:STANDARD
TZOFFSETFROM:+0200
TZOFFSETTO:+0100
TZNAME:CET
DTSTART:19701025T030000
RRULE:FREQ=YEARLY;INTERVAL=1;BYDAY=-1SU;BYMONTH=10
END:STANDARD
END:VTIMEZONE
BEGIN:VEVENT
DTSTAMP:20260421T185721
DTSTART;TZID=Europe/Berlin:20260623T104500
DTEND;TZID=Europe/Berlin:20260623T121500
UID:U14019-20260623T104500@EFBOLDENBURG
SUMMARY:DELFI ®  November 2025 geborene Kinder 2.Teil (U14019) 
LOCATION:Christophorus-Haus, Brookweg 32, Brookweg 32, 26127 Oldenburg
END:VEVENT
BEGIN:VEVENT
DTSTAMP:20260421T185721
DTSTART;TZID=Europe/Berlin:20260630T104500
DTEND;TZID=Europe/Berlin:20260630T121500
UID:U14019-20260630T104500@EFBOLDENBURG
SUMMARY:DELFI ®  November 2025 geborene Kinder 2.Teil (U14019) 
LOCATION:Christophorus-Haus, Brookweg 32, Brookweg 32, 26127 Oldenburg
END:VEVENT
BEGIN:VEVENT
DTSTAMP:20260421T185721
DTSTART;TZID=Europe/Berlin:20260818T104500
DTEND;TZID=Europe/Berlin:20260818T121500
UID:U14019-20260818T104500@EFBOLDENBURG
SUMMARY:DELFI ®  November 2025 geborene Kinder 2.Teil (U14019) 
LOCATION:Christophorus-Haus, Brookweg 32, Brookweg 32, 26127 Oldenburg
END:VEVENT
BEGIN:VEVENT
DTSTAMP:20260421T185721
DTSTART;TZID=Europe/Berlin:20260825T104500
DTEND;TZID=Europe/Berlin:20260825T121500
UID:U14019-20260825T104500@EFBOLDENBURG
SUMMARY:DELFI ®  November 2025 geborene Kinder 2.Teil (U14019) 
LOCATION:Christophorus-Haus, Brookweg 32, Brookweg 32, 26127 Oldenburg
END:VEVENT
BEGIN:VEVENT
DTSTAMP:20260421T185721
DTSTART;TZID=Europe/Berlin:20260901T104500
DTEND;TZID=Europe/Berlin:20260901T121500
UID:U14019-20260901T104500@EFBOLDENBURG
SUMMARY:DELFI ®  November 2025 geborene Kinder 2.Teil (U14019) 
LOCATION:Christophorus-Haus, Brookweg 32, Brookweg 32, 26127 Oldenburg
END:VEVENT
BEGIN:VEVENT
DTSTAMP:20260421T185721
DTSTART;TZID=Europe/Berlin:20260908T104500
DTEND;TZID=Europe/Berlin:20260908T121500
UID:U14019-20260908T104500@EFBOLDENBURG
SUMMARY:DELFI ®  November 2025 geborene Kinder 2.Teil (U14019) 
LOCATION:Christophorus-Haus, Brookweg 32, Brookweg 32, 26127 Oldenburg
END:VEVENT
BEGIN:VEVENT
DTSTAMP:20260421T185721
DTSTART;TZID=Europe/Berlin:20260915T104500
DTEND;TZID=Europe/Berlin:20260915T121500
UID:U14019-20260915T104500@EFBOLDENBURG
SUMMARY:DELFI ®  November 2025 geborene Kinder 2.Teil (U14019) 
LOCATION:Christophorus-Haus, Brookweg 32, Brookweg 32, 26127 Oldenburg
END:VEVENT
BEGIN:VEVENT
DTSTAMP:20260421T185721
DTSTART;TZID=Europe/Berlin:20260922T104500
DTEND;TZID=Europe/Berlin:20260922T121500
UID:U14019-20260922T104500@EFBOLDENBURG
SUMMARY:DELFI ®  November 2025 geborene Kinder 2.Teil (U14019) 
LOCATION:Christophorus-Haus, Brookweg 32, Brookweg 32, 26127 Oldenburg
END:VEVENT
BEGIN:VEVENT
DTSTAMP:20260421T185721
DTSTART;TZID=Europe/Berlin:20260929T104500
DTEND;TZID=Europe/Berlin:20260929T121500
UID:U14019-20260929T104500@EFBOLDENBURG
SUMMARY:DELFI ®  November 2025 geborene Kinder 2.Teil (U14019) 
LOCATION:Christophorus-Haus, Brookweg 32, Brookweg 32, 26127 Oldenburg
END:VEVENT
BEGIN:VEVENT
DTSTAMP:20260421T185721
DTSTART;TZID=Europe/Berlin:20261006T104500
DTEND;TZID=Europe/Berlin:20261006T121500
UID:U14019-20261006T104500@EFBOLDENBURG
SUMMARY:DELFI ®  November 2025 geborene Kinder 2.Teil (U14019) 
LOCATION:Christophorus-Haus, Brookweg 32, Brookweg 32, 26127 Oldenburg
END:VEVENT
BEGIN:VEVENT
DTSTAMP:20260421T185721
DTSTART;TZID=Europe/Berlin:20261027T104500
DTEND;TZID=Europe/Berlin:20261027T121500
UID:U14019-20261027T104500@EFBOLDENBURG
SUMMARY:DELFI ®  November 2025 geborene Kinder 2.Teil (U14019) 
LOCATION:Christophorus-Haus, Brookweg 32, Brookweg 32, 26127 Oldenburg
END:VEVENT
BEGIN:VEVENT
DTSTAMP:20260421T185721
DTSTART;TZID=Europe/Berlin:20261103T104500
DTEND;TZID=Europe/Berlin:20261103T121500
UID:U14019-20261103T104500@EFBOLDENBURG
SUMMARY:DELFI ®  November 2025 geborene Kinder 2.Teil (U14019) 
LOCATION:Christophorus-Haus, Brookweg 32, Brookweg 32, 26127 Oldenburg
END:VEVENT
BEGIN:VEVENT
DTSTAMP:20260421T185721
DTSTART;TZID=Europe/Berlin:20261110T104500
DTEND;TZID=Europe/Berlin:20261110T121500
UID:U14019-20261110T104500@EFBOLDENBURG
SUMMARY:DELFI ®  November 2025 geborene Kinder 2.Teil (U14019) 
LOCATION:Christophorus-Haus, Brookweg 32, Brookweg 32, 26127 Oldenburg
END:VEVENT
BEGIN:VEVENT
DTSTAMP:20260421T185721
DTSTART;TZID=Europe/Berlin:20261117T104500
DTEND;TZID=Europe/Berlin:20261117T121500
UID:U14019-20261117T104500@EFBOLDENBURG
SUMMARY:DELFI ®  November 2025 geborene Kinder 2.Teil (U14019) 
LOCATION:Christophorus-Haus, Brookweg 32, Brookweg 32, 26127 Oldenburg
END:VEVENT
BEGIN:VEVENT
DTSTAMP:20260421T185721
DTSTART;TZID=Europe/Berlin:20261124T104500
DTEND;TZID=Europe/Berlin:20261124T121500
UID:U14019-20261124T104500@EFBOLDENBURG
SUMMARY:DELFI ®  November 2025 geborene Kinder 2.Teil (U14019) 
LOCATION:Christophorus-Haus, Brookweg 32, Brookweg 32, 26127 Oldenburg
END:VEVENT
END:VCALENDAR