BEGIN:VCALENDAR
VERSION:2.0
PRODID:https://www.kufer.de/kuferweb / DE
METHOD:PUBLISH
CALSCALE:GREGORIAN
X-WR-TIMEZONE:Europe/Berlin
BEGIN:VTIMEZONE
TZID:Europe/Berlin
X-LIC-LOCATION:Europe/Berlin
BEGIN:DAYLIGHT
TZOFFSETFROM:+0100
TZOFFSETTO:+0200
TZNAME:CEST
DTSTART:19700329T020000
RRULE:FREQ=YEARLY;INTERVAL=1;BYDAY=-1SU;BYMONTH=3
END:DAYLIGHT
BEGIN:STANDARD
TZOFFSETFROM:+0200
TZOFFSETTO:+0100
TZNAME:CET
DTSTART:19701025T030000
RRULE:FREQ=YEARLY;INTERVAL=1;BYDAY=-1SU;BYMONTH=10
END:STANDARD
END:VTIMEZONE
BEGIN:VEVENT
DTSTAMP:20260421T233122
DTSTART;TZID=Europe/Berlin:20260821T090000
DTEND;TZID=Europe/Berlin:20260821T103000
UID:U14027-20260821T090000@EFBOLDENBURG
SUMMARY:DELFI ®  Dezember 2025 geborene Kinder 2.Teil (U14027) 
LOCATION:Gemeindehaus St. Johannes, Pasteurstr. 5, Pasteurstr. 5, 26133 Oldenburg
END:VEVENT
BEGIN:VEVENT
DTSTAMP:20260421T233122
DTSTART;TZID=Europe/Berlin:20260828T090000
DTEND;TZID=Europe/Berlin:20260828T103000
UID:U14027-20260828T090000@EFBOLDENBURG
SUMMARY:DELFI ®  Dezember 2025 geborene Kinder 2.Teil (U14027) 
LOCATION:Gemeindehaus St. Johannes, Pasteurstr. 5, Pasteurstr. 5, 26133 Oldenburg
END:VEVENT
BEGIN:VEVENT
DTSTAMP:20260421T233122
DTSTART;TZID=Europe/Berlin:20260904T090000
DTEND;TZID=Europe/Berlin:20260904T103000
UID:U14027-20260904T090000@EFBOLDENBURG
SUMMARY:DELFI ®  Dezember 2025 geborene Kinder 2.Teil (U14027) 
LOCATION:Gemeindehaus St. Johannes, Pasteurstr. 5, Pasteurstr. 5, 26133 Oldenburg
END:VEVENT
BEGIN:VEVENT
DTSTAMP:20260421T233122
DTSTART;TZID=Europe/Berlin:20260911T090000
DTEND;TZID=Europe/Berlin:20260911T103000
UID:U14027-20260911T090000@EFBOLDENBURG
SUMMARY:DELFI ®  Dezember 2025 geborene Kinder 2.Teil (U14027) 
LOCATION:Gemeindehaus St. Johannes, Pasteurstr. 5, Pasteurstr. 5, 26133 Oldenburg
END:VEVENT
BEGIN:VEVENT
DTSTAMP:20260421T233122
DTSTART;TZID=Europe/Berlin:20260918T090000
DTEND;TZID=Europe/Berlin:20260918T103000
UID:U14027-20260918T090000@EFBOLDENBURG
SUMMARY:DELFI ®  Dezember 2025 geborene Kinder 2.Teil (U14027) 
LOCATION:Gemeindehaus St. Johannes, Pasteurstr. 5, Pasteurstr. 5, 26133 Oldenburg
END:VEVENT
BEGIN:VEVENT
DTSTAMP:20260421T233122
DTSTART;TZID=Europe/Berlin:20260925T090000
DTEND;TZID=Europe/Berlin:20260925T103000
UID:U14027-20260925T090000@EFBOLDENBURG
SUMMARY:DELFI ®  Dezember 2025 geborene Kinder 2.Teil (U14027) 
LOCATION:Gemeindehaus St. Johannes, Pasteurstr. 5, Pasteurstr. 5, 26133 Oldenburg
END:VEVENT
BEGIN:VEVENT
DTSTAMP:20260421T233122
DTSTART;TZID=Europe/Berlin:20261002T090000
DTEND;TZID=Europe/Berlin:20261002T103000
UID:U14027-20261002T090000@EFBOLDENBURG
SUMMARY:DELFI ®  Dezember 2025 geborene Kinder 2.Teil (U14027) 
LOCATION:Gemeindehaus St. Johannes, Pasteurstr. 5, Pasteurstr. 5, 26133 Oldenburg
END:VEVENT
BEGIN:VEVENT
DTSTAMP:20260421T233122
DTSTART;TZID=Europe/Berlin:20261009T090000
DTEND;TZID=Europe/Berlin:20261009T103000
UID:U14027-20261009T090000@EFBOLDENBURG
SUMMARY:DELFI ®  Dezember 2025 geborene Kinder 2.Teil (U14027) 
LOCATION:Gemeindehaus St. Johannes, Pasteurstr. 5, Pasteurstr. 5, 26133 Oldenburg
END:VEVENT
BEGIN:VEVENT
DTSTAMP:20260421T233122
DTSTART;TZID=Europe/Berlin:20261030T090000
DTEND;TZID=Europe/Berlin:20261030T103000
UID:U14027-20261030T090000@EFBOLDENBURG
SUMMARY:DELFI ®  Dezember 2025 geborene Kinder 2.Teil (U14027) 
LOCATION:Gemeindehaus St. Johannes, Pasteurstr. 5, Pasteurstr. 5, 26133 Oldenburg
END:VEVENT
BEGIN:VEVENT
DTSTAMP:20260421T233122
DTSTART;TZID=Europe/Berlin:20261106T090000
DTEND;TZID=Europe/Berlin:20261106T103000
UID:U14027-20261106T090000@EFBOLDENBURG
SUMMARY:DELFI ®  Dezember 2025 geborene Kinder 2.Teil (U14027) 
LOCATION:Gemeindehaus St. Johannes, Pasteurstr. 5, Pasteurstr. 5, 26133 Oldenburg
END:VEVENT
BEGIN:VEVENT
DTSTAMP:20260421T233122
DTSTART;TZID=Europe/Berlin:20261113T090000
DTEND;TZID=Europe/Berlin:20261113T103000
UID:U14027-20261113T090000@EFBOLDENBURG
SUMMARY:DELFI ®  Dezember 2025 geborene Kinder 2.Teil (U14027) 
LOCATION:Gemeindehaus St. Johannes, Pasteurstr. 5, Pasteurstr. 5, 26133 Oldenburg
END:VEVENT
BEGIN:VEVENT
DTSTAMP:20260421T233122
DTSTART;TZID=Europe/Berlin:20261120T090000
DTEND;TZID=Europe/Berlin:20261120T103000
UID:U14027-20261120T090000@EFBOLDENBURG
SUMMARY:DELFI ®  Dezember 2025 geborene Kinder 2.Teil (U14027) 
LOCATION:Gemeindehaus St. Johannes, Pasteurstr. 5, Pasteurstr. 5, 26133 Oldenburg
END:VEVENT
BEGIN:VEVENT
DTSTAMP:20260421T233122
DTSTART;TZID=Europe/Berlin:20261127T090000
DTEND;TZID=Europe/Berlin:20261127T103000
UID:U14027-20261127T090000@EFBOLDENBURG
SUMMARY:DELFI ®  Dezember 2025 geborene Kinder 2.Teil (U14027) 
LOCATION:Gemeindehaus St. Johannes, Pasteurstr. 5, Pasteurstr. 5, 26133 Oldenburg
END:VEVENT
BEGIN:VEVENT
DTSTAMP:20260421T233122
DTSTART;TZID=Europe/Berlin:20261204T090000
DTEND;TZID=Europe/Berlin:20261204T103000
UID:U14027-20261204T090000@EFBOLDENBURG
SUMMARY:DELFI ®  Dezember 2025 geborene Kinder 2.Teil (U14027) 
LOCATION:Gemeindehaus St. Johannes, Pasteurstr. 5, Pasteurstr. 5, 26133 Oldenburg
END:VEVENT
BEGIN:VEVENT
DTSTAMP:20260421T233122
DTSTART;TZID=Europe/Berlin:20261211T090000
DTEND;TZID=Europe/Berlin:20261211T103000
UID:U14027-20261211T090000@EFBOLDENBURG
SUMMARY:DELFI ®  Dezember 2025 geborene Kinder 2.Teil (U14027) 
LOCATION:Gemeindehaus St. Johannes, Pasteurstr. 5, Pasteurstr. 5, 26133 Oldenburg
END:VEVENT
END:VCALENDAR