BEGIN:VCALENDAR
VERSION:2.0
PRODID:https://www.kufer.de/kuferweb / DE
METHOD:PUBLISH
CALSCALE:GREGORIAN
X-WR-TIMEZONE:Europe/Berlin
BEGIN:VTIMEZONE
TZID:Europe/Berlin
X-LIC-LOCATION:Europe/Berlin
BEGIN:DAYLIGHT
TZOFFSETFROM:+0100
TZOFFSETTO:+0200
TZNAME:CEST
DTSTART:19700329T020000
RRULE:FREQ=YEARLY;INTERVAL=1;BYDAY=-1SU;BYMONTH=3
END:DAYLIGHT
BEGIN:STANDARD
TZOFFSETFROM:+0200
TZOFFSETTO:+0100
TZNAME:CET
DTSTART:19701025T030000
RRULE:FREQ=YEARLY;INTERVAL=1;BYDAY=-1SU;BYMONTH=10
END:STANDARD
END:VTIMEZONE
BEGIN:VEVENT
DTSTAMP:20260421T220208
DTSTART;TZID=Europe/Berlin:20261002T104500
DTEND;TZID=Europe/Berlin:20261002T121500
UID:U14030-20261002T104500@EFBOLDENBURG
SUMMARY:DELFI ®  Januar 2026 geborene Kinder 2.Teil (U14030) 
LOCATION:Ev. Familien-Bildungsstätte, Kinderraum, Gorch-Fock-Str. 5 a, 26135 Oldenburg
END:VEVENT
BEGIN:VEVENT
DTSTAMP:20260421T220208
DTSTART;TZID=Europe/Berlin:20261009T104500
DTEND;TZID=Europe/Berlin:20261009T121500
UID:U14030-20261009T104500@EFBOLDENBURG
SUMMARY:DELFI ®  Januar 2026 geborene Kinder 2.Teil (U14030) 
LOCATION:Ev. Familien-Bildungsstätte, Kinderraum, Gorch-Fock-Str. 5 a, 26135 Oldenburg
END:VEVENT
BEGIN:VEVENT
DTSTAMP:20260421T220208
DTSTART;TZID=Europe/Berlin:20261030T104500
DTEND;TZID=Europe/Berlin:20261030T121500
UID:U14030-20261030T104500@EFBOLDENBURG
SUMMARY:DELFI ®  Januar 2026 geborene Kinder 2.Teil (U14030) 
LOCATION:Ev. Familien-Bildungsstätte, Kinderraum, Gorch-Fock-Str. 5 a, 26135 Oldenburg
END:VEVENT
BEGIN:VEVENT
DTSTAMP:20260421T220208
DTSTART;TZID=Europe/Berlin:20261106T104500
DTEND;TZID=Europe/Berlin:20261106T121500
UID:U14030-20261106T104500@EFBOLDENBURG
SUMMARY:DELFI ®  Januar 2026 geborene Kinder 2.Teil (U14030) 
LOCATION:Ev. Familien-Bildungsstätte, Kinderraum, Gorch-Fock-Str. 5 a, 26135 Oldenburg
END:VEVENT
BEGIN:VEVENT
DTSTAMP:20260421T220208
DTSTART;TZID=Europe/Berlin:20261120T104500
DTEND;TZID=Europe/Berlin:20261120T121500
UID:U14030-20261120T104500@EFBOLDENBURG
SUMMARY:DELFI ®  Januar 2026 geborene Kinder 2.Teil (U14030) 
LOCATION:Ev. Familien-Bildungsstätte, Kinderraum, Gorch-Fock-Str. 5 a, 26135 Oldenburg
END:VEVENT
BEGIN:VEVENT
DTSTAMP:20260421T220208
DTSTART;TZID=Europe/Berlin:20261127T104500
DTEND;TZID=Europe/Berlin:20261127T121500
UID:U14030-20261127T104500@EFBOLDENBURG
SUMMARY:DELFI ®  Januar 2026 geborene Kinder 2.Teil (U14030) 
LOCATION:Ev. Familien-Bildungsstätte, Kinderraum, Gorch-Fock-Str. 5 a, 26135 Oldenburg
END:VEVENT
BEGIN:VEVENT
DTSTAMP:20260421T220208
DTSTART;TZID=Europe/Berlin:20261204T104500
DTEND;TZID=Europe/Berlin:20261204T121500
UID:U14030-20261204T104500@EFBOLDENBURG
SUMMARY:DELFI ®  Januar 2026 geborene Kinder 2.Teil (U14030) 
LOCATION:Ev. Familien-Bildungsstätte, Kinderraum, Gorch-Fock-Str. 5 a, 26135 Oldenburg
END:VEVENT
BEGIN:VEVENT
DTSTAMP:20260421T220208
DTSTART;TZID=Europe/Berlin:20261211T104500
DTEND;TZID=Europe/Berlin:20261211T121500
UID:U14030-20261211T104500@EFBOLDENBURG
SUMMARY:DELFI ®  Januar 2026 geborene Kinder 2.Teil (U14030) 
LOCATION:Ev. Familien-Bildungsstätte, Kinderraum, Gorch-Fock-Str. 5 a, 26135 Oldenburg
END:VEVENT
BEGIN:VEVENT
DTSTAMP:20260421T220208
DTSTART;TZID=Europe/Berlin:20261218T104500
DTEND;TZID=Europe/Berlin:20261218T121500
UID:U14030-20261218T104500@EFBOLDENBURG
SUMMARY:DELFI ®  Januar 2026 geborene Kinder 2.Teil (U14030) 
LOCATION:Ev. Familien-Bildungsstätte, Kinderraum, Gorch-Fock-Str. 5 a, 26135 Oldenburg
END:VEVENT
BEGIN:VEVENT
DTSTAMP:20260421T220208
DTSTART;TZID=Europe/Berlin:20270115T104500
DTEND;TZID=Europe/Berlin:20270115T121500
UID:U14030-20270115T104500@EFBOLDENBURG
SUMMARY:DELFI ®  Januar 2026 geborene Kinder 2.Teil (U14030) 
LOCATION:Ev. Familien-Bildungsstätte, Kinderraum, Gorch-Fock-Str. 5 a, 26135 Oldenburg
END:VEVENT
END:VCALENDAR