BEGIN:VCALENDAR
VERSION:2.0
PRODID:https://www.kufer.de/kuferweb / DE
METHOD:PUBLISH
CALSCALE:GREGORIAN
X-WR-TIMEZONE:Europe/Berlin
BEGIN:VTIMEZONE
TZID:Europe/Berlin
X-LIC-LOCATION:Europe/Berlin
BEGIN:DAYLIGHT
TZOFFSETFROM:+0100
TZOFFSETTO:+0200
TZNAME:CEST
DTSTART:19700329T020000
RRULE:FREQ=YEARLY;INTERVAL=1;BYDAY=-1SU;BYMONTH=3
END:DAYLIGHT
BEGIN:STANDARD
TZOFFSETFROM:+0200
TZOFFSETTO:+0100
TZNAME:CET
DTSTART:19701025T030000
RRULE:FREQ=YEARLY;INTERVAL=1;BYDAY=-1SU;BYMONTH=10
END:STANDARD
END:VTIMEZONE
BEGIN:VEVENT
DTSTAMP:20260421T214442
DTSTART;TZID=Europe/Berlin:20260929T090000
DTEND;TZID=Europe/Berlin:20260929T103000
UID:U14036-20260929T090000@EFBOLDENBURG
SUMMARY:DELFI ®  Februar 2026 geborene Kinder 2.Teil (U14036) 
LOCATION:Gemeindehaus St. Johannes, Pasteurstr. 5, Pasteurstr. 5, 26133 Oldenburg
END:VEVENT
BEGIN:VEVENT
DTSTAMP:20260421T214442
DTSTART;TZID=Europe/Berlin:20261006T090000
DTEND;TZID=Europe/Berlin:20261006T103000
UID:U14036-20261006T090000@EFBOLDENBURG
SUMMARY:DELFI ®  Februar 2026 geborene Kinder 2.Teil (U14036) 
LOCATION:Gemeindehaus St. Johannes, Pasteurstr. 5, Pasteurstr. 5, 26133 Oldenburg
END:VEVENT
BEGIN:VEVENT
DTSTAMP:20260421T214442
DTSTART;TZID=Europe/Berlin:20261027T090000
DTEND;TZID=Europe/Berlin:20261027T103000
UID:U14036-20261027T090000@EFBOLDENBURG
SUMMARY:DELFI ®  Februar 2026 geborene Kinder 2.Teil (U14036) 
LOCATION:Gemeindehaus St. Johannes, Pasteurstr. 5, Pasteurstr. 5, 26133 Oldenburg
END:VEVENT
BEGIN:VEVENT
DTSTAMP:20260421T214442
DTSTART;TZID=Europe/Berlin:20261103T090000
DTEND;TZID=Europe/Berlin:20261103T103000
UID:U14036-20261103T090000@EFBOLDENBURG
SUMMARY:DELFI ®  Februar 2026 geborene Kinder 2.Teil (U14036) 
LOCATION:Gemeindehaus St. Johannes, Pasteurstr. 5, Pasteurstr. 5, 26133 Oldenburg
END:VEVENT
BEGIN:VEVENT
DTSTAMP:20260421T214442
DTSTART;TZID=Europe/Berlin:20261110T090000
DTEND;TZID=Europe/Berlin:20261110T103000
UID:U14036-20261110T090000@EFBOLDENBURG
SUMMARY:DELFI ®  Februar 2026 geborene Kinder 2.Teil (U14036) 
LOCATION:Gemeindehaus St. Johannes, Pasteurstr. 5, Pasteurstr. 5, 26133 Oldenburg
END:VEVENT
BEGIN:VEVENT
DTSTAMP:20260421T214442
DTSTART;TZID=Europe/Berlin:20261117T090000
DTEND;TZID=Europe/Berlin:20261117T103000
UID:U14036-20261117T090000@EFBOLDENBURG
SUMMARY:DELFI ®  Februar 2026 geborene Kinder 2.Teil (U14036) 
LOCATION:Gemeindehaus St. Johannes, Pasteurstr. 5, Pasteurstr. 5, 26133 Oldenburg
END:VEVENT
BEGIN:VEVENT
DTSTAMP:20260421T214442
DTSTART;TZID=Europe/Berlin:20261124T090000
DTEND;TZID=Europe/Berlin:20261124T103000
UID:U14036-20261124T090000@EFBOLDENBURG
SUMMARY:DELFI ®  Februar 2026 geborene Kinder 2.Teil (U14036) 
LOCATION:Gemeindehaus St. Johannes, Pasteurstr. 5, Pasteurstr. 5, 26133 Oldenburg
END:VEVENT
BEGIN:VEVENT
DTSTAMP:20260421T214442
DTSTART;TZID=Europe/Berlin:20261201T090000
DTEND;TZID=Europe/Berlin:20261201T103000
UID:U14036-20261201T090000@EFBOLDENBURG
SUMMARY:DELFI ®  Februar 2026 geborene Kinder 2.Teil (U14036) 
LOCATION:Gemeindehaus St. Johannes, Pasteurstr. 5, Pasteurstr. 5, 26133 Oldenburg
END:VEVENT
BEGIN:VEVENT
DTSTAMP:20260421T214442
DTSTART;TZID=Europe/Berlin:20261208T090000
DTEND;TZID=Europe/Berlin:20261208T103000
UID:U14036-20261208T090000@EFBOLDENBURG
SUMMARY:DELFI ®  Februar 2026 geborene Kinder 2.Teil (U14036) 
LOCATION:Gemeindehaus St. Johannes, Pasteurstr. 5, Pasteurstr. 5, 26133 Oldenburg
END:VEVENT
BEGIN:VEVENT
DTSTAMP:20260421T214442
DTSTART;TZID=Europe/Berlin:20261215T090000
DTEND;TZID=Europe/Berlin:20261215T103000
UID:U14036-20261215T090000@EFBOLDENBURG
SUMMARY:DELFI ®  Februar 2026 geborene Kinder 2.Teil (U14036) 
LOCATION:Gemeindehaus St. Johannes, Pasteurstr. 5, Pasteurstr. 5, 26133 Oldenburg
END:VEVENT
BEGIN:VEVENT
DTSTAMP:20260421T214442
DTSTART;TZID=Europe/Berlin:20261222T090000
DTEND;TZID=Europe/Berlin:20261222T103000
UID:U14036-20261222T090000@EFBOLDENBURG
SUMMARY:DELFI ®  Februar 2026 geborene Kinder 2.Teil (U14036) 
LOCATION:Gemeindehaus St. Johannes, Pasteurstr. 5, Pasteurstr. 5, 26133 Oldenburg
END:VEVENT
BEGIN:VEVENT
DTSTAMP:20260421T214442
DTSTART;TZID=Europe/Berlin:20270112T090000
DTEND;TZID=Europe/Berlin:20270112T103000
UID:U14036-20270112T090000@EFBOLDENBURG
SUMMARY:DELFI ®  Februar 2026 geborene Kinder 2.Teil (U14036) 
LOCATION:Gemeindehaus St. Johannes, Pasteurstr. 5, Pasteurstr. 5, 26133 Oldenburg
END:VEVENT
BEGIN:VEVENT
DTSTAMP:20260421T214442
DTSTART;TZID=Europe/Berlin:20270119T090000
DTEND;TZID=Europe/Berlin:20270119T103000
UID:U14036-20270119T090000@EFBOLDENBURG
SUMMARY:DELFI ®  Februar 2026 geborene Kinder 2.Teil (U14036) 
LOCATION:Gemeindehaus St. Johannes, Pasteurstr. 5, Pasteurstr. 5, 26133 Oldenburg
END:VEVENT
BEGIN:VEVENT
DTSTAMP:20260421T214442
DTSTART;TZID=Europe/Berlin:20270126T090000
DTEND;TZID=Europe/Berlin:20270126T103000
UID:U14036-20270126T090000@EFBOLDENBURG
SUMMARY:DELFI ®  Februar 2026 geborene Kinder 2.Teil (U14036) 
LOCATION:Gemeindehaus St. Johannes, Pasteurstr. 5, Pasteurstr. 5, 26133 Oldenburg
END:VEVENT
BEGIN:VEVENT
DTSTAMP:20260421T214442
DTSTART;TZID=Europe/Berlin:20270202T090000
DTEND;TZID=Europe/Berlin:20270202T103000
UID:U14036-20270202T090000@EFBOLDENBURG
SUMMARY:DELFI ®  Februar 2026 geborene Kinder 2.Teil (U14036) 
LOCATION:Gemeindehaus St. Johannes, Pasteurstr. 5, Pasteurstr. 5, 26133 Oldenburg
END:VEVENT
END:VCALENDAR