BEGIN:VCALENDAR
VERSION:2.0
PRODID:https://www.kufer.de/kuferweb / DE
METHOD:PUBLISH
CALSCALE:GREGORIAN
X-WR-TIMEZONE:Europe/Berlin
BEGIN:VTIMEZONE
TZID:Europe/Berlin
X-LIC-LOCATION:Europe/Berlin
BEGIN:DAYLIGHT
TZOFFSETFROM:+0100
TZOFFSETTO:+0200
TZNAME:CEST
DTSTART:19700329T020000
RRULE:FREQ=YEARLY;INTERVAL=1;BYDAY=-1SU;BYMONTH=3
END:DAYLIGHT
BEGIN:STANDARD
TZOFFSETFROM:+0200
TZOFFSETTO:+0100
TZNAME:CET
DTSTART:19701025T030000
RRULE:FREQ=YEARLY;INTERVAL=1;BYDAY=-1SU;BYMONTH=10
END:STANDARD
END:VTIMEZONE
BEGIN:VEVENT
DTSTAMP:20260421T215658
DTSTART;TZID=Europe/Berlin:20260602T104500
DTEND;TZID=Europe/Berlin:20260602T121500
UID:U14038-20260602T104500@EFBOLDENBURG
SUMMARY:DELFI ®  März 2026 geborene Kinder 1.Teil (U14038) 
LOCATION:Gemeindehaus St. Johannes, Pasteurstr. 5, Pasteurstr. 5, 26133 Oldenburg
END:VEVENT
BEGIN:VEVENT
DTSTAMP:20260421T215658
DTSTART;TZID=Europe/Berlin:20260609T104500
DTEND;TZID=Europe/Berlin:20260609T121500
UID:U14038-20260609T104500@EFBOLDENBURG
SUMMARY:DELFI ®  März 2026 geborene Kinder 1.Teil (U14038) 
LOCATION:Gemeindehaus St. Johannes, Pasteurstr. 5, Pasteurstr. 5, 26133 Oldenburg
END:VEVENT
BEGIN:VEVENT
DTSTAMP:20260421T215658
DTSTART;TZID=Europe/Berlin:20260616T104500
DTEND;TZID=Europe/Berlin:20260616T121500
UID:U14038-20260616T104500@EFBOLDENBURG
SUMMARY:DELFI ®  März 2026 geborene Kinder 1.Teil (U14038) 
LOCATION:Gemeindehaus St. Johannes, Pasteurstr. 5, Pasteurstr. 5, 26133 Oldenburg
END:VEVENT
BEGIN:VEVENT
DTSTAMP:20260421T215658
DTSTART;TZID=Europe/Berlin:20260623T104500
DTEND;TZID=Europe/Berlin:20260623T121500
UID:U14038-20260623T104500@EFBOLDENBURG
SUMMARY:DELFI ®  März 2026 geborene Kinder 1.Teil (U14038) 
LOCATION:Gemeindehaus St. Johannes, Pasteurstr. 5, Pasteurstr. 5, 26133 Oldenburg
END:VEVENT
BEGIN:VEVENT
DTSTAMP:20260421T215658
DTSTART;TZID=Europe/Berlin:20260630T104500
DTEND;TZID=Europe/Berlin:20260630T121500
UID:U14038-20260630T104500@EFBOLDENBURG
SUMMARY:DELFI ®  März 2026 geborene Kinder 1.Teil (U14038) 
LOCATION:Gemeindehaus St. Johannes, Pasteurstr. 5, Pasteurstr. 5, 26133 Oldenburg
END:VEVENT
BEGIN:VEVENT
DTSTAMP:20260421T215658
DTSTART;TZID=Europe/Berlin:20260818T104500
DTEND;TZID=Europe/Berlin:20260818T121500
UID:U14038-20260818T104500@EFBOLDENBURG
SUMMARY:DELFI ®  März 2026 geborene Kinder 1.Teil (U14038) 
LOCATION:Gemeindehaus St. Johannes, Pasteurstr. 5, Pasteurstr. 5, 26133 Oldenburg
END:VEVENT
BEGIN:VEVENT
DTSTAMP:20260421T215658
DTSTART;TZID=Europe/Berlin:20260825T104500
DTEND;TZID=Europe/Berlin:20260825T121500
UID:U14038-20260825T104500@EFBOLDENBURG
SUMMARY:DELFI ®  März 2026 geborene Kinder 1.Teil (U14038) 
LOCATION:Gemeindehaus St. Johannes, Pasteurstr. 5, Pasteurstr. 5, 26133 Oldenburg
END:VEVENT
BEGIN:VEVENT
DTSTAMP:20260421T215658
DTSTART;TZID=Europe/Berlin:20260901T104500
DTEND;TZID=Europe/Berlin:20260901T121500
UID:U14038-20260901T104500@EFBOLDENBURG
SUMMARY:DELFI ®  März 2026 geborene Kinder 1.Teil (U14038) 
LOCATION:Gemeindehaus St. Johannes, Pasteurstr. 5, Pasteurstr. 5, 26133 Oldenburg
END:VEVENT
BEGIN:VEVENT
DTSTAMP:20260421T215658
DTSTART;TZID=Europe/Berlin:20260908T104500
DTEND;TZID=Europe/Berlin:20260908T121500
UID:U14038-20260908T104500@EFBOLDENBURG
SUMMARY:DELFI ®  März 2026 geborene Kinder 1.Teil (U14038) 
LOCATION:Gemeindehaus St. Johannes, Pasteurstr. 5, Pasteurstr. 5, 26133 Oldenburg
END:VEVENT
BEGIN:VEVENT
DTSTAMP:20260421T215658
DTSTART;TZID=Europe/Berlin:20260915T104500
DTEND;TZID=Europe/Berlin:20260915T121500
UID:U14038-20260915T104500@EFBOLDENBURG
SUMMARY:DELFI ®  März 2026 geborene Kinder 1.Teil (U14038) 
LOCATION:Gemeindehaus St. Johannes, Pasteurstr. 5, Pasteurstr. 5, 26133 Oldenburg
END:VEVENT
BEGIN:VEVENT
DTSTAMP:20260421T215658
DTSTART;TZID=Europe/Berlin:20260922T104500
DTEND;TZID=Europe/Berlin:20260922T121500
UID:U14038-20260922T104500@EFBOLDENBURG
SUMMARY:DELFI ®  März 2026 geborene Kinder 1.Teil (U14038) 
LOCATION:Gemeindehaus St. Johannes, Pasteurstr. 5, Pasteurstr. 5, 26133 Oldenburg
END:VEVENT
BEGIN:VEVENT
DTSTAMP:20260421T215658
DTSTART;TZID=Europe/Berlin:20260929T104500
DTEND;TZID=Europe/Berlin:20260929T121500
UID:U14038-20260929T104500@EFBOLDENBURG
SUMMARY:DELFI ®  März 2026 geborene Kinder 1.Teil (U14038) 
LOCATION:Gemeindehaus St. Johannes, Pasteurstr. 5, Pasteurstr. 5, 26133 Oldenburg
END:VEVENT
BEGIN:VEVENT
DTSTAMP:20260421T215658
DTSTART;TZID=Europe/Berlin:20261006T104500
DTEND;TZID=Europe/Berlin:20261006T121500
UID:U14038-20261006T104500@EFBOLDENBURG
SUMMARY:DELFI ®  März 2026 geborene Kinder 1.Teil (U14038) 
LOCATION:Gemeindehaus St. Johannes, Pasteurstr. 5, Pasteurstr. 5, 26133 Oldenburg
END:VEVENT
BEGIN:VEVENT
DTSTAMP:20260421T215658
DTSTART;TZID=Europe/Berlin:20261027T104500
DTEND;TZID=Europe/Berlin:20261027T121500
UID:U14038-20261027T104500@EFBOLDENBURG
SUMMARY:DELFI ®  März 2026 geborene Kinder 1.Teil (U14038) 
LOCATION:Gemeindehaus St. Johannes, Pasteurstr. 5, Pasteurstr. 5, 26133 Oldenburg
END:VEVENT
BEGIN:VEVENT
DTSTAMP:20260421T215658
DTSTART;TZID=Europe/Berlin:20261103T104500
DTEND;TZID=Europe/Berlin:20261103T121500
UID:U14038-20261103T104500@EFBOLDENBURG
SUMMARY:DELFI ®  März 2026 geborene Kinder 1.Teil (U14038) 
LOCATION:Gemeindehaus St. Johannes, Pasteurstr. 5, Pasteurstr. 5, 26133 Oldenburg
END:VEVENT
END:VCALENDAR