BEGIN:VCALENDAR
VERSION:2.0
PRODID:https://www.kufer.de/kuferweb / DE
METHOD:PUBLISH
CALSCALE:GREGORIAN
X-WR-TIMEZONE:Europe/Berlin
BEGIN:VTIMEZONE
TZID:Europe/Berlin
X-LIC-LOCATION:Europe/Berlin
BEGIN:DAYLIGHT
TZOFFSETFROM:+0100
TZOFFSETTO:+0200
TZNAME:CEST
DTSTART:19700329T020000
RRULE:FREQ=YEARLY;INTERVAL=1;BYDAY=-1SU;BYMONTH=3
END:DAYLIGHT
BEGIN:STANDARD
TZOFFSETFROM:+0200
TZOFFSETTO:+0100
TZNAME:CET
DTSTART:19701025T030000
RRULE:FREQ=YEARLY;INTERVAL=1;BYDAY=-1SU;BYMONTH=10
END:STANDARD
END:VTIMEZONE
BEGIN:VEVENT
DTSTAMP:20260421T215653
DTSTART;TZID=Europe/Berlin:20260529T104500
DTEND;TZID=Europe/Berlin:20260529T121500
UID:U14039-20260529T104500@EFBOLDENBURG
SUMMARY:DELFI ®  März 2026 geborene Kinder 1.Teil (U14039) 
LOCATION:Gemeindehaus St. Johannes, Pasteurstr. 5, Pasteurstr. 5, 26133 Oldenburg
END:VEVENT
BEGIN:VEVENT
DTSTAMP:20260421T215653
DTSTART;TZID=Europe/Berlin:20260605T104500
DTEND;TZID=Europe/Berlin:20260605T121500
UID:U14039-20260605T104500@EFBOLDENBURG
SUMMARY:DELFI ®  März 2026 geborene Kinder 1.Teil (U14039) 
LOCATION:Gemeindehaus St. Johannes, Pasteurstr. 5, Pasteurstr. 5, 26133 Oldenburg
END:VEVENT
BEGIN:VEVENT
DTSTAMP:20260421T215653
DTSTART;TZID=Europe/Berlin:20260612T104500
DTEND;TZID=Europe/Berlin:20260612T121500
UID:U14039-20260612T104500@EFBOLDENBURG
SUMMARY:DELFI ®  März 2026 geborene Kinder 1.Teil (U14039) 
LOCATION:Gemeindehaus St. Johannes, Pasteurstr. 5, Pasteurstr. 5, 26133 Oldenburg
END:VEVENT
BEGIN:VEVENT
DTSTAMP:20260421T215653
DTSTART;TZID=Europe/Berlin:20260619T104500
DTEND;TZID=Europe/Berlin:20260619T121500
UID:U14039-20260619T104500@EFBOLDENBURG
SUMMARY:DELFI ®  März 2026 geborene Kinder 1.Teil (U14039) 
LOCATION:Gemeindehaus St. Johannes, Pasteurstr. 5, Pasteurstr. 5, 26133 Oldenburg
END:VEVENT
BEGIN:VEVENT
DTSTAMP:20260421T215653
DTSTART;TZID=Europe/Berlin:20260626T104500
DTEND;TZID=Europe/Berlin:20260626T121500
UID:U14039-20260626T104500@EFBOLDENBURG
SUMMARY:DELFI ®  März 2026 geborene Kinder 1.Teil (U14039) 
LOCATION:Gemeindehaus St. Johannes, Pasteurstr. 5, Pasteurstr. 5, 26133 Oldenburg
END:VEVENT
BEGIN:VEVENT
DTSTAMP:20260421T215653
DTSTART;TZID=Europe/Berlin:20260814T104500
DTEND;TZID=Europe/Berlin:20260814T121500
UID:U14039-20260814T104500@EFBOLDENBURG
SUMMARY:DELFI ®  März 2026 geborene Kinder 1.Teil (U14039) 
LOCATION:Gemeindehaus St. Johannes, Pasteurstr. 5, Pasteurstr. 5, 26133 Oldenburg
END:VEVENT
BEGIN:VEVENT
DTSTAMP:20260421T215653
DTSTART;TZID=Europe/Berlin:20260821T104500
DTEND;TZID=Europe/Berlin:20260821T121500
UID:U14039-20260821T104500@EFBOLDENBURG
SUMMARY:DELFI ®  März 2026 geborene Kinder 1.Teil (U14039) 
LOCATION:Gemeindehaus St. Johannes, Pasteurstr. 5, Pasteurstr. 5, 26133 Oldenburg
END:VEVENT
BEGIN:VEVENT
DTSTAMP:20260421T215653
DTSTART;TZID=Europe/Berlin:20260828T104500
DTEND;TZID=Europe/Berlin:20260828T121500
UID:U14039-20260828T104500@EFBOLDENBURG
SUMMARY:DELFI ®  März 2026 geborene Kinder 1.Teil (U14039) 
LOCATION:Gemeindehaus St. Johannes, Pasteurstr. 5, Pasteurstr. 5, 26133 Oldenburg
END:VEVENT
BEGIN:VEVENT
DTSTAMP:20260421T215653
DTSTART;TZID=Europe/Berlin:20260904T104500
DTEND;TZID=Europe/Berlin:20260904T121500
UID:U14039-20260904T104500@EFBOLDENBURG
SUMMARY:DELFI ®  März 2026 geborene Kinder 1.Teil (U14039) 
LOCATION:Gemeindehaus St. Johannes, Pasteurstr. 5, Pasteurstr. 5, 26133 Oldenburg
END:VEVENT
BEGIN:VEVENT
DTSTAMP:20260421T215653
DTSTART;TZID=Europe/Berlin:20260911T104500
DTEND;TZID=Europe/Berlin:20260911T121500
UID:U14039-20260911T104500@EFBOLDENBURG
SUMMARY:DELFI ®  März 2026 geborene Kinder 1.Teil (U14039) 
LOCATION:Gemeindehaus St. Johannes, Pasteurstr. 5, Pasteurstr. 5, 26133 Oldenburg
END:VEVENT
BEGIN:VEVENT
DTSTAMP:20260421T215653
DTSTART;TZID=Europe/Berlin:20260918T104500
DTEND;TZID=Europe/Berlin:20260918T121500
UID:U14039-20260918T104500@EFBOLDENBURG
SUMMARY:DELFI ®  März 2026 geborene Kinder 1.Teil (U14039) 
LOCATION:Gemeindehaus St. Johannes, Pasteurstr. 5, Pasteurstr. 5, 26133 Oldenburg
END:VEVENT
BEGIN:VEVENT
DTSTAMP:20260421T215653
DTSTART;TZID=Europe/Berlin:20260925T104500
DTEND;TZID=Europe/Berlin:20260925T121500
UID:U14039-20260925T104500@EFBOLDENBURG
SUMMARY:DELFI ®  März 2026 geborene Kinder 1.Teil (U14039) 
LOCATION:Gemeindehaus St. Johannes, Pasteurstr. 5, Pasteurstr. 5, 26133 Oldenburg
END:VEVENT
BEGIN:VEVENT
DTSTAMP:20260421T215653
DTSTART;TZID=Europe/Berlin:20261002T104500
DTEND;TZID=Europe/Berlin:20261002T121500
UID:U14039-20261002T104500@EFBOLDENBURG
SUMMARY:DELFI ®  März 2026 geborene Kinder 1.Teil (U14039) 
LOCATION:Gemeindehaus St. Johannes, Pasteurstr. 5, Pasteurstr. 5, 26133 Oldenburg
END:VEVENT
BEGIN:VEVENT
DTSTAMP:20260421T215653
DTSTART;TZID=Europe/Berlin:20261009T104500
DTEND;TZID=Europe/Berlin:20261009T121500
UID:U14039-20261009T104500@EFBOLDENBURG
SUMMARY:DELFI ®  März 2026 geborene Kinder 1.Teil (U14039) 
LOCATION:Gemeindehaus St. Johannes, Pasteurstr. 5, Pasteurstr. 5, 26133 Oldenburg
END:VEVENT
BEGIN:VEVENT
DTSTAMP:20260421T215653
DTSTART;TZID=Europe/Berlin:20261030T104500
DTEND;TZID=Europe/Berlin:20261030T121500
UID:U14039-20261030T104500@EFBOLDENBURG
SUMMARY:DELFI ®  März 2026 geborene Kinder 1.Teil (U14039) 
LOCATION:Gemeindehaus St. Johannes, Pasteurstr. 5, Pasteurstr. 5, 26133 Oldenburg
END:VEVENT
END:VCALENDAR