BEGIN:VCALENDAR
VERSION:2.0
PRODID:https://www.kufer.de/kuferweb / DE
METHOD:PUBLISH
CALSCALE:GREGORIAN
X-WR-TIMEZONE:Europe/Berlin
BEGIN:VTIMEZONE
TZID:Europe/Berlin
X-LIC-LOCATION:Europe/Berlin
BEGIN:DAYLIGHT
TZOFFSETFROM:+0100
TZOFFSETTO:+0200
TZNAME:CEST
DTSTART:19700329T020000
RRULE:FREQ=YEARLY;INTERVAL=1;BYDAY=-1SU;BYMONTH=3
END:DAYLIGHT
BEGIN:STANDARD
TZOFFSETFROM:+0200
TZOFFSETTO:+0100
TZNAME:CET
DTSTART:19701025T030000
RRULE:FREQ=YEARLY;INTERVAL=1;BYDAY=-1SU;BYMONTH=10
END:STANDARD
END:VTIMEZONE
BEGIN:VEVENT
DTSTAMP:20260422T010432
DTSTART;TZID=Europe/Berlin:20261110T104500
DTEND;TZID=Europe/Berlin:20261110T121500
UID:U14040-20261110T104500@EFBOLDENBURG
SUMMARY:DELFI ®  März 2026 geborene Kinder 2.Teil (U14040) 
LOCATION:Gemeindehaus St. Johannes, Pasteurstr. 5, Pasteurstr. 5, 26133 Oldenburg
END:VEVENT
BEGIN:VEVENT
DTSTAMP:20260422T010432
DTSTART;TZID=Europe/Berlin:20261117T104500
DTEND;TZID=Europe/Berlin:20261117T121500
UID:U14040-20261117T104500@EFBOLDENBURG
SUMMARY:DELFI ®  März 2026 geborene Kinder 2.Teil (U14040) 
LOCATION:Gemeindehaus St. Johannes, Pasteurstr. 5, Pasteurstr. 5, 26133 Oldenburg
END:VEVENT
BEGIN:VEVENT
DTSTAMP:20260422T010432
DTSTART;TZID=Europe/Berlin:20261124T104500
DTEND;TZID=Europe/Berlin:20261124T121500
UID:U14040-20261124T104500@EFBOLDENBURG
SUMMARY:DELFI ®  März 2026 geborene Kinder 2.Teil (U14040) 
LOCATION:Gemeindehaus St. Johannes, Pasteurstr. 5, Pasteurstr. 5, 26133 Oldenburg
END:VEVENT
BEGIN:VEVENT
DTSTAMP:20260422T010432
DTSTART;TZID=Europe/Berlin:20261201T104500
DTEND;TZID=Europe/Berlin:20261201T121500
UID:U14040-20261201T104500@EFBOLDENBURG
SUMMARY:DELFI ®  März 2026 geborene Kinder 2.Teil (U14040) 
LOCATION:Gemeindehaus St. Johannes, Pasteurstr. 5, Pasteurstr. 5, 26133 Oldenburg
END:VEVENT
BEGIN:VEVENT
DTSTAMP:20260422T010432
DTSTART;TZID=Europe/Berlin:20261208T104500
DTEND;TZID=Europe/Berlin:20261208T121500
UID:U14040-20261208T104500@EFBOLDENBURG
SUMMARY:DELFI ®  März 2026 geborene Kinder 2.Teil (U14040) 
LOCATION:Gemeindehaus St. Johannes, Pasteurstr. 5, Pasteurstr. 5, 26133 Oldenburg
END:VEVENT
BEGIN:VEVENT
DTSTAMP:20260422T010432
DTSTART;TZID=Europe/Berlin:20261215T104500
DTEND;TZID=Europe/Berlin:20261215T121500
UID:U14040-20261215T104500@EFBOLDENBURG
SUMMARY:DELFI ®  März 2026 geborene Kinder 2.Teil (U14040) 
LOCATION:Gemeindehaus St. Johannes, Pasteurstr. 5, Pasteurstr. 5, 26133 Oldenburg
END:VEVENT
BEGIN:VEVENT
DTSTAMP:20260422T010432
DTSTART;TZID=Europe/Berlin:20261222T104500
DTEND;TZID=Europe/Berlin:20261222T121500
UID:U14040-20261222T104500@EFBOLDENBURG
SUMMARY:DELFI ®  März 2026 geborene Kinder 2.Teil (U14040) 
LOCATION:Gemeindehaus St. Johannes, Pasteurstr. 5, Pasteurstr. 5, 26133 Oldenburg
END:VEVENT
BEGIN:VEVENT
DTSTAMP:20260422T010432
DTSTART;TZID=Europe/Berlin:20270112T104500
DTEND;TZID=Europe/Berlin:20270112T121500
UID:U14040-20270112T104500@EFBOLDENBURG
SUMMARY:DELFI ®  März 2026 geborene Kinder 2.Teil (U14040) 
LOCATION:Gemeindehaus St. Johannes, Pasteurstr. 5, Pasteurstr. 5, 26133 Oldenburg
END:VEVENT
BEGIN:VEVENT
DTSTAMP:20260422T010432
DTSTART;TZID=Europe/Berlin:20270119T104500
DTEND;TZID=Europe/Berlin:20270119T121500
UID:U14040-20270119T104500@EFBOLDENBURG
SUMMARY:DELFI ®  März 2026 geborene Kinder 2.Teil (U14040) 
LOCATION:Gemeindehaus St. Johannes, Pasteurstr. 5, Pasteurstr. 5, 26133 Oldenburg
END:VEVENT
BEGIN:VEVENT
DTSTAMP:20260422T010432
DTSTART;TZID=Europe/Berlin:20270126T104500
DTEND;TZID=Europe/Berlin:20270126T121500
UID:U14040-20270126T104500@EFBOLDENBURG
SUMMARY:DELFI ®  März 2026 geborene Kinder 2.Teil (U14040) 
LOCATION:Gemeindehaus St. Johannes, Pasteurstr. 5, Pasteurstr. 5, 26133 Oldenburg
END:VEVENT
BEGIN:VEVENT
DTSTAMP:20260422T010432
DTSTART;TZID=Europe/Berlin:20270202T104500
DTEND;TZID=Europe/Berlin:20270202T121500
UID:U14040-20270202T104500@EFBOLDENBURG
SUMMARY:DELFI ®  März 2026 geborene Kinder 2.Teil (U14040) 
LOCATION:Gemeindehaus St. Johannes, Pasteurstr. 5, Pasteurstr. 5, 26133 Oldenburg
END:VEVENT
BEGIN:VEVENT
DTSTAMP:20260422T010432
DTSTART;TZID=Europe/Berlin:20270209T104500
DTEND;TZID=Europe/Berlin:20270209T121500
UID:U14040-20270209T104500@EFBOLDENBURG
SUMMARY:DELFI ®  März 2026 geborene Kinder 2.Teil (U14040) 
LOCATION:Gemeindehaus St. Johannes, Pasteurstr. 5, Pasteurstr. 5, 26133 Oldenburg
END:VEVENT
BEGIN:VEVENT
DTSTAMP:20260422T010432
DTSTART;TZID=Europe/Berlin:20270216T104500
DTEND;TZID=Europe/Berlin:20270216T121500
UID:U14040-20270216T104500@EFBOLDENBURG
SUMMARY:DELFI ®  März 2026 geborene Kinder 2.Teil (U14040) 
LOCATION:Gemeindehaus St. Johannes, Pasteurstr. 5, Pasteurstr. 5, 26133 Oldenburg
END:VEVENT
BEGIN:VEVENT
DTSTAMP:20260422T010432
DTSTART;TZID=Europe/Berlin:20270223T104500
DTEND;TZID=Europe/Berlin:20270223T121500
UID:U14040-20270223T104500@EFBOLDENBURG
SUMMARY:DELFI ®  März 2026 geborene Kinder 2.Teil (U14040) 
LOCATION:Gemeindehaus St. Johannes, Pasteurstr. 5, Pasteurstr. 5, 26133 Oldenburg
END:VEVENT
BEGIN:VEVENT
DTSTAMP:20260422T010432
DTSTART;TZID=Europe/Berlin:20270302T104500
DTEND;TZID=Europe/Berlin:20270302T121500
UID:U14040-20270302T104500@EFBOLDENBURG
SUMMARY:DELFI ®  März 2026 geborene Kinder 2.Teil (U14040) 
LOCATION:Gemeindehaus St. Johannes, Pasteurstr. 5, Pasteurstr. 5, 26133 Oldenburg
END:VEVENT
END:VCALENDAR