BEGIN:VCALENDAR
VERSION:2.0
PRODID:https://www.kufer.de/kuferweb / DE
METHOD:PUBLISH
CALSCALE:GREGORIAN
X-WR-TIMEZONE:Europe/Berlin
BEGIN:VTIMEZONE
TZID:Europe/Berlin
X-LIC-LOCATION:Europe/Berlin
BEGIN:DAYLIGHT
TZOFFSETFROM:+0100
TZOFFSETTO:+0200
TZNAME:CEST
DTSTART:19700329T020000
RRULE:FREQ=YEARLY;INTERVAL=1;BYDAY=-1SU;BYMONTH=3
END:DAYLIGHT
BEGIN:STANDARD
TZOFFSETFROM:+0200
TZOFFSETTO:+0100
TZNAME:CET
DTSTART:19701025T030000
RRULE:FREQ=YEARLY;INTERVAL=1;BYDAY=-1SU;BYMONTH=10
END:STANDARD
END:VTIMEZONE
BEGIN:VEVENT
DTSTAMP:20260421T233021
DTSTART;TZID=Europe/Berlin:20261113T104500
DTEND;TZID=Europe/Berlin:20261113T121500
UID:U14043-20261113T104500@EFBOLDENBURG
SUMMARY:DELFI ®  März 2026 geborene Kinder 2.Teil (U14043) 
LOCATION:Gemeindehaus St. Johannes, Pasteurstr. 5, Pasteurstr. 5, 26133 Oldenburg
END:VEVENT
BEGIN:VEVENT
DTSTAMP:20260421T233021
DTSTART;TZID=Europe/Berlin:20261120T104500
DTEND;TZID=Europe/Berlin:20261120T121500
UID:U14043-20261120T104500@EFBOLDENBURG
SUMMARY:DELFI ®  März 2026 geborene Kinder 2.Teil (U14043) 
LOCATION:Gemeindehaus St. Johannes, Pasteurstr. 5, Pasteurstr. 5, 26133 Oldenburg
END:VEVENT
BEGIN:VEVENT
DTSTAMP:20260421T233021
DTSTART;TZID=Europe/Berlin:20261127T104500
DTEND;TZID=Europe/Berlin:20261127T121500
UID:U14043-20261127T104500@EFBOLDENBURG
SUMMARY:DELFI ®  März 2026 geborene Kinder 2.Teil (U14043) 
LOCATION:Gemeindehaus St. Johannes, Pasteurstr. 5, Pasteurstr. 5, 26133 Oldenburg
END:VEVENT
BEGIN:VEVENT
DTSTAMP:20260421T233021
DTSTART;TZID=Europe/Berlin:20261204T104500
DTEND;TZID=Europe/Berlin:20261204T121500
UID:U14043-20261204T104500@EFBOLDENBURG
SUMMARY:DELFI ®  März 2026 geborene Kinder 2.Teil (U14043) 
LOCATION:Gemeindehaus St. Johannes, Pasteurstr. 5, Pasteurstr. 5, 26133 Oldenburg
END:VEVENT
BEGIN:VEVENT
DTSTAMP:20260421T233021
DTSTART;TZID=Europe/Berlin:20261211T104500
DTEND;TZID=Europe/Berlin:20261211T121500
UID:U14043-20261211T104500@EFBOLDENBURG
SUMMARY:DELFI ®  März 2026 geborene Kinder 2.Teil (U14043) 
LOCATION:Gemeindehaus St. Johannes, Pasteurstr. 5, Pasteurstr. 5, 26133 Oldenburg
END:VEVENT
BEGIN:VEVENT
DTSTAMP:20260421T233021
DTSTART;TZID=Europe/Berlin:20261218T104500
DTEND;TZID=Europe/Berlin:20261218T121500
UID:U14043-20261218T104500@EFBOLDENBURG
SUMMARY:DELFI ®  März 2026 geborene Kinder 2.Teil (U14043) 
LOCATION:Gemeindehaus St. Johannes, Pasteurstr. 5, Pasteurstr. 5, 26133 Oldenburg
END:VEVENT
BEGIN:VEVENT
DTSTAMP:20260421T233021
DTSTART;TZID=Europe/Berlin:20270115T104500
DTEND;TZID=Europe/Berlin:20270115T121500
UID:U14043-20270115T104500@EFBOLDENBURG
SUMMARY:DELFI ®  März 2026 geborene Kinder 2.Teil (U14043) 
LOCATION:Gemeindehaus St. Johannes, Pasteurstr. 5, Pasteurstr. 5, 26133 Oldenburg
END:VEVENT
BEGIN:VEVENT
DTSTAMP:20260421T233021
DTSTART;TZID=Europe/Berlin:20270122T104500
DTEND;TZID=Europe/Berlin:20270122T121500
UID:U14043-20270122T104500@EFBOLDENBURG
SUMMARY:DELFI ®  März 2026 geborene Kinder 2.Teil (U14043) 
LOCATION:Gemeindehaus St. Johannes, Pasteurstr. 5, Pasteurstr. 5, 26133 Oldenburg
END:VEVENT
BEGIN:VEVENT
DTSTAMP:20260421T233021
DTSTART;TZID=Europe/Berlin:20270129T104500
DTEND;TZID=Europe/Berlin:20270129T121500
UID:U14043-20270129T104500@EFBOLDENBURG
SUMMARY:DELFI ®  März 2026 geborene Kinder 2.Teil (U14043) 
LOCATION:Gemeindehaus St. Johannes, Pasteurstr. 5, Pasteurstr. 5, 26133 Oldenburg
END:VEVENT
BEGIN:VEVENT
DTSTAMP:20260421T233021
DTSTART;TZID=Europe/Berlin:20270205T104500
DTEND;TZID=Europe/Berlin:20270205T121500
UID:U14043-20270205T104500@EFBOLDENBURG
SUMMARY:DELFI ®  März 2026 geborene Kinder 2.Teil (U14043) 
LOCATION:Gemeindehaus St. Johannes, Pasteurstr. 5, Pasteurstr. 5, 26133 Oldenburg
END:VEVENT
BEGIN:VEVENT
DTSTAMP:20260421T233021
DTSTART;TZID=Europe/Berlin:20270212T104500
DTEND;TZID=Europe/Berlin:20270212T121500
UID:U14043-20270212T104500@EFBOLDENBURG
SUMMARY:DELFI ®  März 2026 geborene Kinder 2.Teil (U14043) 
LOCATION:Gemeindehaus St. Johannes, Pasteurstr. 5, Pasteurstr. 5, 26133 Oldenburg
END:VEVENT
BEGIN:VEVENT
DTSTAMP:20260421T233021
DTSTART;TZID=Europe/Berlin:20270219T104500
DTEND;TZID=Europe/Berlin:20270219T121500
UID:U14043-20270219T104500@EFBOLDENBURG
SUMMARY:DELFI ®  März 2026 geborene Kinder 2.Teil (U14043) 
LOCATION:Gemeindehaus St. Johannes, Pasteurstr. 5, Pasteurstr. 5, 26133 Oldenburg
END:VEVENT
BEGIN:VEVENT
DTSTAMP:20260421T233021
DTSTART;TZID=Europe/Berlin:20270226T104500
DTEND;TZID=Europe/Berlin:20270226T121500
UID:U14043-20270226T104500@EFBOLDENBURG
SUMMARY:DELFI ®  März 2026 geborene Kinder 2.Teil (U14043) 
LOCATION:Gemeindehaus St. Johannes, Pasteurstr. 5, Pasteurstr. 5, 26133 Oldenburg
END:VEVENT
BEGIN:VEVENT
DTSTAMP:20260421T233021
DTSTART;TZID=Europe/Berlin:20270305T104500
DTEND;TZID=Europe/Berlin:20270305T121500
UID:U14043-20270305T104500@EFBOLDENBURG
SUMMARY:DELFI ®  März 2026 geborene Kinder 2.Teil (U14043) 
LOCATION:Gemeindehaus St. Johannes, Pasteurstr. 5, Pasteurstr. 5, 26133 Oldenburg
END:VEVENT
BEGIN:VEVENT
DTSTAMP:20260421T233021
DTSTART;TZID=Europe/Berlin:20270312T104500
DTEND;TZID=Europe/Berlin:20270312T121500
UID:U14043-20270312T104500@EFBOLDENBURG
SUMMARY:DELFI ®  März 2026 geborene Kinder 2.Teil (U14043) 
LOCATION:Gemeindehaus St. Johannes, Pasteurstr. 5, Pasteurstr. 5, 26133 Oldenburg
END:VEVENT
END:VCALENDAR