BEGIN:VCALENDAR
VERSION:2.0
PRODID:https://www.kufer.de/kuferweb / DE
METHOD:PUBLISH
CALSCALE:GREGORIAN
X-WR-TIMEZONE:Europe/Berlin
BEGIN:VTIMEZONE
TZID:Europe/Berlin
X-LIC-LOCATION:Europe/Berlin
BEGIN:DAYLIGHT
TZOFFSETFROM:+0100
TZOFFSETTO:+0200
TZNAME:CEST
DTSTART:19700329T020000
RRULE:FREQ=YEARLY;INTERVAL=1;BYDAY=-1SU;BYMONTH=3
END:DAYLIGHT
BEGIN:STANDARD
TZOFFSETFROM:+0200
TZOFFSETTO:+0100
TZNAME:CET
DTSTART:19701025T030000
RRULE:FREQ=YEARLY;INTERVAL=1;BYDAY=-1SU;BYMONTH=10
END:STANDARD
END:VTIMEZONE
BEGIN:VEVENT
DTSTAMP:20260421T214519
DTSTART;TZID=Europe/Berlin:20260629T104500
DTEND;TZID=Europe/Berlin:20260629T121500
UID:U14051-20260629T104500@EFBOLDENBURG
SUMMARY:DELFI ®  April 2026 geborene Kinder 1.Teil (U14051) 
LOCATION:Gemeindehaus St. Johannes, Pasteurstr. 5, Pasteurstr. 5, 26133 Oldenburg
END:VEVENT
BEGIN:VEVENT
DTSTAMP:20260421T214519
DTSTART;TZID=Europe/Berlin:20260817T104500
DTEND;TZID=Europe/Berlin:20260817T121500
UID:U14051-20260817T104500@EFBOLDENBURG
SUMMARY:DELFI ®  April 2026 geborene Kinder 1.Teil (U14051) 
LOCATION:Gemeindehaus St. Johannes, Pasteurstr. 5, Pasteurstr. 5, 26133 Oldenburg
END:VEVENT
BEGIN:VEVENT
DTSTAMP:20260421T214519
DTSTART;TZID=Europe/Berlin:20260824T104500
DTEND;TZID=Europe/Berlin:20260824T121500
UID:U14051-20260824T104500@EFBOLDENBURG
SUMMARY:DELFI ®  April 2026 geborene Kinder 1.Teil (U14051) 
LOCATION:Gemeindehaus St. Johannes, Pasteurstr. 5, Pasteurstr. 5, 26133 Oldenburg
END:VEVENT
BEGIN:VEVENT
DTSTAMP:20260421T214519
DTSTART;TZID=Europe/Berlin:20260831T104500
DTEND;TZID=Europe/Berlin:20260831T121500
UID:U14051-20260831T104500@EFBOLDENBURG
SUMMARY:DELFI ®  April 2026 geborene Kinder 1.Teil (U14051) 
LOCATION:Gemeindehaus St. Johannes, Pasteurstr. 5, Pasteurstr. 5, 26133 Oldenburg
END:VEVENT
BEGIN:VEVENT
DTSTAMP:20260421T214519
DTSTART;TZID=Europe/Berlin:20260907T104500
DTEND;TZID=Europe/Berlin:20260907T121500
UID:U14051-20260907T104500@EFBOLDENBURG
SUMMARY:DELFI ®  April 2026 geborene Kinder 1.Teil (U14051) 
LOCATION:Gemeindehaus St. Johannes, Pasteurstr. 5, Pasteurstr. 5, 26133 Oldenburg
END:VEVENT
BEGIN:VEVENT
DTSTAMP:20260421T214519
DTSTART;TZID=Europe/Berlin:20260914T104500
DTEND;TZID=Europe/Berlin:20260914T121500
UID:U14051-20260914T104500@EFBOLDENBURG
SUMMARY:DELFI ®  April 2026 geborene Kinder 1.Teil (U14051) 
LOCATION:Gemeindehaus St. Johannes, Pasteurstr. 5, Pasteurstr. 5, 26133 Oldenburg
END:VEVENT
BEGIN:VEVENT
DTSTAMP:20260421T214519
DTSTART;TZID=Europe/Berlin:20260921T104500
DTEND;TZID=Europe/Berlin:20260921T121500
UID:U14051-20260921T104500@EFBOLDENBURG
SUMMARY:DELFI ®  April 2026 geborene Kinder 1.Teil (U14051) 
LOCATION:Gemeindehaus St. Johannes, Pasteurstr. 5, Pasteurstr. 5, 26133 Oldenburg
END:VEVENT
BEGIN:VEVENT
DTSTAMP:20260421T214519
DTSTART;TZID=Europe/Berlin:20260928T104500
DTEND;TZID=Europe/Berlin:20260928T121500
UID:U14051-20260928T104500@EFBOLDENBURG
SUMMARY:DELFI ®  April 2026 geborene Kinder 1.Teil (U14051) 
LOCATION:Gemeindehaus St. Johannes, Pasteurstr. 5, Pasteurstr. 5, 26133 Oldenburg
END:VEVENT
BEGIN:VEVENT
DTSTAMP:20260421T214519
DTSTART;TZID=Europe/Berlin:20261005T104500
DTEND;TZID=Europe/Berlin:20261005T121500
UID:U14051-20261005T104500@EFBOLDENBURG
SUMMARY:DELFI ®  April 2026 geborene Kinder 1.Teil (U14051) 
LOCATION:Gemeindehaus St. Johannes, Pasteurstr. 5, Pasteurstr. 5, 26133 Oldenburg
END:VEVENT
BEGIN:VEVENT
DTSTAMP:20260421T214519
DTSTART;TZID=Europe/Berlin:20261026T104500
DTEND;TZID=Europe/Berlin:20261026T121500
UID:U14051-20261026T104500@EFBOLDENBURG
SUMMARY:DELFI ®  April 2026 geborene Kinder 1.Teil (U14051) 
LOCATION:Gemeindehaus St. Johannes, Pasteurstr. 5, Pasteurstr. 5, 26133 Oldenburg
END:VEVENT
BEGIN:VEVENT
DTSTAMP:20260421T214519
DTSTART;TZID=Europe/Berlin:20261102T104500
DTEND;TZID=Europe/Berlin:20261102T121500
UID:U14051-20261102T104500@EFBOLDENBURG
SUMMARY:DELFI ®  April 2026 geborene Kinder 1.Teil (U14051) 
LOCATION:Gemeindehaus St. Johannes, Pasteurstr. 5, Pasteurstr. 5, 26133 Oldenburg
END:VEVENT
BEGIN:VEVENT
DTSTAMP:20260421T214519
DTSTART;TZID=Europe/Berlin:20261109T104500
DTEND;TZID=Europe/Berlin:20261109T121500
UID:U14051-20261109T104500@EFBOLDENBURG
SUMMARY:DELFI ®  April 2026 geborene Kinder 1.Teil (U14051) 
LOCATION:Gemeindehaus St. Johannes, Pasteurstr. 5, Pasteurstr. 5, 26133 Oldenburg
END:VEVENT
BEGIN:VEVENT
DTSTAMP:20260421T214519
DTSTART;TZID=Europe/Berlin:20261116T104500
DTEND;TZID=Europe/Berlin:20261116T121500
UID:U14051-20261116T104500@EFBOLDENBURG
SUMMARY:DELFI ®  April 2026 geborene Kinder 1.Teil (U14051) 
LOCATION:Gemeindehaus St. Johannes, Pasteurstr. 5, Pasteurstr. 5, 26133 Oldenburg
END:VEVENT
BEGIN:VEVENT
DTSTAMP:20260421T214519
DTSTART;TZID=Europe/Berlin:20261123T104500
DTEND;TZID=Europe/Berlin:20261123T121500
UID:U14051-20261123T104500@EFBOLDENBURG
SUMMARY:DELFI ®  April 2026 geborene Kinder 1.Teil (U14051) 
LOCATION:Gemeindehaus St. Johannes, Pasteurstr. 5, Pasteurstr. 5, 26133 Oldenburg
END:VEVENT
BEGIN:VEVENT
DTSTAMP:20260421T214519
DTSTART;TZID=Europe/Berlin:20261130T104500
DTEND;TZID=Europe/Berlin:20261130T121500
UID:U14051-20261130T104500@EFBOLDENBURG
SUMMARY:DELFI ®  April 2026 geborene Kinder 1.Teil (U14051) 
LOCATION:Gemeindehaus St. Johannes, Pasteurstr. 5, Pasteurstr. 5, 26133 Oldenburg
END:VEVENT
END:VCALENDAR