BEGIN:VCALENDAR
VERSION:2.0
PRODID:https://www.kufer.de/kuferweb / DE
METHOD:PUBLISH
CALSCALE:GREGORIAN
X-WR-TIMEZONE:Europe/Berlin
BEGIN:VTIMEZONE
TZID:Europe/Berlin
X-LIC-LOCATION:Europe/Berlin
BEGIN:DAYLIGHT
TZOFFSETFROM:+0100
TZOFFSETTO:+0200
TZNAME:CEST
DTSTART:19700329T020000
RRULE:FREQ=YEARLY;INTERVAL=1;BYDAY=-1SU;BYMONTH=3
END:DAYLIGHT
BEGIN:STANDARD
TZOFFSETFROM:+0200
TZOFFSETTO:+0100
TZNAME:CET
DTSTART:19701025T030000
RRULE:FREQ=YEARLY;INTERVAL=1;BYDAY=-1SU;BYMONTH=10
END:STANDARD
END:VTIMEZONE
BEGIN:VEVENT
DTSTAMP:20260421T233112
DTSTART;TZID=Europe/Berlin:20261207T090000
DTEND;TZID=Europe/Berlin:20261207T103000
UID:U14052-20261207T090000@EFBOLDENBURG
SUMMARY:DELFI ®  April 2026 geborene Kinder 2.Teil (U14052) 
LOCATION:Gemeindehaus St. Johannes, Pasteurstr. 5, Pasteurstr. 5, 26133 Oldenburg
END:VEVENT
BEGIN:VEVENT
DTSTAMP:20260421T233112
DTSTART;TZID=Europe/Berlin:20261214T090000
DTEND;TZID=Europe/Berlin:20261214T103000
UID:U14052-20261214T090000@EFBOLDENBURG
SUMMARY:DELFI ®  April 2026 geborene Kinder 2.Teil (U14052) 
LOCATION:Gemeindehaus St. Johannes, Pasteurstr. 5, Pasteurstr. 5, 26133 Oldenburg
END:VEVENT
BEGIN:VEVENT
DTSTAMP:20260421T233112
DTSTART;TZID=Europe/Berlin:20261221T090000
DTEND;TZID=Europe/Berlin:20261221T103000
UID:U14052-20261221T090000@EFBOLDENBURG
SUMMARY:DELFI ®  April 2026 geborene Kinder 2.Teil (U14052) 
LOCATION:Gemeindehaus St. Johannes, Pasteurstr. 5, Pasteurstr. 5, 26133 Oldenburg
END:VEVENT
BEGIN:VEVENT
DTSTAMP:20260421T233112
DTSTART;TZID=Europe/Berlin:20270111T090000
DTEND;TZID=Europe/Berlin:20270111T103000
UID:U14052-20270111T090000@EFBOLDENBURG
SUMMARY:DELFI ®  April 2026 geborene Kinder 2.Teil (U14052) 
LOCATION:Gemeindehaus St. Johannes, Pasteurstr. 5, Pasteurstr. 5, 26133 Oldenburg
END:VEVENT
BEGIN:VEVENT
DTSTAMP:20260421T233112
DTSTART;TZID=Europe/Berlin:20270118T090000
DTEND;TZID=Europe/Berlin:20270118T103000
UID:U14052-20270118T090000@EFBOLDENBURG
SUMMARY:DELFI ®  April 2026 geborene Kinder 2.Teil (U14052) 
LOCATION:Gemeindehaus St. Johannes, Pasteurstr. 5, Pasteurstr. 5, 26133 Oldenburg
END:VEVENT
BEGIN:VEVENT
DTSTAMP:20260421T233112
DTSTART;TZID=Europe/Berlin:20270125T090000
DTEND;TZID=Europe/Berlin:20270125T103000
UID:U14052-20270125T090000@EFBOLDENBURG
SUMMARY:DELFI ®  April 2026 geborene Kinder 2.Teil (U14052) 
LOCATION:Gemeindehaus St. Johannes, Pasteurstr. 5, Pasteurstr. 5, 26133 Oldenburg
END:VEVENT
BEGIN:VEVENT
DTSTAMP:20260421T233112
DTSTART;TZID=Europe/Berlin:20270201T090000
DTEND;TZID=Europe/Berlin:20270201T103000
UID:U14052-20270201T090000@EFBOLDENBURG
SUMMARY:DELFI ®  April 2026 geborene Kinder 2.Teil (U14052) 
LOCATION:Gemeindehaus St. Johannes, Pasteurstr. 5, Pasteurstr. 5, 26133 Oldenburg
END:VEVENT
BEGIN:VEVENT
DTSTAMP:20260421T233112
DTSTART;TZID=Europe/Berlin:20270208T090000
DTEND;TZID=Europe/Berlin:20270208T103000
UID:U14052-20270208T090000@EFBOLDENBURG
SUMMARY:DELFI ®  April 2026 geborene Kinder 2.Teil (U14052) 
LOCATION:Gemeindehaus St. Johannes, Pasteurstr. 5, Pasteurstr. 5, 26133 Oldenburg
END:VEVENT
BEGIN:VEVENT
DTSTAMP:20260421T233112
DTSTART;TZID=Europe/Berlin:20270215T090000
DTEND;TZID=Europe/Berlin:20270215T103000
UID:U14052-20270215T090000@EFBOLDENBURG
SUMMARY:DELFI ®  April 2026 geborene Kinder 2.Teil (U14052) 
LOCATION:Gemeindehaus St. Johannes, Pasteurstr. 5, Pasteurstr. 5, 26133 Oldenburg
END:VEVENT
BEGIN:VEVENT
DTSTAMP:20260421T233112
DTSTART;TZID=Europe/Berlin:20270222T090000
DTEND;TZID=Europe/Berlin:20270222T103000
UID:U14052-20270222T090000@EFBOLDENBURG
SUMMARY:DELFI ®  April 2026 geborene Kinder 2.Teil (U14052) 
LOCATION:Gemeindehaus St. Johannes, Pasteurstr. 5, Pasteurstr. 5, 26133 Oldenburg
END:VEVENT
BEGIN:VEVENT
DTSTAMP:20260421T233112
DTSTART;TZID=Europe/Berlin:20270301T090000
DTEND;TZID=Europe/Berlin:20270301T103000
UID:U14052-20270301T090000@EFBOLDENBURG
SUMMARY:DELFI ®  April 2026 geborene Kinder 2.Teil (U14052) 
LOCATION:Gemeindehaus St. Johannes, Pasteurstr. 5, Pasteurstr. 5, 26133 Oldenburg
END:VEVENT
BEGIN:VEVENT
DTSTAMP:20260421T233112
DTSTART;TZID=Europe/Berlin:20270308T090000
DTEND;TZID=Europe/Berlin:20270308T103000
UID:U14052-20270308T090000@EFBOLDENBURG
SUMMARY:DELFI ®  April 2026 geborene Kinder 2.Teil (U14052) 
LOCATION:Gemeindehaus St. Johannes, Pasteurstr. 5, Pasteurstr. 5, 26133 Oldenburg
END:VEVENT
BEGIN:VEVENT
DTSTAMP:20260421T233112
DTSTART;TZID=Europe/Berlin:20270315T090000
DTEND;TZID=Europe/Berlin:20270315T103000
UID:U14052-20270315T090000@EFBOLDENBURG
SUMMARY:DELFI ®  April 2026 geborene Kinder 2.Teil (U14052) 
LOCATION:Gemeindehaus St. Johannes, Pasteurstr. 5, Pasteurstr. 5, 26133 Oldenburg
END:VEVENT
BEGIN:VEVENT
DTSTAMP:20260421T233112
DTSTART;TZID=Europe/Berlin:20270322T090000
DTEND;TZID=Europe/Berlin:20270322T103000
UID:U14052-20270322T090000@EFBOLDENBURG
SUMMARY:DELFI ®  April 2026 geborene Kinder 2.Teil (U14052) 
LOCATION:Gemeindehaus St. Johannes, Pasteurstr. 5, Pasteurstr. 5, 26133 Oldenburg
END:VEVENT
BEGIN:VEVENT
DTSTAMP:20260421T233112
DTSTART;TZID=Europe/Berlin:20270329T090000
DTEND;TZID=Europe/Berlin:20270329T103000
UID:U14052-20270329T090000@EFBOLDENBURG
SUMMARY:DELFI ®  April 2026 geborene Kinder 2.Teil (U14052) 
LOCATION:Gemeindehaus St. Johannes, Pasteurstr. 5, Pasteurstr. 5, 26133 Oldenburg
END:VEVENT
END:VCALENDAR