BEGIN:VCALENDAR
VERSION:2.0
PRODID:https://www.kufer.de/kuferweb / DE
METHOD:PUBLISH
CALSCALE:GREGORIAN
X-WR-TIMEZONE:Europe/Berlin
BEGIN:VTIMEZONE
TZID:Europe/Berlin
X-LIC-LOCATION:Europe/Berlin
BEGIN:DAYLIGHT
TZOFFSETFROM:+0100
TZOFFSETTO:+0200
TZNAME:CEST
DTSTART:19700329T020000
RRULE:FREQ=YEARLY;INTERVAL=1;BYDAY=-1SU;BYMONTH=3
END:DAYLIGHT
BEGIN:STANDARD
TZOFFSETFROM:+0200
TZOFFSETTO:+0100
TZNAME:CET
DTSTART:19701025T030000
RRULE:FREQ=YEARLY;INTERVAL=1;BYDAY=-1SU;BYMONTH=10
END:STANDARD
END:VTIMEZONE
BEGIN:VEVENT
DTSTAMP:20260422T025742
DTSTART;TZID=Europe/Berlin:20261207T104500
DTEND;TZID=Europe/Berlin:20261207T121500
UID:U14053-20261207T104500@EFBOLDENBURG
SUMMARY:DELFI ®  April 2026 geborene Kinder 2.Teil (U14053) 
LOCATION:Gemeindehaus St. Johannes, Pasteurstr. 5, Pasteurstr. 5, 26133 Oldenburg
END:VEVENT
BEGIN:VEVENT
DTSTAMP:20260422T025742
DTSTART;TZID=Europe/Berlin:20261214T104500
DTEND;TZID=Europe/Berlin:20261214T121500
UID:U14053-20261214T104500@EFBOLDENBURG
SUMMARY:DELFI ®  April 2026 geborene Kinder 2.Teil (U14053) 
LOCATION:Gemeindehaus St. Johannes, Pasteurstr. 5, Pasteurstr. 5, 26133 Oldenburg
END:VEVENT
BEGIN:VEVENT
DTSTAMP:20260422T025742
DTSTART;TZID=Europe/Berlin:20261221T104500
DTEND;TZID=Europe/Berlin:20261221T121500
UID:U14053-20261221T104500@EFBOLDENBURG
SUMMARY:DELFI ®  April 2026 geborene Kinder 2.Teil (U14053) 
LOCATION:Gemeindehaus St. Johannes, Pasteurstr. 5, Pasteurstr. 5, 26133 Oldenburg
END:VEVENT
BEGIN:VEVENT
DTSTAMP:20260422T025742
DTSTART;TZID=Europe/Berlin:20270111T104500
DTEND;TZID=Europe/Berlin:20270111T121500
UID:U14053-20270111T104500@EFBOLDENBURG
SUMMARY:DELFI ®  April 2026 geborene Kinder 2.Teil (U14053) 
LOCATION:Gemeindehaus St. Johannes, Pasteurstr. 5, Pasteurstr. 5, 26133 Oldenburg
END:VEVENT
BEGIN:VEVENT
DTSTAMP:20260422T025742
DTSTART;TZID=Europe/Berlin:20270118T104500
DTEND;TZID=Europe/Berlin:20270118T121500
UID:U14053-20270118T104500@EFBOLDENBURG
SUMMARY:DELFI ®  April 2026 geborene Kinder 2.Teil (U14053) 
LOCATION:Gemeindehaus St. Johannes, Pasteurstr. 5, Pasteurstr. 5, 26133 Oldenburg
END:VEVENT
BEGIN:VEVENT
DTSTAMP:20260422T025742
DTSTART;TZID=Europe/Berlin:20270125T104500
DTEND;TZID=Europe/Berlin:20270125T121500
UID:U14053-20270125T104500@EFBOLDENBURG
SUMMARY:DELFI ®  April 2026 geborene Kinder 2.Teil (U14053) 
LOCATION:Gemeindehaus St. Johannes, Pasteurstr. 5, Pasteurstr. 5, 26133 Oldenburg
END:VEVENT
BEGIN:VEVENT
DTSTAMP:20260422T025742
DTSTART;TZID=Europe/Berlin:20270201T104500
DTEND;TZID=Europe/Berlin:20270201T121500
UID:U14053-20270201T104500@EFBOLDENBURG
SUMMARY:DELFI ®  April 2026 geborene Kinder 2.Teil (U14053) 
LOCATION:Gemeindehaus St. Johannes, Pasteurstr. 5, Pasteurstr. 5, 26133 Oldenburg
END:VEVENT
BEGIN:VEVENT
DTSTAMP:20260422T025742
DTSTART;TZID=Europe/Berlin:20270208T104500
DTEND;TZID=Europe/Berlin:20270208T121500
UID:U14053-20270208T104500@EFBOLDENBURG
SUMMARY:DELFI ®  April 2026 geborene Kinder 2.Teil (U14053) 
LOCATION:Gemeindehaus St. Johannes, Pasteurstr. 5, Pasteurstr. 5, 26133 Oldenburg
END:VEVENT
BEGIN:VEVENT
DTSTAMP:20260422T025742
DTSTART;TZID=Europe/Berlin:20270215T104500
DTEND;TZID=Europe/Berlin:20270215T121500
UID:U14053-20270215T104500@EFBOLDENBURG
SUMMARY:DELFI ®  April 2026 geborene Kinder 2.Teil (U14053) 
LOCATION:Gemeindehaus St. Johannes, Pasteurstr. 5, Pasteurstr. 5, 26133 Oldenburg
END:VEVENT
BEGIN:VEVENT
DTSTAMP:20260422T025742
DTSTART;TZID=Europe/Berlin:20270222T104500
DTEND;TZID=Europe/Berlin:20270222T121500
UID:U14053-20270222T104500@EFBOLDENBURG
SUMMARY:DELFI ®  April 2026 geborene Kinder 2.Teil (U14053) 
LOCATION:Gemeindehaus St. Johannes, Pasteurstr. 5, Pasteurstr. 5, 26133 Oldenburg
END:VEVENT
BEGIN:VEVENT
DTSTAMP:20260422T025742
DTSTART;TZID=Europe/Berlin:20270301T104500
DTEND;TZID=Europe/Berlin:20270301T121500
UID:U14053-20270301T104500@EFBOLDENBURG
SUMMARY:DELFI ®  April 2026 geborene Kinder 2.Teil (U14053) 
LOCATION:Gemeindehaus St. Johannes, Pasteurstr. 5, Pasteurstr. 5, 26133 Oldenburg
END:VEVENT
BEGIN:VEVENT
DTSTAMP:20260422T025742
DTSTART;TZID=Europe/Berlin:20270308T104500
DTEND;TZID=Europe/Berlin:20270308T121500
UID:U14053-20270308T104500@EFBOLDENBURG
SUMMARY:DELFI ®  April 2026 geborene Kinder 2.Teil (U14053) 
LOCATION:Gemeindehaus St. Johannes, Pasteurstr. 5, Pasteurstr. 5, 26133 Oldenburg
END:VEVENT
BEGIN:VEVENT
DTSTAMP:20260422T025742
DTSTART;TZID=Europe/Berlin:20270315T104500
DTEND;TZID=Europe/Berlin:20270315T121500
UID:U14053-20270315T104500@EFBOLDENBURG
SUMMARY:DELFI ®  April 2026 geborene Kinder 2.Teil (U14053) 
LOCATION:Gemeindehaus St. Johannes, Pasteurstr. 5, Pasteurstr. 5, 26133 Oldenburg
END:VEVENT
BEGIN:VEVENT
DTSTAMP:20260422T025742
DTSTART;TZID=Europe/Berlin:20270322T104500
DTEND;TZID=Europe/Berlin:20270322T121500
UID:U14053-20270322T104500@EFBOLDENBURG
SUMMARY:DELFI ®  April 2026 geborene Kinder 2.Teil (U14053) 
LOCATION:Gemeindehaus St. Johannes, Pasteurstr. 5, Pasteurstr. 5, 26133 Oldenburg
END:VEVENT
BEGIN:VEVENT
DTSTAMP:20260422T025742
DTSTART;TZID=Europe/Berlin:20270329T104500
DTEND;TZID=Europe/Berlin:20270329T121500
UID:U14053-20270329T104500@EFBOLDENBURG
SUMMARY:DELFI ®  April 2026 geborene Kinder 2.Teil (U14053) 
LOCATION:Gemeindehaus St. Johannes, Pasteurstr. 5, Pasteurstr. 5, 26133 Oldenburg
END:VEVENT
END:VCALENDAR