BEGIN:VCALENDAR
VERSION:2.0
PRODID:https://www.kufer.de/kuferweb / DE
METHOD:PUBLISH
CALSCALE:GREGORIAN
X-WR-TIMEZONE:Europe/Berlin
BEGIN:VTIMEZONE
TZID:Europe/Berlin
X-LIC-LOCATION:Europe/Berlin
BEGIN:DAYLIGHT
TZOFFSETFROM:+0100
TZOFFSETTO:+0200
TZNAME:CEST
DTSTART:19700329T020000
RRULE:FREQ=YEARLY;INTERVAL=1;BYDAY=-1SU;BYMONTH=3
END:DAYLIGHT
BEGIN:STANDARD
TZOFFSETFROM:+0200
TZOFFSETTO:+0100
TZNAME:CET
DTSTART:19701025T030000
RRULE:FREQ=YEARLY;INTERVAL=1;BYDAY=-1SU;BYMONTH=10
END:STANDARD
END:VTIMEZONE
BEGIN:VEVENT
DTSTAMP:20260421T203054
DTSTART;TZID=Europe/Berlin:20260826T104500
DTEND;TZID=Europe/Berlin:20260826T121500
UID:U14071-20260826T104500@EFBOLDENBURG
SUMMARY:DELFI ®  Juni 2026 geborene Kinder 1.Teil (U14071) 
LOCATION:Ev. Familien-Bildungsstätte, Saal, Gorch-Fock-Str. 5 a, 26135 Oldenburg
END:VEVENT
BEGIN:VEVENT
DTSTAMP:20260421T203054
DTSTART;TZID=Europe/Berlin:20260902T104500
DTEND;TZID=Europe/Berlin:20260902T121500
UID:U14071-20260902T104500@EFBOLDENBURG
SUMMARY:DELFI ®  Juni 2026 geborene Kinder 1.Teil (U14071) 
LOCATION:Ev. Familien-Bildungsstätte, Saal, Gorch-Fock-Str. 5 a, 26135 Oldenburg
END:VEVENT
BEGIN:VEVENT
DTSTAMP:20260421T203054
DTSTART;TZID=Europe/Berlin:20260909T104500
DTEND;TZID=Europe/Berlin:20260909T121500
UID:U14071-20260909T104500@EFBOLDENBURG
SUMMARY:DELFI ®  Juni 2026 geborene Kinder 1.Teil (U14071) 
LOCATION:Ev. Familien-Bildungsstätte, Saal, Gorch-Fock-Str. 5 a, 26135 Oldenburg
END:VEVENT
BEGIN:VEVENT
DTSTAMP:20260421T203054
DTSTART;TZID=Europe/Berlin:20260916T104500
DTEND;TZID=Europe/Berlin:20260916T121500
UID:U14071-20260916T104500@EFBOLDENBURG
SUMMARY:DELFI ®  Juni 2026 geborene Kinder 1.Teil (U14071) 
LOCATION:Ev. Familien-Bildungsstätte, Saal, Gorch-Fock-Str. 5 a, 26135 Oldenburg
END:VEVENT
BEGIN:VEVENT
DTSTAMP:20260421T203054
DTSTART;TZID=Europe/Berlin:20260923T104500
DTEND;TZID=Europe/Berlin:20260923T121500
UID:U14071-20260923T104500@EFBOLDENBURG
SUMMARY:DELFI ®  Juni 2026 geborene Kinder 1.Teil (U14071) 
LOCATION:Ev. Familien-Bildungsstätte, Saal, Gorch-Fock-Str. 5 a, 26135 Oldenburg
END:VEVENT
BEGIN:VEVENT
DTSTAMP:20260421T203054
DTSTART;TZID=Europe/Berlin:20260930T104500
DTEND;TZID=Europe/Berlin:20260930T121500
UID:U14071-20260930T104500@EFBOLDENBURG
SUMMARY:DELFI ®  Juni 2026 geborene Kinder 1.Teil (U14071) 
LOCATION:Ev. Familien-Bildungsstätte, Saal, Gorch-Fock-Str. 5 a, 26135 Oldenburg
END:VEVENT
BEGIN:VEVENT
DTSTAMP:20260421T203054
DTSTART;TZID=Europe/Berlin:20261007T104500
DTEND;TZID=Europe/Berlin:20261007T121500
UID:U14071-20261007T104500@EFBOLDENBURG
SUMMARY:DELFI ®  Juni 2026 geborene Kinder 1.Teil (U14071) 
LOCATION:Ev. Familien-Bildungsstätte, Saal, Gorch-Fock-Str. 5 a, 26135 Oldenburg
END:VEVENT
BEGIN:VEVENT
DTSTAMP:20260421T203054
DTSTART;TZID=Europe/Berlin:20261028T104500
DTEND;TZID=Europe/Berlin:20261028T121500
UID:U14071-20261028T104500@EFBOLDENBURG
SUMMARY:DELFI ®  Juni 2026 geborene Kinder 1.Teil (U14071) 
LOCATION:Ev. Familien-Bildungsstätte, Saal, Gorch-Fock-Str. 5 a, 26135 Oldenburg
END:VEVENT
BEGIN:VEVENT
DTSTAMP:20260421T203054
DTSTART;TZID=Europe/Berlin:20261104T104500
DTEND;TZID=Europe/Berlin:20261104T121500
UID:U14071-20261104T104500@EFBOLDENBURG
SUMMARY:DELFI ®  Juni 2026 geborene Kinder 1.Teil (U14071) 
LOCATION:Ev. Familien-Bildungsstätte, Saal, Gorch-Fock-Str. 5 a, 26135 Oldenburg
END:VEVENT
BEGIN:VEVENT
DTSTAMP:20260421T203054
DTSTART;TZID=Europe/Berlin:20261111T104500
DTEND;TZID=Europe/Berlin:20261111T121500
UID:U14071-20261111T104500@EFBOLDENBURG
SUMMARY:DELFI ®  Juni 2026 geborene Kinder 1.Teil (U14071) 
LOCATION:Ev. Familien-Bildungsstätte, Saal, Gorch-Fock-Str. 5 a, 26135 Oldenburg
END:VEVENT
BEGIN:VEVENT
DTSTAMP:20260421T203054
DTSTART;TZID=Europe/Berlin:20261118T104500
DTEND;TZID=Europe/Berlin:20261118T121500
UID:U14071-20261118T104500@EFBOLDENBURG
SUMMARY:DELFI ®  Juni 2026 geborene Kinder 1.Teil (U14071) 
LOCATION:Ev. Familien-Bildungsstätte, Saal, Gorch-Fock-Str. 5 a, 26135 Oldenburg
END:VEVENT
BEGIN:VEVENT
DTSTAMP:20260421T203054
DTSTART;TZID=Europe/Berlin:20261125T104500
DTEND;TZID=Europe/Berlin:20261125T121500
UID:U14071-20261125T104500@EFBOLDENBURG
SUMMARY:DELFI ®  Juni 2026 geborene Kinder 1.Teil (U14071) 
LOCATION:Ev. Familien-Bildungsstätte, Saal, Gorch-Fock-Str. 5 a, 26135 Oldenburg
END:VEVENT
BEGIN:VEVENT
DTSTAMP:20260421T203054
DTSTART;TZID=Europe/Berlin:20261202T104500
DTEND;TZID=Europe/Berlin:20261202T121500
UID:U14071-20261202T104500@EFBOLDENBURG
SUMMARY:DELFI ®  Juni 2026 geborene Kinder 1.Teil (U14071) 
LOCATION:Ev. Familien-Bildungsstätte, Saal, Gorch-Fock-Str. 5 a, 26135 Oldenburg
END:VEVENT
BEGIN:VEVENT
DTSTAMP:20260421T203054
DTSTART;TZID=Europe/Berlin:20261209T104500
DTEND;TZID=Europe/Berlin:20261209T121500
UID:U14071-20261209T104500@EFBOLDENBURG
SUMMARY:DELFI ®  Juni 2026 geborene Kinder 1.Teil (U14071) 
LOCATION:Ev. Familien-Bildungsstätte, Saal, Gorch-Fock-Str. 5 a, 26135 Oldenburg
END:VEVENT
BEGIN:VEVENT
DTSTAMP:20260421T203054
DTSTART;TZID=Europe/Berlin:20261216T104500
DTEND;TZID=Europe/Berlin:20261216T121500
UID:U14071-20261216T104500@EFBOLDENBURG
SUMMARY:DELFI ®  Juni 2026 geborene Kinder 1.Teil (U14071) 
LOCATION:Ev. Familien-Bildungsstätte, Saal, Gorch-Fock-Str. 5 a, 26135 Oldenburg
END:VEVENT
END:VCALENDAR