BEGIN:VCALENDAR
VERSION:2.0
PRODID:https://www.kufer.de/kuferweb / DE
METHOD:PUBLISH
CALSCALE:GREGORIAN
X-WR-TIMEZONE:Europe/Berlin
BEGIN:VTIMEZONE
TZID:Europe/Berlin
X-LIC-LOCATION:Europe/Berlin
BEGIN:DAYLIGHT
TZOFFSETFROM:+0100
TZOFFSETTO:+0200
TZNAME:CEST
DTSTART:19700329T020000
RRULE:FREQ=YEARLY;INTERVAL=1;BYDAY=-1SU;BYMONTH=3
END:DAYLIGHT
BEGIN:STANDARD
TZOFFSETFROM:+0200
TZOFFSETTO:+0100
TZNAME:CET
DTSTART:19701025T030000
RRULE:FREQ=YEARLY;INTERVAL=1;BYDAY=-1SU;BYMONTH=10
END:STANDARD
END:VTIMEZONE
BEGIN:VEVENT
DTSTAMP:20260422T014246
DTSTART;TZID=Europe/Berlin:20260929T104500
DTEND;TZID=Europe/Berlin:20260929T121500
UID:U14073-20260929T104500@EFBOLDENBURG
SUMMARY:DELFI ®  Juli 2026 geborene Kinder 1.Teil (U14073) 
LOCATION:Ev. Familien-Bildungsstätte, Kinderraum, Gorch-Fock-Str. 5 a, 26135 Oldenburg
END:VEVENT
BEGIN:VEVENT
DTSTAMP:20260422T014246
DTSTART;TZID=Europe/Berlin:20261006T104500
DTEND;TZID=Europe/Berlin:20261006T121500
UID:U14073-20261006T104500@EFBOLDENBURG
SUMMARY:DELFI ®  Juli 2026 geborene Kinder 1.Teil (U14073) 
LOCATION:Ev. Familien-Bildungsstätte, Kinderraum, Gorch-Fock-Str. 5 a, 26135 Oldenburg
END:VEVENT
BEGIN:VEVENT
DTSTAMP:20260422T014246
DTSTART;TZID=Europe/Berlin:20261027T104500
DTEND;TZID=Europe/Berlin:20261027T121500
UID:U14073-20261027T104500@EFBOLDENBURG
SUMMARY:DELFI ®  Juli 2026 geborene Kinder 1.Teil (U14073) 
LOCATION:Ev. Familien-Bildungsstätte, Kinderraum, Gorch-Fock-Str. 5 a, 26135 Oldenburg
END:VEVENT
BEGIN:VEVENT
DTSTAMP:20260422T014246
DTSTART;TZID=Europe/Berlin:20261103T104500
DTEND;TZID=Europe/Berlin:20261103T121500
UID:U14073-20261103T104500@EFBOLDENBURG
SUMMARY:DELFI ®  Juli 2026 geborene Kinder 1.Teil (U14073) 
LOCATION:Ev. Familien-Bildungsstätte, Kinderraum, Gorch-Fock-Str. 5 a, 26135 Oldenburg
END:VEVENT
BEGIN:VEVENT
DTSTAMP:20260422T014246
DTSTART;TZID=Europe/Berlin:20261110T104500
DTEND;TZID=Europe/Berlin:20261110T121500
UID:U14073-20261110T104500@EFBOLDENBURG
SUMMARY:DELFI ®  Juli 2026 geborene Kinder 1.Teil (U14073) 
LOCATION:Ev. Familien-Bildungsstätte, Kinderraum, Gorch-Fock-Str. 5 a, 26135 Oldenburg
END:VEVENT
BEGIN:VEVENT
DTSTAMP:20260422T014246
DTSTART;TZID=Europe/Berlin:20261117T104500
DTEND;TZID=Europe/Berlin:20261117T121500
UID:U14073-20261117T104500@EFBOLDENBURG
SUMMARY:DELFI ®  Juli 2026 geborene Kinder 1.Teil (U14073) 
LOCATION:Ev. Familien-Bildungsstätte, Kinderraum, Gorch-Fock-Str. 5 a, 26135 Oldenburg
END:VEVENT
BEGIN:VEVENT
DTSTAMP:20260422T014246
DTSTART;TZID=Europe/Berlin:20261124T104500
DTEND;TZID=Europe/Berlin:20261124T121500
UID:U14073-20261124T104500@EFBOLDENBURG
SUMMARY:DELFI ®  Juli 2026 geborene Kinder 1.Teil (U14073) 
LOCATION:Ev. Familien-Bildungsstätte, Kinderraum, Gorch-Fock-Str. 5 a, 26135 Oldenburg
END:VEVENT
BEGIN:VEVENT
DTSTAMP:20260422T014246
DTSTART;TZID=Europe/Berlin:20261201T104500
DTEND;TZID=Europe/Berlin:20261201T121500
UID:U14073-20261201T104500@EFBOLDENBURG
SUMMARY:DELFI ®  Juli 2026 geborene Kinder 1.Teil (U14073) 
LOCATION:Ev. Familien-Bildungsstätte, Kinderraum, Gorch-Fock-Str. 5 a, 26135 Oldenburg
END:VEVENT
BEGIN:VEVENT
DTSTAMP:20260422T014246
DTSTART;TZID=Europe/Berlin:20261208T104500
DTEND;TZID=Europe/Berlin:20261208T121500
UID:U14073-20261208T104500@EFBOLDENBURG
SUMMARY:DELFI ®  Juli 2026 geborene Kinder 1.Teil (U14073) 
LOCATION:Ev. Familien-Bildungsstätte, Kinderraum, Gorch-Fock-Str. 5 a, 26135 Oldenburg
END:VEVENT
BEGIN:VEVENT
DTSTAMP:20260422T014246
DTSTART;TZID=Europe/Berlin:20261215T104500
DTEND;TZID=Europe/Berlin:20261215T121500
UID:U14073-20261215T104500@EFBOLDENBURG
SUMMARY:DELFI ®  Juli 2026 geborene Kinder 1.Teil (U14073) 
LOCATION:Ev. Familien-Bildungsstätte, Kinderraum, Gorch-Fock-Str. 5 a, 26135 Oldenburg
END:VEVENT
BEGIN:VEVENT
DTSTAMP:20260422T014246
DTSTART;TZID=Europe/Berlin:20261222T104500
DTEND;TZID=Europe/Berlin:20261222T121500
UID:U14073-20261222T104500@EFBOLDENBURG
SUMMARY:DELFI ®  Juli 2026 geborene Kinder 1.Teil (U14073) 
LOCATION:Ev. Familien-Bildungsstätte, Kinderraum, Gorch-Fock-Str. 5 a, 26135 Oldenburg
END:VEVENT
BEGIN:VEVENT
DTSTAMP:20260422T014246
DTSTART;TZID=Europe/Berlin:20270112T104500
DTEND;TZID=Europe/Berlin:20270112T121500
UID:U14073-20270112T104500@EFBOLDENBURG
SUMMARY:DELFI ®  Juli 2026 geborene Kinder 1.Teil (U14073) 
LOCATION:Ev. Familien-Bildungsstätte, Kinderraum, Gorch-Fock-Str. 5 a, 26135 Oldenburg
END:VEVENT
BEGIN:VEVENT
DTSTAMP:20260422T014246
DTSTART;TZID=Europe/Berlin:20270119T104500
DTEND;TZID=Europe/Berlin:20270119T121500
UID:U14073-20270119T104500@EFBOLDENBURG
SUMMARY:DELFI ®  Juli 2026 geborene Kinder 1.Teil (U14073) 
LOCATION:Ev. Familien-Bildungsstätte, Kinderraum, Gorch-Fock-Str. 5 a, 26135 Oldenburg
END:VEVENT
BEGIN:VEVENT
DTSTAMP:20260422T014246
DTSTART;TZID=Europe/Berlin:20270126T104500
DTEND;TZID=Europe/Berlin:20270126T121500
UID:U14073-20270126T104500@EFBOLDENBURG
SUMMARY:DELFI ®  Juli 2026 geborene Kinder 1.Teil (U14073) 
LOCATION:Ev. Familien-Bildungsstätte, Kinderraum, Gorch-Fock-Str. 5 a, 26135 Oldenburg
END:VEVENT
BEGIN:VEVENT
DTSTAMP:20260422T014246
DTSTART;TZID=Europe/Berlin:20270202T104500
DTEND;TZID=Europe/Berlin:20270202T121500
UID:U14073-20270202T104500@EFBOLDENBURG
SUMMARY:DELFI ®  Juli 2026 geborene Kinder 1.Teil (U14073) 
LOCATION:Ev. Familien-Bildungsstätte, Kinderraum, Gorch-Fock-Str. 5 a, 26135 Oldenburg
END:VEVENT
END:VCALENDAR