BEGIN:VCALENDAR
VERSION:2.0
PRODID:https://www.kufer.de/kuferweb / DE
METHOD:PUBLISH
CALSCALE:GREGORIAN
X-WR-TIMEZONE:Europe/Berlin
BEGIN:VTIMEZONE
TZID:Europe/Berlin
X-LIC-LOCATION:Europe/Berlin
BEGIN:DAYLIGHT
TZOFFSETFROM:+0100
TZOFFSETTO:+0200
TZNAME:CEST
DTSTART:19700329T020000
RRULE:FREQ=YEARLY;INTERVAL=1;BYDAY=-1SU;BYMONTH=3
END:DAYLIGHT
BEGIN:STANDARD
TZOFFSETFROM:+0200
TZOFFSETTO:+0100
TZNAME:CET
DTSTART:19701025T030000
RRULE:FREQ=YEARLY;INTERVAL=1;BYDAY=-1SU;BYMONTH=10
END:STANDARD
END:VTIMEZONE
BEGIN:VEVENT
DTSTAMP:20260422T043233
DTSTART;TZID=Europe/Berlin:20261028T090000
DTEND;TZID=Europe/Berlin:20261028T103000
UID:U14074-20261028T090000@EFBOLDENBURG
SUMMARY:DELFI ®  August 2026 geborene Kinder 1.Teil (U14074) 
LOCATION:Christophorus-Haus, Brookweg 32, Brookweg 32, 26127 Oldenburg
END:VEVENT
BEGIN:VEVENT
DTSTAMP:20260422T043233
DTSTART;TZID=Europe/Berlin:20261104T090000
DTEND;TZID=Europe/Berlin:20261104T103000
UID:U14074-20261104T090000@EFBOLDENBURG
SUMMARY:DELFI ®  August 2026 geborene Kinder 1.Teil (U14074) 
LOCATION:Christophorus-Haus, Brookweg 32, Brookweg 32, 26127 Oldenburg
END:VEVENT
BEGIN:VEVENT
DTSTAMP:20260422T043233
DTSTART;TZID=Europe/Berlin:20261111T090000
DTEND;TZID=Europe/Berlin:20261111T103000
UID:U14074-20261111T090000@EFBOLDENBURG
SUMMARY:DELFI ®  August 2026 geborene Kinder 1.Teil (U14074) 
LOCATION:Christophorus-Haus, Brookweg 32, Brookweg 32, 26127 Oldenburg
END:VEVENT
BEGIN:VEVENT
DTSTAMP:20260422T043233
DTSTART;TZID=Europe/Berlin:20261118T090000
DTEND;TZID=Europe/Berlin:20261118T103000
UID:U14074-20261118T090000@EFBOLDENBURG
SUMMARY:DELFI ®  August 2026 geborene Kinder 1.Teil (U14074) 
LOCATION:Christophorus-Haus, Brookweg 32, Brookweg 32, 26127 Oldenburg
END:VEVENT
BEGIN:VEVENT
DTSTAMP:20260422T043233
DTSTART;TZID=Europe/Berlin:20261125T090000
DTEND;TZID=Europe/Berlin:20261125T103000
UID:U14074-20261125T090000@EFBOLDENBURG
SUMMARY:DELFI ®  August 2026 geborene Kinder 1.Teil (U14074) 
LOCATION:Christophorus-Haus, Brookweg 32, Brookweg 32, 26127 Oldenburg
END:VEVENT
BEGIN:VEVENT
DTSTAMP:20260422T043233
DTSTART;TZID=Europe/Berlin:20261202T090000
DTEND;TZID=Europe/Berlin:20261202T103000
UID:U14074-20261202T090000@EFBOLDENBURG
SUMMARY:DELFI ®  August 2026 geborene Kinder 1.Teil (U14074) 
LOCATION:Christophorus-Haus, Brookweg 32, Brookweg 32, 26127 Oldenburg
END:VEVENT
BEGIN:VEVENT
DTSTAMP:20260422T043233
DTSTART;TZID=Europe/Berlin:20261209T090000
DTEND;TZID=Europe/Berlin:20261209T103000
UID:U14074-20261209T090000@EFBOLDENBURG
SUMMARY:DELFI ®  August 2026 geborene Kinder 1.Teil (U14074) 
LOCATION:Christophorus-Haus, Brookweg 32, Brookweg 32, 26127 Oldenburg
END:VEVENT
BEGIN:VEVENT
DTSTAMP:20260422T043233
DTSTART;TZID=Europe/Berlin:20261216T090000
DTEND;TZID=Europe/Berlin:20261216T103000
UID:U14074-20261216T090000@EFBOLDENBURG
SUMMARY:DELFI ®  August 2026 geborene Kinder 1.Teil (U14074) 
LOCATION:Christophorus-Haus, Brookweg 32, Brookweg 32, 26127 Oldenburg
END:VEVENT
BEGIN:VEVENT
DTSTAMP:20260422T043233
DTSTART;TZID=Europe/Berlin:20270113T090000
DTEND;TZID=Europe/Berlin:20270113T103000
UID:U14074-20270113T090000@EFBOLDENBURG
SUMMARY:DELFI ®  August 2026 geborene Kinder 1.Teil (U14074) 
LOCATION:Christophorus-Haus, Brookweg 32, Brookweg 32, 26127 Oldenburg
END:VEVENT
BEGIN:VEVENT
DTSTAMP:20260422T043233
DTSTART;TZID=Europe/Berlin:20270120T090000
DTEND;TZID=Europe/Berlin:20270120T103000
UID:U14074-20270120T090000@EFBOLDENBURG
SUMMARY:DELFI ®  August 2026 geborene Kinder 1.Teil (U14074) 
LOCATION:Christophorus-Haus, Brookweg 32, Brookweg 32, 26127 Oldenburg
END:VEVENT
BEGIN:VEVENT
DTSTAMP:20260422T043233
DTSTART;TZID=Europe/Berlin:20270127T090000
DTEND;TZID=Europe/Berlin:20270127T103000
UID:U14074-20270127T090000@EFBOLDENBURG
SUMMARY:DELFI ®  August 2026 geborene Kinder 1.Teil (U14074) 
LOCATION:Christophorus-Haus, Brookweg 32, Brookweg 32, 26127 Oldenburg
END:VEVENT
BEGIN:VEVENT
DTSTAMP:20260422T043233
DTSTART;TZID=Europe/Berlin:20270203T090000
DTEND;TZID=Europe/Berlin:20270203T103000
UID:U14074-20270203T090000@EFBOLDENBURG
SUMMARY:DELFI ®  August 2026 geborene Kinder 1.Teil (U14074) 
LOCATION:Christophorus-Haus, Brookweg 32, Brookweg 32, 26127 Oldenburg
END:VEVENT
BEGIN:VEVENT
DTSTAMP:20260422T043233
DTSTART;TZID=Europe/Berlin:20270210T090000
DTEND;TZID=Europe/Berlin:20270210T103000
UID:U14074-20270210T090000@EFBOLDENBURG
SUMMARY:DELFI ®  August 2026 geborene Kinder 1.Teil (U14074) 
LOCATION:Christophorus-Haus, Brookweg 32, Brookweg 32, 26127 Oldenburg
END:VEVENT
BEGIN:VEVENT
DTSTAMP:20260422T043233
DTSTART;TZID=Europe/Berlin:20270217T090000
DTEND;TZID=Europe/Berlin:20270217T103000
UID:U14074-20270217T090000@EFBOLDENBURG
SUMMARY:DELFI ®  August 2026 geborene Kinder 1.Teil (U14074) 
LOCATION:Christophorus-Haus, Brookweg 32, Brookweg 32, 26127 Oldenburg
END:VEVENT
BEGIN:VEVENT
DTSTAMP:20260422T043233
DTSTART;TZID=Europe/Berlin:20270224T090000
DTEND;TZID=Europe/Berlin:20270224T103000
UID:U14074-20270224T090000@EFBOLDENBURG
SUMMARY:DELFI ®  August 2026 geborene Kinder 1.Teil (U14074) 
LOCATION:Christophorus-Haus, Brookweg 32, Brookweg 32, 26127 Oldenburg
END:VEVENT
END:VCALENDAR