BEGIN:VCALENDAR
VERSION:2.0
PRODID:https://www.kufer.de/kuferweb / DE
METHOD:PUBLISH
CALSCALE:GREGORIAN
X-WR-TIMEZONE:Europe/Berlin
BEGIN:VTIMEZONE
TZID:Europe/Berlin
X-LIC-LOCATION:Europe/Berlin
BEGIN:DAYLIGHT
TZOFFSETFROM:+0100
TZOFFSETTO:+0200
TZNAME:CEST
DTSTART:19700329T020000
RRULE:FREQ=YEARLY;INTERVAL=1;BYDAY=-1SU;BYMONTH=3
END:DAYLIGHT
BEGIN:STANDARD
TZOFFSETFROM:+0200
TZOFFSETTO:+0100
TZNAME:CET
DTSTART:19701025T030000
RRULE:FREQ=YEARLY;INTERVAL=1;BYDAY=-1SU;BYMONTH=10
END:STANDARD
END:VTIMEZONE
BEGIN:VEVENT
DTSTAMP:20260424T103716
DTSTART;TZID=Europe/Berlin:20261028T104500
DTEND;TZID=Europe/Berlin:20261028T121500
UID:U14075-20261028T104500@EFBOLDENBURG
SUMMARY:DELFI ®  August 2026 geborene Kinder 1.Teil (U14075) 
LOCATION:Christophorus-Haus, Brookweg 32, Brookweg 32, 26127 Oldenburg
END:VEVENT
BEGIN:VEVENT
DTSTAMP:20260424T103716
DTSTART;TZID=Europe/Berlin:20261104T104500
DTEND;TZID=Europe/Berlin:20261104T121500
UID:U14075-20261104T104500@EFBOLDENBURG
SUMMARY:DELFI ®  August 2026 geborene Kinder 1.Teil (U14075) 
LOCATION:Christophorus-Haus, Brookweg 32, Brookweg 32, 26127 Oldenburg
END:VEVENT
BEGIN:VEVENT
DTSTAMP:20260424T103716
DTSTART;TZID=Europe/Berlin:20261111T104500
DTEND;TZID=Europe/Berlin:20261111T121500
UID:U14075-20261111T104500@EFBOLDENBURG
SUMMARY:DELFI ®  August 2026 geborene Kinder 1.Teil (U14075) 
LOCATION:Christophorus-Haus, Brookweg 32, Brookweg 32, 26127 Oldenburg
END:VEVENT
BEGIN:VEVENT
DTSTAMP:20260424T103716
DTSTART;TZID=Europe/Berlin:20261118T104500
DTEND;TZID=Europe/Berlin:20261118T121500
UID:U14075-20261118T104500@EFBOLDENBURG
SUMMARY:DELFI ®  August 2026 geborene Kinder 1.Teil (U14075) 
LOCATION:Christophorus-Haus, Brookweg 32, Brookweg 32, 26127 Oldenburg
END:VEVENT
BEGIN:VEVENT
DTSTAMP:20260424T103716
DTSTART;TZID=Europe/Berlin:20261125T104500
DTEND;TZID=Europe/Berlin:20261125T121500
UID:U14075-20261125T104500@EFBOLDENBURG
SUMMARY:DELFI ®  August 2026 geborene Kinder 1.Teil (U14075) 
LOCATION:Christophorus-Haus, Brookweg 32, Brookweg 32, 26127 Oldenburg
END:VEVENT
BEGIN:VEVENT
DTSTAMP:20260424T103716
DTSTART;TZID=Europe/Berlin:20261202T104500
DTEND;TZID=Europe/Berlin:20261202T121500
UID:U14075-20261202T104500@EFBOLDENBURG
SUMMARY:DELFI ®  August 2026 geborene Kinder 1.Teil (U14075) 
LOCATION:Christophorus-Haus, Brookweg 32, Brookweg 32, 26127 Oldenburg
END:VEVENT
BEGIN:VEVENT
DTSTAMP:20260424T103716
DTSTART;TZID=Europe/Berlin:20261209T104500
DTEND;TZID=Europe/Berlin:20261209T121500
UID:U14075-20261209T104500@EFBOLDENBURG
SUMMARY:DELFI ®  August 2026 geborene Kinder 1.Teil (U14075) 
LOCATION:Christophorus-Haus, Brookweg 32, Brookweg 32, 26127 Oldenburg
END:VEVENT
BEGIN:VEVENT
DTSTAMP:20260424T103716
DTSTART;TZID=Europe/Berlin:20261216T104500
DTEND;TZID=Europe/Berlin:20261216T121500
UID:U14075-20261216T104500@EFBOLDENBURG
SUMMARY:DELFI ®  August 2026 geborene Kinder 1.Teil (U14075) 
LOCATION:Christophorus-Haus, Brookweg 32, Brookweg 32, 26127 Oldenburg
END:VEVENT
BEGIN:VEVENT
DTSTAMP:20260424T103716
DTSTART;TZID=Europe/Berlin:20270113T104500
DTEND;TZID=Europe/Berlin:20270113T121500
UID:U14075-20270113T104500@EFBOLDENBURG
SUMMARY:DELFI ®  August 2026 geborene Kinder 1.Teil (U14075) 
LOCATION:Christophorus-Haus, Brookweg 32, Brookweg 32, 26127 Oldenburg
END:VEVENT
BEGIN:VEVENT
DTSTAMP:20260424T103716
DTSTART;TZID=Europe/Berlin:20270120T104500
DTEND;TZID=Europe/Berlin:20270120T121500
UID:U14075-20270120T104500@EFBOLDENBURG
SUMMARY:DELFI ®  August 2026 geborene Kinder 1.Teil (U14075) 
LOCATION:Christophorus-Haus, Brookweg 32, Brookweg 32, 26127 Oldenburg
END:VEVENT
BEGIN:VEVENT
DTSTAMP:20260424T103716
DTSTART;TZID=Europe/Berlin:20270127T104500
DTEND;TZID=Europe/Berlin:20270127T121500
UID:U14075-20270127T104500@EFBOLDENBURG
SUMMARY:DELFI ®  August 2026 geborene Kinder 1.Teil (U14075) 
LOCATION:Christophorus-Haus, Brookweg 32, Brookweg 32, 26127 Oldenburg
END:VEVENT
BEGIN:VEVENT
DTSTAMP:20260424T103716
DTSTART;TZID=Europe/Berlin:20270203T104500
DTEND;TZID=Europe/Berlin:20270203T121500
UID:U14075-20270203T104500@EFBOLDENBURG
SUMMARY:DELFI ®  August 2026 geborene Kinder 1.Teil (U14075) 
LOCATION:Christophorus-Haus, Brookweg 32, Brookweg 32, 26127 Oldenburg
END:VEVENT
BEGIN:VEVENT
DTSTAMP:20260424T103716
DTSTART;TZID=Europe/Berlin:20270210T104500
DTEND;TZID=Europe/Berlin:20270210T121500
UID:U14075-20270210T104500@EFBOLDENBURG
SUMMARY:DELFI ®  August 2026 geborene Kinder 1.Teil (U14075) 
LOCATION:Christophorus-Haus, Brookweg 32, Brookweg 32, 26127 Oldenburg
END:VEVENT
BEGIN:VEVENT
DTSTAMP:20260424T103716
DTSTART;TZID=Europe/Berlin:20270217T104500
DTEND;TZID=Europe/Berlin:20270217T121500
UID:U14075-20270217T104500@EFBOLDENBURG
SUMMARY:DELFI ®  August 2026 geborene Kinder 1.Teil (U14075) 
LOCATION:Christophorus-Haus, Brookweg 32, Brookweg 32, 26127 Oldenburg
END:VEVENT
BEGIN:VEVENT
DTSTAMP:20260424T103716
DTSTART;TZID=Europe/Berlin:20270224T104500
DTEND;TZID=Europe/Berlin:20270224T121500
UID:U14075-20270224T104500@EFBOLDENBURG
SUMMARY:DELFI ®  August 2026 geborene Kinder 1.Teil (U14075) 
LOCATION:Christophorus-Haus, Brookweg 32, Brookweg 32, 26127 Oldenburg
END:VEVENT
END:VCALENDAR