BEGIN:VCALENDAR
VERSION:2.0
PRODID:https://www.kufer.de/kuferweb / DE
METHOD:PUBLISH
CALSCALE:GREGORIAN
X-WR-TIMEZONE:Europe/Berlin
BEGIN:VTIMEZONE
TZID:Europe/Berlin
X-LIC-LOCATION:Europe/Berlin
BEGIN:DAYLIGHT
TZOFFSETFROM:+0100
TZOFFSETTO:+0200
TZNAME:CEST
DTSTART:19700329T020000
RRULE:FREQ=YEARLY;INTERVAL=1;BYDAY=-1SU;BYMONTH=3
END:DAYLIGHT
BEGIN:STANDARD
TZOFFSETFROM:+0200
TZOFFSETTO:+0100
TZNAME:CET
DTSTART:19701025T030000
RRULE:FREQ=YEARLY;INTERVAL=1;BYDAY=-1SU;BYMONTH=10
END:STANDARD
END:VTIMEZONE
BEGIN:VEVENT
DTSTAMP:20260422T010423
DTSTART;TZID=Europe/Berlin:20261126T104500
DTEND;TZID=Europe/Berlin:20261126T121500
UID:U14080-20261126T104500@EFBOLDENBURG
SUMMARY:DELFI ®  September 2026 geborene Kinder 1.Teil (U14080) 
LOCATION:Gemeindehaus St. Johannes, Pasteurstr. 5, Pasteurstr. 5, 26133 Oldenburg
END:VEVENT
BEGIN:VEVENT
DTSTAMP:20260422T010423
DTSTART;TZID=Europe/Berlin:20261203T104500
DTEND;TZID=Europe/Berlin:20261203T121500
UID:U14080-20261203T104500@EFBOLDENBURG
SUMMARY:DELFI ®  September 2026 geborene Kinder 1.Teil (U14080) 
LOCATION:Gemeindehaus St. Johannes, Pasteurstr. 5, Pasteurstr. 5, 26133 Oldenburg
END:VEVENT
BEGIN:VEVENT
DTSTAMP:20260422T010423
DTSTART;TZID=Europe/Berlin:20261210T104500
DTEND;TZID=Europe/Berlin:20261210T121500
UID:U14080-20261210T104500@EFBOLDENBURG
SUMMARY:DELFI ®  September 2026 geborene Kinder 1.Teil (U14080) 
LOCATION:Gemeindehaus St. Johannes, Pasteurstr. 5, Pasteurstr. 5, 26133 Oldenburg
END:VEVENT
BEGIN:VEVENT
DTSTAMP:20260422T010423
DTSTART;TZID=Europe/Berlin:20261217T104500
DTEND;TZID=Europe/Berlin:20261217T121500
UID:U14080-20261217T104500@EFBOLDENBURG
SUMMARY:DELFI ®  September 2026 geborene Kinder 1.Teil (U14080) 
LOCATION:Gemeindehaus St. Johannes, Pasteurstr. 5, Pasteurstr. 5, 26133 Oldenburg
END:VEVENT
BEGIN:VEVENT
DTSTAMP:20260422T010423
DTSTART;TZID=Europe/Berlin:20270114T104500
DTEND;TZID=Europe/Berlin:20270114T121500
UID:U14080-20270114T104500@EFBOLDENBURG
SUMMARY:DELFI ®  September 2026 geborene Kinder 1.Teil (U14080) 
LOCATION:Gemeindehaus St. Johannes, Pasteurstr. 5, Pasteurstr. 5, 26133 Oldenburg
END:VEVENT
BEGIN:VEVENT
DTSTAMP:20260422T010423
DTSTART;TZID=Europe/Berlin:20270121T104500
DTEND;TZID=Europe/Berlin:20270121T121500
UID:U14080-20270121T104500@EFBOLDENBURG
SUMMARY:DELFI ®  September 2026 geborene Kinder 1.Teil (U14080) 
LOCATION:Gemeindehaus St. Johannes, Pasteurstr. 5, Pasteurstr. 5, 26133 Oldenburg
END:VEVENT
BEGIN:VEVENT
DTSTAMP:20260422T010423
DTSTART;TZID=Europe/Berlin:20270128T104500
DTEND;TZID=Europe/Berlin:20270128T121500
UID:U14080-20270128T104500@EFBOLDENBURG
SUMMARY:DELFI ®  September 2026 geborene Kinder 1.Teil (U14080) 
LOCATION:Gemeindehaus St. Johannes, Pasteurstr. 5, Pasteurstr. 5, 26133 Oldenburg
END:VEVENT
BEGIN:VEVENT
DTSTAMP:20260422T010423
DTSTART;TZID=Europe/Berlin:20270204T104500
DTEND;TZID=Europe/Berlin:20270204T121500
UID:U14080-20270204T104500@EFBOLDENBURG
SUMMARY:DELFI ®  September 2026 geborene Kinder 1.Teil (U14080) 
LOCATION:Gemeindehaus St. Johannes, Pasteurstr. 5, Pasteurstr. 5, 26133 Oldenburg
END:VEVENT
BEGIN:VEVENT
DTSTAMP:20260422T010423
DTSTART;TZID=Europe/Berlin:20270211T104500
DTEND;TZID=Europe/Berlin:20270211T121500
UID:U14080-20270211T104500@EFBOLDENBURG
SUMMARY:DELFI ®  September 2026 geborene Kinder 1.Teil (U14080) 
LOCATION:Gemeindehaus St. Johannes, Pasteurstr. 5, Pasteurstr. 5, 26133 Oldenburg
END:VEVENT
BEGIN:VEVENT
DTSTAMP:20260422T010423
DTSTART;TZID=Europe/Berlin:20270218T104500
DTEND;TZID=Europe/Berlin:20270218T121500
UID:U14080-20270218T104500@EFBOLDENBURG
SUMMARY:DELFI ®  September 2026 geborene Kinder 1.Teil (U14080) 
LOCATION:Gemeindehaus St. Johannes, Pasteurstr. 5, Pasteurstr. 5, 26133 Oldenburg
END:VEVENT
BEGIN:VEVENT
DTSTAMP:20260422T010423
DTSTART;TZID=Europe/Berlin:20270225T104500
DTEND;TZID=Europe/Berlin:20270225T121500
UID:U14080-20270225T104500@EFBOLDENBURG
SUMMARY:DELFI ®  September 2026 geborene Kinder 1.Teil (U14080) 
LOCATION:Gemeindehaus St. Johannes, Pasteurstr. 5, Pasteurstr. 5, 26133 Oldenburg
END:VEVENT
BEGIN:VEVENT
DTSTAMP:20260422T010423
DTSTART;TZID=Europe/Berlin:20270304T104500
DTEND;TZID=Europe/Berlin:20270304T121500
UID:U14080-20270304T104500@EFBOLDENBURG
SUMMARY:DELFI ®  September 2026 geborene Kinder 1.Teil (U14080) 
LOCATION:Gemeindehaus St. Johannes, Pasteurstr. 5, Pasteurstr. 5, 26133 Oldenburg
END:VEVENT
BEGIN:VEVENT
DTSTAMP:20260422T010423
DTSTART;TZID=Europe/Berlin:20270311T104500
DTEND;TZID=Europe/Berlin:20270311T121500
UID:U14080-20270311T104500@EFBOLDENBURG
SUMMARY:DELFI ®  September 2026 geborene Kinder 1.Teil (U14080) 
LOCATION:Gemeindehaus St. Johannes, Pasteurstr. 5, Pasteurstr. 5, 26133 Oldenburg
END:VEVENT
BEGIN:VEVENT
DTSTAMP:20260422T010423
DTSTART;TZID=Europe/Berlin:20270318T104500
DTEND;TZID=Europe/Berlin:20270318T121500
UID:U14080-20270318T104500@EFBOLDENBURG
SUMMARY:DELFI ®  September 2026 geborene Kinder 1.Teil (U14080) 
LOCATION:Gemeindehaus St. Johannes, Pasteurstr. 5, Pasteurstr. 5, 26133 Oldenburg
END:VEVENT
BEGIN:VEVENT
DTSTAMP:20260422T010423
DTSTART;TZID=Europe/Berlin:20270325T104500
DTEND;TZID=Europe/Berlin:20270325T121500
UID:U14080-20270325T104500@EFBOLDENBURG
SUMMARY:DELFI ®  September 2026 geborene Kinder 1.Teil (U14080) 
LOCATION:Gemeindehaus St. Johannes, Pasteurstr. 5, Pasteurstr. 5, 26133 Oldenburg
END:VEVENT
END:VCALENDAR