BEGIN:VCALENDAR
VERSION:2.0
PRODID:https://www.kufer.de/kuferweb / DE
METHOD:PUBLISH
CALSCALE:GREGORIAN
X-WR-TIMEZONE:Europe/Berlin
BEGIN:VTIMEZONE
TZID:Europe/Berlin
X-LIC-LOCATION:Europe/Berlin
BEGIN:DAYLIGHT
TZOFFSETFROM:+0100
TZOFFSETTO:+0200
TZNAME:CEST
DTSTART:19700329T020000
RRULE:FREQ=YEARLY;INTERVAL=1;BYDAY=-1SU;BYMONTH=3
END:DAYLIGHT
BEGIN:STANDARD
TZOFFSETFROM:+0200
TZOFFSETTO:+0100
TZNAME:CET
DTSTART:19701025T030000
RRULE:FREQ=YEARLY;INTERVAL=1;BYDAY=-1SU;BYMONTH=10
END:STANDARD
END:VTIMEZONE
BEGIN:VEVENT
DTSTAMP:20260421T185817
DTSTART;TZID=Europe/Berlin:20261029T090000
DTEND;TZID=Europe/Berlin:20261029T103000
UID:U14081-20261029T090000@EFBOLDENBURG
SUMMARY:DELFI ®  September 2026 geborene Kinder 1.Teil (U14081) 
LOCATION:Ev. Familien-Bildungsstätte, Saal, Gorch-Fock-Str. 5 a, 26135 Oldenburg
END:VEVENT
BEGIN:VEVENT
DTSTAMP:20260421T185817
DTSTART;TZID=Europe/Berlin:20261105T090000
DTEND;TZID=Europe/Berlin:20261105T103000
UID:U14081-20261105T090000@EFBOLDENBURG
SUMMARY:DELFI ®  September 2026 geborene Kinder 1.Teil (U14081) 
LOCATION:Ev. Familien-Bildungsstätte, Saal, Gorch-Fock-Str. 5 a, 26135 Oldenburg
END:VEVENT
BEGIN:VEVENT
DTSTAMP:20260421T185817
DTSTART;TZID=Europe/Berlin:20261112T090000
DTEND;TZID=Europe/Berlin:20261112T103000
UID:U14081-20261112T090000@EFBOLDENBURG
SUMMARY:DELFI ®  September 2026 geborene Kinder 1.Teil (U14081) 
LOCATION:Ev. Familien-Bildungsstätte, Saal, Gorch-Fock-Str. 5 a, 26135 Oldenburg
END:VEVENT
BEGIN:VEVENT
DTSTAMP:20260421T185817
DTSTART;TZID=Europe/Berlin:20261119T090000
DTEND;TZID=Europe/Berlin:20261119T103000
UID:U14081-20261119T090000@EFBOLDENBURG
SUMMARY:DELFI ®  September 2026 geborene Kinder 1.Teil (U14081) 
LOCATION:Ev. Familien-Bildungsstätte, Saal, Gorch-Fock-Str. 5 a, 26135 Oldenburg
END:VEVENT
BEGIN:VEVENT
DTSTAMP:20260421T185817
DTSTART;TZID=Europe/Berlin:20261126T090000
DTEND;TZID=Europe/Berlin:20261126T103000
UID:U14081-20261126T090000@EFBOLDENBURG
SUMMARY:DELFI ®  September 2026 geborene Kinder 1.Teil (U14081) 
LOCATION:Ev. Familien-Bildungsstätte, Saal, Gorch-Fock-Str. 5 a, 26135 Oldenburg
END:VEVENT
BEGIN:VEVENT
DTSTAMP:20260421T185817
DTSTART;TZID=Europe/Berlin:20261203T090000
DTEND;TZID=Europe/Berlin:20261203T103000
UID:U14081-20261203T090000@EFBOLDENBURG
SUMMARY:DELFI ®  September 2026 geborene Kinder 1.Teil (U14081) 
LOCATION:Ev. Familien-Bildungsstätte, Saal, Gorch-Fock-Str. 5 a, 26135 Oldenburg
END:VEVENT
BEGIN:VEVENT
DTSTAMP:20260421T185817
DTSTART;TZID=Europe/Berlin:20261210T090000
DTEND;TZID=Europe/Berlin:20261210T103000
UID:U14081-20261210T090000@EFBOLDENBURG
SUMMARY:DELFI ®  September 2026 geborene Kinder 1.Teil (U14081) 
LOCATION:Ev. Familien-Bildungsstätte, Saal, Gorch-Fock-Str. 5 a, 26135 Oldenburg
END:VEVENT
BEGIN:VEVENT
DTSTAMP:20260421T185817
DTSTART;TZID=Europe/Berlin:20261217T090000
DTEND;TZID=Europe/Berlin:20261217T103000
UID:U14081-20261217T090000@EFBOLDENBURG
SUMMARY:DELFI ®  September 2026 geborene Kinder 1.Teil (U14081) 
LOCATION:Ev. Familien-Bildungsstätte, Saal, Gorch-Fock-Str. 5 a, 26135 Oldenburg
END:VEVENT
BEGIN:VEVENT
DTSTAMP:20260421T185817
DTSTART;TZID=Europe/Berlin:20270114T090000
DTEND;TZID=Europe/Berlin:20270114T103000
UID:U14081-20270114T090000@EFBOLDENBURG
SUMMARY:DELFI ®  September 2026 geborene Kinder 1.Teil (U14081) 
LOCATION:Ev. Familien-Bildungsstätte, Saal, Gorch-Fock-Str. 5 a, 26135 Oldenburg
END:VEVENT
BEGIN:VEVENT
DTSTAMP:20260421T185817
DTSTART;TZID=Europe/Berlin:20270121T090000
DTEND;TZID=Europe/Berlin:20270121T103000
UID:U14081-20270121T090000@EFBOLDENBURG
SUMMARY:DELFI ®  September 2026 geborene Kinder 1.Teil (U14081) 
LOCATION:Ev. Familien-Bildungsstätte, Saal, Gorch-Fock-Str. 5 a, 26135 Oldenburg
END:VEVENT
BEGIN:VEVENT
DTSTAMP:20260421T185817
DTSTART;TZID=Europe/Berlin:20270128T090000
DTEND;TZID=Europe/Berlin:20270128T103000
UID:U14081-20270128T090000@EFBOLDENBURG
SUMMARY:DELFI ®  September 2026 geborene Kinder 1.Teil (U14081) 
LOCATION:Ev. Familien-Bildungsstätte, Saal, Gorch-Fock-Str. 5 a, 26135 Oldenburg
END:VEVENT
BEGIN:VEVENT
DTSTAMP:20260421T185817
DTSTART;TZID=Europe/Berlin:20270204T090000
DTEND;TZID=Europe/Berlin:20270204T103000
UID:U14081-20270204T090000@EFBOLDENBURG
SUMMARY:DELFI ®  September 2026 geborene Kinder 1.Teil (U14081) 
LOCATION:Ev. Familien-Bildungsstätte, Saal, Gorch-Fock-Str. 5 a, 26135 Oldenburg
END:VEVENT
BEGIN:VEVENT
DTSTAMP:20260421T185817
DTSTART;TZID=Europe/Berlin:20270211T090000
DTEND;TZID=Europe/Berlin:20270211T103000
UID:U14081-20270211T090000@EFBOLDENBURG
SUMMARY:DELFI ®  September 2026 geborene Kinder 1.Teil (U14081) 
LOCATION:Ev. Familien-Bildungsstätte, Saal, Gorch-Fock-Str. 5 a, 26135 Oldenburg
END:VEVENT
BEGIN:VEVENT
DTSTAMP:20260421T185817
DTSTART;TZID=Europe/Berlin:20270218T090000
DTEND;TZID=Europe/Berlin:20270218T103000
UID:U14081-20270218T090000@EFBOLDENBURG
SUMMARY:DELFI ®  September 2026 geborene Kinder 1.Teil (U14081) 
LOCATION:Ev. Familien-Bildungsstätte, Saal, Gorch-Fock-Str. 5 a, 26135 Oldenburg
END:VEVENT
BEGIN:VEVENT
DTSTAMP:20260421T185817
DTSTART;TZID=Europe/Berlin:20270225T090000
DTEND;TZID=Europe/Berlin:20270225T103000
UID:U14081-20270225T090000@EFBOLDENBURG
SUMMARY:DELFI ®  September 2026 geborene Kinder 1.Teil (U14081) 
LOCATION:Ev. Familien-Bildungsstätte, Saal, Gorch-Fock-Str. 5 a, 26135 Oldenburg
END:VEVENT
END:VCALENDAR