BEGIN:VCALENDAR
VERSION:2.0
PRODID:https://www.kufer.de/kuferweb / DE
METHOD:PUBLISH
CALSCALE:GREGORIAN
X-WR-TIMEZONE:Europe/Berlin
BEGIN:VTIMEZONE
TZID:Europe/Berlin
X-LIC-LOCATION:Europe/Berlin
BEGIN:DAYLIGHT
TZOFFSETFROM:+0100
TZOFFSETTO:+0200
TZNAME:CEST
DTSTART:19700329T020000
RRULE:FREQ=YEARLY;INTERVAL=1;BYDAY=-1SU;BYMONTH=3
END:DAYLIGHT
BEGIN:STANDARD
TZOFFSETFROM:+0200
TZOFFSETTO:+0100
TZNAME:CET
DTSTART:19701025T030000
RRULE:FREQ=YEARLY;INTERVAL=1;BYDAY=-1SU;BYMONTH=10
END:STANDARD
END:VTIMEZONE
BEGIN:VEVENT
DTSTAMP:20260422T010212
DTSTART;TZID=Europe/Berlin:20261028T104500
DTEND;TZID=Europe/Berlin:20261028T121500
UID:U14101-20261028T104500@EFBOLDENBURG
SUMMARY:Babymassage nach Leboyer für Babys von 2-6 Monaten (U14101) 
LOCATION:Gemeindehaus St. Johannes, Pasteurstr. 5, Pasteurstr. 5, 26133 Oldenburg
END:VEVENT
BEGIN:VEVENT
DTSTAMP:20260422T010212
DTSTART;TZID=Europe/Berlin:20261104T104500
DTEND;TZID=Europe/Berlin:20261104T121500
UID:U14101-20261104T104500@EFBOLDENBURG
SUMMARY:Babymassage nach Leboyer für Babys von 2-6 Monaten (U14101) 
LOCATION:Gemeindehaus St. Johannes, Pasteurstr. 5, Pasteurstr. 5, 26133 Oldenburg
END:VEVENT
BEGIN:VEVENT
DTSTAMP:20260422T010212
DTSTART;TZID=Europe/Berlin:20261111T104500
DTEND;TZID=Europe/Berlin:20261111T121500
UID:U14101-20261111T104500@EFBOLDENBURG
SUMMARY:Babymassage nach Leboyer für Babys von 2-6 Monaten (U14101) 
LOCATION:Gemeindehaus St. Johannes, Pasteurstr. 5, Pasteurstr. 5, 26133 Oldenburg
END:VEVENT
BEGIN:VEVENT
DTSTAMP:20260422T010212
DTSTART;TZID=Europe/Berlin:20261118T104500
DTEND;TZID=Europe/Berlin:20261118T121500
UID:U14101-20261118T104500@EFBOLDENBURG
SUMMARY:Babymassage nach Leboyer für Babys von 2-6 Monaten (U14101) 
LOCATION:Gemeindehaus St. Johannes, Pasteurstr. 5, Pasteurstr. 5, 26133 Oldenburg
END:VEVENT
BEGIN:VEVENT
DTSTAMP:20260422T010212
DTSTART;TZID=Europe/Berlin:20261125T104500
DTEND;TZID=Europe/Berlin:20261125T121500
UID:U14101-20261125T104500@EFBOLDENBURG
SUMMARY:Babymassage nach Leboyer für Babys von 2-6 Monaten (U14101) 
LOCATION:Gemeindehaus St. Johannes, Pasteurstr. 5, Pasteurstr. 5, 26133 Oldenburg
END:VEVENT
END:VCALENDAR