BEGIN:VCALENDAR
VERSION:2.0
PRODID:https://www.kufer.de/kuferweb / DE
METHOD:PUBLISH
CALSCALE:GREGORIAN
X-WR-TIMEZONE:Europe/Berlin
BEGIN:VTIMEZONE
TZID:Europe/Berlin
X-LIC-LOCATION:Europe/Berlin
BEGIN:DAYLIGHT
TZOFFSETFROM:+0100
TZOFFSETTO:+0200
TZNAME:CEST
DTSTART:19700329T020000
RRULE:FREQ=YEARLY;INTERVAL=1;BYDAY=-1SU;BYMONTH=3
END:DAYLIGHT
BEGIN:STANDARD
TZOFFSETFROM:+0200
TZOFFSETTO:+0100
TZNAME:CET
DTSTART:19701025T030000
RRULE:FREQ=YEARLY;INTERVAL=1;BYDAY=-1SU;BYMONTH=10
END:STANDARD
END:VTIMEZONE
BEGIN:VEVENT
DTSTAMP:20260421T171803
DTSTART;TZID=Europe/Berlin:20260129T090000
DTEND;TZID=Europe/Berlin:20260129T103000
UID:U14105-20260129T090000@EFBOLDENBURG
SUMMARY:Krabbel- und Spieltreff -  Eltern und Kinder ab 9 Monaten (U14105) 
LOCATION:Ev. Familien-Bildungsstätte, Kinderraum, Gorch-Fock-Str. 5 a, 26135 Oldenburg
END:VEVENT
BEGIN:VEVENT
DTSTAMP:20260421T171803
DTSTART;TZID=Europe/Berlin:20260212T090000
DTEND;TZID=Europe/Berlin:20260212T103000
UID:U14105-20260212T090000@EFBOLDENBURG
SUMMARY:Krabbel- und Spieltreff -  Eltern und Kinder ab 9 Monaten (U14105) 
LOCATION:Ev. Familien-Bildungsstätte, Kinderraum, Gorch-Fock-Str. 5 a, 26135 Oldenburg
END:VEVENT
BEGIN:VEVENT
DTSTAMP:20260421T171803
DTSTART;TZID=Europe/Berlin:20260219T090000
DTEND;TZID=Europe/Berlin:20260219T103000
UID:U14105-20260219T090000@EFBOLDENBURG
SUMMARY:Krabbel- und Spieltreff -  Eltern und Kinder ab 9 Monaten (U14105) 
LOCATION:Ev. Familien-Bildungsstätte, Kinderraum, Gorch-Fock-Str. 5 a, 26135 Oldenburg
END:VEVENT
BEGIN:VEVENT
DTSTAMP:20260421T171803
DTSTART;TZID=Europe/Berlin:20260226T090000
DTEND;TZID=Europe/Berlin:20260226T103000
UID:U14105-20260226T090000@EFBOLDENBURG
SUMMARY:Krabbel- und Spieltreff -  Eltern und Kinder ab 9 Monaten (U14105) 
LOCATION:Ev. Familien-Bildungsstätte, Kinderraum, Gorch-Fock-Str. 5 a, 26135 Oldenburg
END:VEVENT
BEGIN:VEVENT
DTSTAMP:20260421T171803
DTSTART;TZID=Europe/Berlin:20260305T090000
DTEND;TZID=Europe/Berlin:20260305T103000
UID:U14105-20260305T090000@EFBOLDENBURG
SUMMARY:Krabbel- und Spieltreff -  Eltern und Kinder ab 9 Monaten (U14105) 
LOCATION:Ev. Familien-Bildungsstätte, Kinderraum, Gorch-Fock-Str. 5 a, 26135 Oldenburg
END:VEVENT
BEGIN:VEVENT
DTSTAMP:20260421T171803
DTSTART;TZID=Europe/Berlin:20260319T090000
DTEND;TZID=Europe/Berlin:20260319T103000
UID:U14105-20260319T090000@EFBOLDENBURG
SUMMARY:Krabbel- und Spieltreff -  Eltern und Kinder ab 9 Monaten (U14105) 
LOCATION:Ev. Familien-Bildungsstätte, Kinderraum, Gorch-Fock-Str. 5 a, 26135 Oldenburg
END:VEVENT
BEGIN:VEVENT
DTSTAMP:20260421T171803
DTSTART;TZID=Europe/Berlin:20260409T090000
DTEND;TZID=Europe/Berlin:20260409T103000
UID:U14105-20260409T090000@EFBOLDENBURG
SUMMARY:Krabbel- und Spieltreff -  Eltern und Kinder ab 9 Monaten (U14105) 
LOCATION:Ev. Familien-Bildungsstätte, Kinderraum, Gorch-Fock-Str. 5 a, 26135 Oldenburg
END:VEVENT
BEGIN:VEVENT
DTSTAMP:20260421T171803
DTSTART;TZID=Europe/Berlin:20260416T090000
DTEND;TZID=Europe/Berlin:20260416T103000
UID:U14105-20260416T090000@EFBOLDENBURG
SUMMARY:Krabbel- und Spieltreff -  Eltern und Kinder ab 9 Monaten (U14105) 
LOCATION:Ev. Familien-Bildungsstätte, Kinderraum, Gorch-Fock-Str. 5 a, 26135 Oldenburg
END:VEVENT
BEGIN:VEVENT
DTSTAMP:20260421T171803
DTSTART;TZID=Europe/Berlin:20260423T090000
DTEND;TZID=Europe/Berlin:20260423T103000
UID:U14105-20260423T090000@EFBOLDENBURG
DESCRIPTION:Ersatz für Ausfall am 05.02.2026
SUMMARY:Krabbel- und Spieltreff -  Eltern und Kinder ab 9 Monaten (U14105) 
LOCATION:Ev. Familien-Bildungsstätte, Kinderraum, Gorch-Fock-Str. 5 a, 26135 Oldenburg
END:VEVENT
BEGIN:VEVENT
DTSTAMP:20260421T171803
DTSTART;TZID=Europe/Berlin:20260430T090000
DTEND;TZID=Europe/Berlin:20260430T103000
UID:U14105-20260430T090000@EFBOLDENBURG
DESCRIPTION:Ersatz für Ausfall am 12.03.2026
SUMMARY:Krabbel- und Spieltreff -  Eltern und Kinder ab 9 Monaten (U14105) 
LOCATION:Ev. Familien-Bildungsstätte, Kinderraum, Gorch-Fock-Str. 5 a, 26135 Oldenburg
END:VEVENT
END:VCALENDAR