BEGIN:VCALENDAR
VERSION:2.0
PRODID:https://www.kufer.de/kuferweb / DE
METHOD:PUBLISH
CALSCALE:GREGORIAN
X-WR-TIMEZONE:Europe/Berlin
BEGIN:VTIMEZONE
TZID:Europe/Berlin
X-LIC-LOCATION:Europe/Berlin
BEGIN:DAYLIGHT
TZOFFSETFROM:+0100
TZOFFSETTO:+0200
TZNAME:CEST
DTSTART:19700329T020000
RRULE:FREQ=YEARLY;INTERVAL=1;BYDAY=-1SU;BYMONTH=3
END:DAYLIGHT
BEGIN:STANDARD
TZOFFSETFROM:+0200
TZOFFSETTO:+0100
TZNAME:CET
DTSTART:19701025T030000
RRULE:FREQ=YEARLY;INTERVAL=1;BYDAY=-1SU;BYMONTH=10
END:STANDARD
END:VTIMEZONE
BEGIN:VEVENT
DTSTAMP:20260424T105038
DTSTART;TZID=Europe/Berlin:20260115T160000
DTEND;TZID=Europe/Berlin:20260115T170000
UID:U16001-20260115T160000@EFBOLDENBURG
SUMMARY:Kinderchor im Gemeindehaus Jona für Kinder von 6 - 10 Jahren (U16001) 
LOCATION:Gemeindehaus Jona, Heimeck 23 a, Heimeck 23 a, 26135 Oldenburg
END:VEVENT
BEGIN:VEVENT
DTSTAMP:20260424T105038
DTSTART;TZID=Europe/Berlin:20260122T160000
DTEND;TZID=Europe/Berlin:20260122T170000
UID:U16001-20260122T160000@EFBOLDENBURG
SUMMARY:Kinderchor im Gemeindehaus Jona für Kinder von 6 - 10 Jahren (U16001) 
LOCATION:Gemeindehaus Jona, Heimeck 23 a, Heimeck 23 a, 26135 Oldenburg
END:VEVENT
BEGIN:VEVENT
DTSTAMP:20260424T105038
DTSTART;TZID=Europe/Berlin:20260129T160000
DTEND;TZID=Europe/Berlin:20260129T170000
UID:U16001-20260129T160000@EFBOLDENBURG
SUMMARY:Kinderchor im Gemeindehaus Jona für Kinder von 6 - 10 Jahren (U16001) 
LOCATION:Gemeindehaus Jona, Heimeck 23 a, Heimeck 23 a, 26135 Oldenburg
END:VEVENT
BEGIN:VEVENT
DTSTAMP:20260424T105038
DTSTART;TZID=Europe/Berlin:20260205T160000
DTEND;TZID=Europe/Berlin:20260205T170000
UID:U16001-20260205T160000@EFBOLDENBURG
SUMMARY:Kinderchor im Gemeindehaus Jona für Kinder von 6 - 10 Jahren (U16001) 
LOCATION:Gemeindehaus Jona, Heimeck 23 a, Heimeck 23 a, 26135 Oldenburg
END:VEVENT
BEGIN:VEVENT
DTSTAMP:20260424T105038
DTSTART;TZID=Europe/Berlin:20260212T160000
DTEND;TZID=Europe/Berlin:20260212T170000
UID:U16001-20260212T160000@EFBOLDENBURG
SUMMARY:Kinderchor im Gemeindehaus Jona für Kinder von 6 - 10 Jahren (U16001) 
LOCATION:Gemeindehaus Jona, Heimeck 23 a, Heimeck 23 a, 26135 Oldenburg
END:VEVENT
BEGIN:VEVENT
DTSTAMP:20260424T105038
DTSTART;TZID=Europe/Berlin:20260219T160000
DTEND;TZID=Europe/Berlin:20260219T170000
UID:U16001-20260219T160000@EFBOLDENBURG
SUMMARY:Kinderchor im Gemeindehaus Jona für Kinder von 6 - 10 Jahren (U16001) 
LOCATION:Gemeindehaus Jona, Heimeck 23 a, Heimeck 23 a, 26135 Oldenburg
END:VEVENT
BEGIN:VEVENT
DTSTAMP:20260424T105038
DTSTART;TZID=Europe/Berlin:20260226T160000
DTEND;TZID=Europe/Berlin:20260226T170000
UID:U16001-20260226T160000@EFBOLDENBURG
SUMMARY:Kinderchor im Gemeindehaus Jona für Kinder von 6 - 10 Jahren (U16001) 
LOCATION:Gemeindehaus Jona, Heimeck 23 a, Heimeck 23 a, 26135 Oldenburg
END:VEVENT
BEGIN:VEVENT
DTSTAMP:20260424T105038
DTSTART;TZID=Europe/Berlin:20260305T160000
DTEND;TZID=Europe/Berlin:20260305T170000
UID:U16001-20260305T160000@EFBOLDENBURG
SUMMARY:Kinderchor im Gemeindehaus Jona für Kinder von 6 - 10 Jahren (U16001) 
LOCATION:Gemeindehaus Jona, Heimeck 23 a, Heimeck 23 a, 26135 Oldenburg
END:VEVENT
BEGIN:VEVENT
DTSTAMP:20260424T105038
DTSTART;TZID=Europe/Berlin:20260312T160000
DTEND;TZID=Europe/Berlin:20260312T170000
UID:U16001-20260312T160000@EFBOLDENBURG
SUMMARY:Kinderchor im Gemeindehaus Jona für Kinder von 6 - 10 Jahren (U16001) 
LOCATION:Gemeindehaus Jona, Heimeck 23 a, Heimeck 23 a, 26135 Oldenburg
END:VEVENT
BEGIN:VEVENT
DTSTAMP:20260424T105038
DTSTART;TZID=Europe/Berlin:20260319T160000
DTEND;TZID=Europe/Berlin:20260319T170000
UID:U16001-20260319T160000@EFBOLDENBURG
SUMMARY:Kinderchor im Gemeindehaus Jona für Kinder von 6 - 10 Jahren (U16001) 
LOCATION:Gemeindehaus Jona, Heimeck 23 a, Heimeck 23 a, 26135 Oldenburg
END:VEVENT
BEGIN:VEVENT
DTSTAMP:20260424T105038
DTSTART;TZID=Europe/Berlin:20260409T160000
DTEND;TZID=Europe/Berlin:20260409T170000
UID:U16001-20260409T160000@EFBOLDENBURG
SUMMARY:Kinderchor im Gemeindehaus Jona für Kinder von 6 - 10 Jahren (U16001) 
LOCATION:Gemeindehaus Jona, Heimeck 23 a, Heimeck 23 a, 26135 Oldenburg
END:VEVENT
BEGIN:VEVENT
DTSTAMP:20260424T105038
DTSTART;TZID=Europe/Berlin:20260416T160000
DTEND;TZID=Europe/Berlin:20260416T170000
UID:U16001-20260416T160000@EFBOLDENBURG
SUMMARY:Kinderchor im Gemeindehaus Jona für Kinder von 6 - 10 Jahren (U16001) 
LOCATION:Gemeindehaus Jona, Heimeck 23 a, Heimeck 23 a, 26135 Oldenburg
END:VEVENT
BEGIN:VEVENT
DTSTAMP:20260424T105038
DTSTART;TZID=Europe/Berlin:20260423T160000
DTEND;TZID=Europe/Berlin:20260423T170000
UID:U16001-20260423T160000@EFBOLDENBURG
SUMMARY:Kinderchor im Gemeindehaus Jona für Kinder von 6 - 10 Jahren (U16001) 
LOCATION:Gemeindehaus Jona, Heimeck 23 a, Heimeck 23 a, 26135 Oldenburg
END:VEVENT
BEGIN:VEVENT
DTSTAMP:20260424T105038
DTSTART;TZID=Europe/Berlin:20260430T160000
DTEND;TZID=Europe/Berlin:20260430T170000
UID:U16001-20260430T160000@EFBOLDENBURG
SUMMARY:Kinderchor im Gemeindehaus Jona für Kinder von 6 - 10 Jahren (U16001) 
LOCATION:Gemeindehaus Jona, Heimeck 23 a, Heimeck 23 a, 26135 Oldenburg
END:VEVENT
BEGIN:VEVENT
DTSTAMP:20260424T105038
DTSTART;TZID=Europe/Berlin:20260507T160000
DTEND;TZID=Europe/Berlin:20260507T170000
UID:U16001-20260507T160000@EFBOLDENBURG
SUMMARY:Kinderchor im Gemeindehaus Jona für Kinder von 6 - 10 Jahren (U16001) 
LOCATION:Gemeindehaus Jona, Heimeck 23 a, Heimeck 23 a, 26135 Oldenburg
END:VEVENT
BEGIN:VEVENT
DTSTAMP:20260424T105038
DTSTART;TZID=Europe/Berlin:20260521T160000
DTEND;TZID=Europe/Berlin:20260521T170000
UID:U16001-20260521T160000@EFBOLDENBURG
SUMMARY:Kinderchor im Gemeindehaus Jona für Kinder von 6 - 10 Jahren (U16001) 
LOCATION:Gemeindehaus Jona, Heimeck 23 a, Heimeck 23 a, 26135 Oldenburg
END:VEVENT
BEGIN:VEVENT
DTSTAMP:20260424T105038
DTSTART;TZID=Europe/Berlin:20260528T160000
DTEND;TZID=Europe/Berlin:20260528T170000
UID:U16001-20260528T160000@EFBOLDENBURG
SUMMARY:Kinderchor im Gemeindehaus Jona für Kinder von 6 - 10 Jahren (U16001) 
LOCATION:Gemeindehaus Jona, Heimeck 23 a, Heimeck 23 a, 26135 Oldenburg
END:VEVENT
BEGIN:VEVENT
DTSTAMP:20260424T105038
DTSTART;TZID=Europe/Berlin:20260604T160000
DTEND;TZID=Europe/Berlin:20260604T170000
UID:U16001-20260604T160000@EFBOLDENBURG
SUMMARY:Kinderchor im Gemeindehaus Jona für Kinder von 6 - 10 Jahren (U16001) 
LOCATION:Gemeindehaus Jona, Heimeck 23 a, Heimeck 23 a, 26135 Oldenburg
END:VEVENT
END:VCALENDAR