BEGIN:VCALENDAR
VERSION:2.0
PRODID:https://www.kufer.de/kuferweb / DE
METHOD:PUBLISH
CALSCALE:GREGORIAN
X-WR-TIMEZONE:Europe/Berlin
BEGIN:VTIMEZONE
TZID:Europe/Berlin
X-LIC-LOCATION:Europe/Berlin
BEGIN:DAYLIGHT
TZOFFSETFROM:+0100
TZOFFSETTO:+0200
TZNAME:CEST
DTSTART:19700329T020000
RRULE:FREQ=YEARLY;INTERVAL=1;BYDAY=-1SU;BYMONTH=3
END:DAYLIGHT
BEGIN:STANDARD
TZOFFSETFROM:+0200
TZOFFSETTO:+0100
TZNAME:CET
DTSTART:19701025T030000
RRULE:FREQ=YEARLY;INTERVAL=1;BYDAY=-1SU;BYMONTH=10
END:STANDARD
END:VTIMEZONE
BEGIN:VEVENT
DTSTAMP:20260421T165703
DTSTART;TZID=Europe/Berlin:20260409T180000
DTEND;TZID=Europe/Berlin:20260409T190000
UID:U17023-20260409T180000@EFBOLDENBURG
DESCRIPTION:Infoabend
SUMMARY:Komm, geh mit mir segeln! -  Segelwochenende für Kinder ab 8 Jahren in Begleitung Erwachsener (U17023) 
LOCATION:Ev. Familien-Bildungsstätte, Nähraum,  Gorch-Fock-Str. 5 a, 26135 Oldenburg
END:VEVENT
BEGIN:VEVENT
DTSTAMP:20260421T165703
DTSTART;TZID=Europe/Berlin:20260417T160000
DTEND;TZID=Europe/Berlin:20260417T210000
UID:U17023-20260417T160000@EFBOLDENBURG
SUMMARY:Komm, geh mit mir segeln! -  Segelwochenende für Kinder ab 8 Jahren in Begleitung Erwachsener (U17023) 
LOCATION:Verandering - Bremerhaven
END:VEVENT
BEGIN:VEVENT
DTSTAMP:20260421T165703
DTSTART;TZID=Europe/Berlin:20260418T080000
DTEND;TZID=Europe/Berlin:20260418T210000
UID:U17023-20260418T080000@EFBOLDENBURG
SUMMARY:Komm, geh mit mir segeln! -  Segelwochenende für Kinder ab 8 Jahren in Begleitung Erwachsener (U17023) 
LOCATION:Verandering - Bremerhaven
END:VEVENT
BEGIN:VEVENT
DTSTAMP:20260421T165703
DTSTART;TZID=Europe/Berlin:20260419T080000
DTEND;TZID=Europe/Berlin:20260419T160000
UID:U17023-20260419T080000@EFBOLDENBURG
SUMMARY:Komm, geh mit mir segeln! -  Segelwochenende für Kinder ab 8 Jahren in Begleitung Erwachsener (U17023) 
LOCATION:Verandering - Bremerhaven
END:VEVENT
END:VCALENDAR