BEGIN:VCALENDAR
VERSION:2.0
PRODID:https://www.kufer.de/kuferweb / DE
METHOD:PUBLISH
CALSCALE:GREGORIAN
X-WR-TIMEZONE:Europe/Berlin
BEGIN:VTIMEZONE
TZID:Europe/Berlin
X-LIC-LOCATION:Europe/Berlin
BEGIN:DAYLIGHT
TZOFFSETFROM:+0100
TZOFFSETTO:+0200
TZNAME:CEST
DTSTART:19700329T020000
RRULE:FREQ=YEARLY;INTERVAL=1;BYDAY=-1SU;BYMONTH=3
END:DAYLIGHT
BEGIN:STANDARD
TZOFFSETFROM:+0200
TZOFFSETTO:+0100
TZNAME:CET
DTSTART:19701025T030000
RRULE:FREQ=YEARLY;INTERVAL=1;BYDAY=-1SU;BYMONTH=10
END:STANDARD
END:VTIMEZONE
BEGIN:VEVENT
DTSTAMP:20260422T110231
DTSTART;TZID=Europe/Berlin:20260605T144500
DTEND;TZID=Europe/Berlin:20260605T200000
UID:U17024-20260605T144500@EFBOLDENBURG
SUMMARY:Mit Mama auf Reisen -  Raus aus dem Alltag - ein Wochenende für Mütter und Kinder von 4 bis 10 Jahren (U17024) 
LOCATION:Blockhaus Ahlhorn, Ahlhorner Fischteiche 2, 26197 Großenkneten
END:VEVENT
BEGIN:VEVENT
DTSTAMP:20260422T110231
DTSTART;TZID=Europe/Berlin:20260606T080000
DTEND;TZID=Europe/Berlin:20260606T150000
UID:U17024-20260606T080000@EFBOLDENBURG
SUMMARY:Mit Mama auf Reisen -  Raus aus dem Alltag - ein Wochenende für Mütter und Kinder von 4 bis 10 Jahren (U17024) 
LOCATION:Blockhaus Ahlhorn, Ahlhorner Fischteiche 2, 26197 Großenkneten
END:VEVENT
BEGIN:VEVENT
DTSTAMP:20260422T110231
DTSTART;TZID=Europe/Berlin:20260607T080000
DTEND;TZID=Europe/Berlin:20260607T150000
UID:U17024-20260607T080000@EFBOLDENBURG
SUMMARY:Mit Mama auf Reisen -  Raus aus dem Alltag - ein Wochenende für Mütter und Kinder von 4 bis 10 Jahren (U17024) 
LOCATION:Blockhaus Ahlhorn, Ahlhorner Fischteiche 2, 26197 Großenkneten
END:VEVENT
END:VCALENDAR